Workbook

Sheet ولیعصر
B3: فرم منابع | C3: درآمد اعلام شده واحد | D3: سهم مرکز | E3: بند واو تطبیق یافته(سیاستگزاری ستاد) | F3: 1.5 درصد اورژانس | G3: 2 درصد رفاهی | H3: 1 درصد پژوهش | J3: 5 درصد ستاد | K3: 3 درصد خارج از شمول | L3: 5 درصد تجهیزات
B4: درمان
B5: دارو
B8: فرم مصارف | C8: درآمد اعلام شده واحد | D8: سهم مرکز | E8: بند واو تطبیق یافته(سیاستگزاری ستاد) | F8: 1.5 درصد اورژانس | G8: 2 درصد رفاهی | H8: 1 درصد پژوهش | J8: 5 درصد ستاد | K8: 3 درصد خارج از شمول | L8: 5 درصد تجهیزات
B9: درمان
B10: دارو
B13: فرم مانده | C13: درآمد اعلام شده واحد | D13: سهم مرکز | E13: بند واو تطبیق یافته(سیاستگزاری ستاد) | F13: 1.5 درصد اورژانس | G13: 2 درصد رفاهی | H13: 1 درصد پژوهش | J13: 5 درصد ستاد | K13: 3 درصد خارج از شمول | L13: 5 درصد تجهیزات
B14: درمان
B15: دارو
C18: معاونت توسعه مدیریت و منابع
C19: فرم تخصیص درآمدهای اختصاصی (سهم مرکز و در اختیار ستاد) (ارقام به هزار ریال( ماه .................)
C20: 30303 - 30301(ولیعصر) | D20: سهم مرکز | E20: (سیاستگزاری ستاد) | F20: 1.5 درصد اورژانس | G20: 2 درصد رفاهی | H20: 1 درصد پژوهش | I20: 1 درصد آموزش | J20: 5 درصد ستاد | K20: 3 درصد خارج از شمول | L20: 5 درصد تجهیزات | M20: جمع
C21: فصل اول
C22: حقوق و مزایای طرح لایحه | M22: =SUM(D22:L22) -> 0
C23: حقوق و مزایای تبصره 4 | M23: =SUM(D23:L23) -> 0
C24: حقوق و مزایای تبصره 3 | M24: =SUM(D24:L24) -> 0
C25: اضافه کار | M25: =SUM(D25:L25) -> 0
C26: محرومیت از مطب | M26: =SUM(D26:L26) -> 0
C27: طرح تمام وقتی و آنکال | M27: =SUM(D27:L27) -> 0
C28: حق مدیریت(خارج از شمول) | M28: =SUM(D28:L28) -> 0
C29: عیدی | M29: =SUM(D29:L29) -> 0
C30: حق مسکن | M30: =SUM(D30:L30) -> 0
C31: سنوات و مرخصی بازنشسته | M31: =SUM(D31:L31) -> 0
C32: سنوات و مرخصی تبصره 3-4 | M32: =SUM(D32:L32) -> 0
C33: مرخصی تبصره 4 | M33: =SUM(D33:L33) -> 0
... C35: سایر2 | M35: =SUM(D35:L35) -> 0
C36: جمع فصل اول | D36: =SUM(D21:D35) -> 0 | E36: =SUM(E21:E35) -> 0 | F36: =SUM(F21:F35) -> 0 | G36: =SUM(G21:G35) -> 0 | H36: =SUM(H21:H35) -> 0 | I36: =SUM(I21:I35) -> 0 | J36: =SUM(J21:J35) -> 0 | K36: =SUM(K21:K35) -> 0 | ... M36: =SUM(M21:M35) -> 0
C37: فصل دوم
C38: مبتنی بر عملکرد پزشکان | M38: =SUM(D38:L38) -> 0
C39: مبتنی بر عملکرد کارکنان | M39: =SUM(D39:L39) -> 0
C40: ماموریت | M40: =SUM(D40:L40) -> 0
C41: آب | M41: =SUM(D41:L41) -> 0
C42: برق | M42: =SUM(D42:L42) -> 0
C43: گاز | M43: =SUM(D43:L43) -> 0
C44: تلفن | M44: =SUM(D44:L44) -> 0
C45: نفت سفید | M45: =SUM(D45:L45) -> 0
C46: گازوئیل | M46: =SUM(D46:L46) -> 0
C47: بنزین | M47: =SUM(D47:L47) -> 0
C48: هزینه سفر | M48: =SUM(D48:L48) -> 0
C49: قراردادها | M49: =SUM(D49:L49) -> 0
... C56: سایر | M56: =SUM(D56:L56) -> 0
C57: جمع فصل دوم | D57: =SUM(D38:D56) -> 0 | E57: =SUM(E38:E56) -> 0 | F57: =SUM(F38:F56) -> 0 | G57: =SUM(G38:G56) -> 0 | H57: =SUM(H38:H56) -> 0 | I57: =SUM(I38:I56) -> 0 | J57: =SUM(J38:J56) -> 0 | K57: =SUM(K38:K56) -> 0 | ... M57: =SUM(M38:M56) -> 0
C58: فصل سوم
C59: اجاره ساختمان | M59: =SUM(D59:L59) -> 0
C60: سایر | M60: =SUM(D60:L60) -> 0
C61: جمع فصل سوم | D61: =SUM(D59:D60) -> 0 | E61: =SUM(E59:E60) -> 0 | F61: =SUM(F59:F60) -> 0 | G61: =SUM(G59:G60) -> 0 | H61: =SUM(H59:H60) -> 0 | I61: =SUM(I59:I60) -> 0 | J61: =SUM(J59:J60) -> 0 | K61: =SUM(K59:K60) -> 0 | ... M61: =SUM(M59:M60) -> 0
C62: فصل ششم
C63: بیمه حقوق | M63: =SUM(D63:L63) -> 0
C64: سنوات خدمت بازنشسته | M64: =SUM(D64:L64) -> 0
C65: سنوات قراردادی | M65: =SUM(D65:L65) -> 0
C66: بیمه بازنشستگی | M66: =SUM(D66:L66) -> 0
C67: کمک هزینه مسکن | M67: =SUM(D67:L67) -> 0
C68: کمک هزینه مهد کودک | M68: =SUM(D68:L68) -> 0
C69: ازدواج و فوت | M69: =SUM(D69:L69) -> 0
C70: کمک هزینه مسکن | M70: =SUM(D70:L70) -> 0
C71: ورزش و سایر رفاهی | M71: =SUM(D71:L71) -> 0
C72: بیمه تکمیلی جانبازان(خارج از شمول) | M72: =SUM(D72:L72) -> 0
C73: بیمه عمر | M73: =SUM(D73:L73) -> 0
C74: کمک هزینه غذا | M74: =SUM(D74:L74) -> 0
C75: سایر | M75: =SUM(D75:L75) -> 0
C76: جمع فصل ششم | D76: =SUM(D63:D75) -> 0 | E76: =SUM(E63:E75) -> 0 | F76: =SUM(F63:F75) -> 0 | G76: =SUM(G63:G75) -> 0 | H76: =SUM(H63:H75) -> 0 | I76: =SUM(I63:I75) -> 0 | J76: =SUM(J63:J75) -> 0 | K76: =SUM(K63:K75) -> 0 | ... M76: =SUM(M63:M75) -> 0
C77: فصل هفتم
C78: خرید تجهیزات | M78: =SUM(D78:L78) -> 0
C79: خرید انشعابات | M79: =SUM(D79:L79) -> 0
C80: بیمه خودرو | M80: =SUM(D80:L80) -> 0
C81: عوارض و جرایم | M81: =SUM(D81:L81) -> 0
C82: دیون پرسنلی | M82: =SUM(D82:L82) -> 0
C83: دارو | M83: =SUM(D83:L83) -> 0
C84: سایر2 | M84: =SUM(D84:L84) -> 0
C85: جمع فصل هفتم | D85: =SUM(D78:D84) -> 0 | E85: =SUM(E78:E84) -> 0 | F85: =SUM(F78:F84) -> 0 | G85: =SUM(G78:G84) -> 0 | H85: =SUM(H78:H84) -> 0 | I85: =SUM(I78:I84) -> 0 | J85: =SUM(J78:J84) -> 0 | K85: =SUM(K78:K84) -> 0 | ... M85: =SUM(M78:M84) -> 0
C86: جمع کل فصول | D86: =SUM(D36,D57,D61,D76,D85) -> 0 | E86: =SUM(E36,E57,E61,E76,E85) -> 0 | F86: =SUM(F36,F57,F61,F76,F85) -> 0 | G86: =SUM(G36,G57,G61,G76,G85) -> 0 | H86: =SUM(H36,H57,H61,H76,H85) -> 0 | I86: =SUM(I36,I57,I61,I76,I85) -> 0 | J86: =SUM(J36,J57,J61,J76,J85) -> 0 | K86: =SUM(K36,K57,K61,K76,K85) -> 0 | ... M86: =SUM(M36,M57,M61,M76,M85) -> 0

Sheet امیرکبیر
B3: فرم منابع | C3: درآمد اعلام شده واحد | D3: سهم مرکز | E3: بند واو تطبیق یافته(سیاستگزاری ستاد) | F3: 1.5 درصد اورژانس | G3: 2 درصد رفاهی | H3: 1 درصد پژوهش | J3: 5 درصد ستاد | K3: 3 درصد خارج از شمول | L3: 5 درصد تجهیزات
B4: درمان
B5: دارو
B8: فرم مصارف | C8: درآمد اعلام شده واحد | D8: سهم مرکز | E8: بند واو تطبیق یافته(سیاستگزاری ستاد) | F8: 1.5 درصد اورژانس | G8: 2 درصد رفاهی | H8: 1 درصد پژوهش | J8: 5 درصد ستاد | K8: 3 درصد خارج از شمول | L8: 5 درصد تجهیزات
B9: درمان
B10: دارو
B13: فرم مانده | C13: درآمد اعلام شده واحد | D13: سهم مرکز | E13: بند واو تطبیق یافته(سیاستگزاری ستاد) | F13: 1.5 درصد اورژانس | G13: 2 درصد رفاهی | H13: 1 درصد پژوهش | J13: 5 درصد ستاد | K13: 3 درصد خارج از شمول | L13: 5 درصد تجهیزات
B14: درمان
B15: دارو
C18: معاونت توسعه مدیریت و منابع
C19: فرم تخصیص درآمدهای اختصاصی (سهم مرکز و در اختیار ستاد) (ارقام به هزار ریال( ماه .................)
C20: 30303 - 30301(امیرکبیر) | D20: سهم مرکز | E20: (سیاستگزاری ستاد) | F20: 1.5 درصد اورژانس | G20: 2 درصد رفاهی | H20: 1 درصد پژوهش | I20: 1 درصد آموزش | J20: 5 درصد ستاد | K20: 3 درصد خارج از شمول | L20: 5 درصد تجهیزات | M20: جمع
C21: فصل اول
C22: حقوق و مزایای طرح لایحه | M22: =SUM(D22:L22) -> 0
C23: حقوق و مزایای تبصره 4 | M23: =SUM(D23:L23) -> 0
C24: حقوق و مزایای تبصره 3 | M24: =SUM(D24:L24) -> 0
C25: اضافه کار | M25: =SUM(D25:L25) -> 0
C26: محرومیت از مطب | M26: =SUM(D26:L26) -> 0
C27: طرح تمام وقتی و آنکال | M27: =SUM(D27:L27) -> 0
C28: حق مدیریت(خارج از شمول) | M28: =SUM(D28:L28) -> 0
C29: عیدی | M29: =SUM(D29:L29) -> 0
C30: حق مسکن | M30: =SUM(D30:L30) -> 0
C31: سنوات و مرخصی بازنشسته | M31: =SUM(D31:L31) -> 0
C32: سنوات و مرخصی تبصره 3-4 | M32: =SUM(D32:L32) -> 0
C33: مرخصی تبصره 4 | M33: =SUM(D33:L33) -> 0
... C35: سایر2 | M35: =SUM(D35:L35) -> 0
C36: جمع فصل اول | D36: =SUM(D21:D35) -> 0 | E36: =SUM(E21:E35) -> 0 | F36: =SUM(F21:F35) -> 0 | G36: =SUM(G21:G35) -> 0 | H36: =SUM(H21:H35) -> 0 | I36: =SUM(I21:I35) -> 0 | J36: =SUM(J21:J35) -> 0 | K36: =SUM(K21:K35) -> 0 | ... M36: =SUM(M21:M35) -> 0
C37: فصل دوم
C38: مبتنی بر عملکرد پزشکان | M38: =SUM(D38:L38) -> 0
C39: مبتنی بر عملکرد کارکنان | M39: =SUM(D39:L39) -> 0
C40: ماموریت | M40: =SUM(D40:L40) -> 0
C41: آب | M41: =SUM(D41:L41) -> 0
C42: برق | M42: =SUM(D42:L42) -> 0
C43: گاز | M43: =SUM(D43:L43) -> 0
C44: تلفن | M44: =SUM(D44:L44) -> 0
C45: نفت سفید | M45: =SUM(D45:L45) -> 0
C46: گازوئیل | M46: =SUM(D46:L46) -> 0
C47: بنزین | M47: =SUM(D47:L47) -> 0
C48: هزینه سفر | M48: =SUM(D48:L48) -> 0
C49: قراردادها | M49: =SUM(D49:L49) -> 0
... C56: سایر | M56: =SUM(D56:L56) -> 0
C57: جمع فصل دوم | D57: =SUM(D38:D56) -> 0 | E57: =SUM(E38:E56) -> 0 | F57: =SUM(F38:F56) -> 0 | G57: =SUM(G38:G56) -> 0 | H57: =SUM(H38:H56) -> 0 | I57: =SUM(I38:I56) -> 0 | J57: =SUM(J38:J56) -> 0 | K57: =SUM(K38:K56) -> 0 | ... M57: =SUM(M38:M56) -> 0
C58: فصل سوم
C59: اجاره ساختمان | M59: =SUM(D59:L59) -> 0
C60: سایر | M60: =SUM(D60:L60) -> 0
C61: جمع فصل سوم | D61: =SUM(D59:D60) -> 0 | E61: =SUM(E59:E60) -> 0 | F61: =SUM(F59:F60) -> 0 | G61: =SUM(G59:G60) -> 0 | H61: =SUM(H59:H60) -> 0 | I61: =SUM(I59:I60) -> 0 | J61: =SUM(J59:J60) -> 0 | K61: =SUM(K59:K60) -> 0 | ... M61: =SUM(M59:M60) -> 0
C62: فصل ششم
C63: بیمه حقوق | M63: =SUM(D63:L63) -> 0
C64: سنوات خدمت بازنشسته | M64: =SUM(D64:L64) -> 0
C65: سنوات قراردادی | M65: =SUM(D65:L65) -> 0
C66: بیمه بازنشستگی | M66: =SUM(D66:L66) -> 0
C67: کمک هزینه مسکن | M67: =SUM(D67:L67) -> 0
C68: کمک هزینه مهد کودک | M68: =SUM(D68:L68) -> 0
C69: ازدواج و فوت | M69: =SUM(D69:L69) -> 0
C70: کمک هزینه مسکن | M70: =SUM(D70:L70) -> 0
C71: ورزش و سایر رفاهی | M71: =SUM(D71:L71) -> 0
C72: بیمه تکمیلی جانبازان(خارج از شمول) | M72: =SUM(D72:L72) -> 0
C73: بیمه عمر | M73: =SUM(D73:L73) -> 0
C74: کمک هزینه غذا | M74: =SUM(D74:L74) -> 0
C75: سایر | M75: =SUM(D75:L75) -> 0
C76: جمع فصل ششم | D76: =SUM(D63:D75) -> 0 | E76: =SUM(E63:E75) -> 0 | F76: =SUM(F63:F75) -> 0 | G76: =SUM(G63:G75) -> 0 | H76: =SUM(H63:H75) -> 0 | I76: =SUM(I63:I75) -> 0 | J76: =SUM(J63:J75) -> 0 | K76: =SUM(K63:K75) -> 0 | ... M76: =SUM(M63:M75) -> 0
C77: فصل هفتم
C78: خرید تجهیزات | M78: =SUM(D78:L78) -> 0
C79: خرید انشعابات | M79: =SUM(D79:L79) -> 0
C80: بیمه خودرو | M80: =SUM(D80:L80) -> 0
C81: عوارض و جرایم | M81: =SUM(D81:L81) -> 0
C82: دیون پرسنلی | M82: =SUM(D82:L82) -> 0
C83: دارو | M83: =SUM(D83:L83) -> 0
C84: سایر2 | M84: =SUM(D84:L84) -> 0
C85: جمع فصل هفتم | D85: =SUM(D78:D84) -> 0 | E85: =SUM(E78:E84) -> 0 | F85: =SUM(F78:F84) -> 0 | G85: =SUM(G78:G84) -> 0 | H85: =SUM(H78:H84) -> 0 | I85: =SUM(I78:I84) -> 0 | J85: =SUM(J78:J84) -> 0 | K85: =SUM(K78:K84) -> 0 | ... M85: =SUM(M78:M84) -> 0
C86: جمع کل فصول | D86: =SUM(D36,D57,D61,D76,D85) -> 0 | E86: =SUM(E36,E57,E61,E76,E85) -> 0 | F86: =SUM(F36,F57,F61,F76,F85) -> 0 | G86: =SUM(G36,G57,G61,G76,G85) -> 0 | H86: =SUM(H36,H57,H61,H76,H85) -> 0 | I86: =SUM(I36,I57,I61,I76,I85) -> 0 | J86: =SUM(J36,J57,J61,J76,J85) -> 0 | K86: =SUM(K36,K57,K61,K76,K85) -> 0 | ... M86: =SUM(M36,M57,M61,M76,M85) -> 0

Sheet طالقانی
B3: فرم منابع | C3: درآمد اعلام شده واحد | D3: سهم مرکز | E3: بند واو تطبیق یافته(سیاستگزاری ستاد) | F3: 1.5 درصد اورژانس | G3: 2 درصد رفاهی | H3: 1 درصد پژوهش | J3: 5 درصد ستاد | K3: 3 درصد خارج از شمول | L3: 5 درصد تجهیزات
B4: درمان
B5: دارو
B8: فرم مصارف | C8: درآمد اعلام شده واحد | D8: سهم مرکز | E8: بند واو تطبیق یافته(سیاستگزاری ستاد) | F8: 1.5 درصد اورژانس | G8: 2 درصد رفاهی | H8: 1 درصد پژوهش | J8: 5 درصد ستاد | K8: 3 درصد خارج از شمول | L8: 5 درصد تجهیزات
B9: درمان
B10: دارو
B13: فرم مانده | C13: درآمد اعلام شده واحد | D13: سهم مرکز | E13: بند واو تطبیق یافته(سیاستگزاری ستاد) | F13: 1.5 درصد اورژانس | G13: 2 درصد رفاهی | H13: 1 درصد پژوهش | J13: 5 درصد ستاد | K13: 3 درصد خارج از شمول | L13: 5 درصد تجهیزات
B14: درمان
B15: دارو
C18: معاونت توسعه مدیریت و منابع
C19: فرم تخصیص درآمدهای اختصاصی (سهم مرکز و در اختیار ستاد) (ارقام به هزار ریال( ماه .................)
C20: 30303 - 30301(طالقانی) | D20: سهم مرکز | E20: (سیاستگزاری ستاد) | F20: 1.5 درصد اورژانس | G20: 2 درصد رفاهی | H20: 1 درصد پژوهش | I20: 1 درصد آموزش | J20: 5 درصد ستاد | K20: 3 درصد خارج از شمول | L20: 5 درصد تجهیزات | M20: جمع
C21: فصل اول
C22: حقوق و مزایای طرح لایحه | M22: =SUM(D22:L22) -> 0
C23: حقوق و مزایای تبصره 4 | M23: =SUM(D23:L23) -> 0
C24: حقوق و مزایای تبصره 3 | M24: =SUM(D24:L24) -> 0
C25: اضافه کار | M25: =SUM(D25:L25) -> 0
C26: محرومیت از مطب | M26: =SUM(D26:L26) -> 0
C27: طرح تمام وقتی و آنکال | M27: =SUM(D27:L27) -> 0
C28: حق مدیریت(خارج از شمول) | M28: =SUM(D28:L28) -> 0
C29: عیدی | M29: =SUM(D29:L29) -> 0
C30: حق مسکن | M30: =SUM(D30:L30) -> 0
C31: سنوات و مرخصی بازنشسته | M31: =SUM(D31:L31) -> 0
C32: سنوات و مرخصی تبصره 3-4 | M32: =SUM(D32:L32) -> 0
C33: مرخصی تبصره 4 | M33: =SUM(D33:L33) -> 0
... C35: سایر2 | M35: =SUM(D35:L35) -> 0
C36: جمع فصل اول | D36: =SUM(D21:D35) -> 0 | E36: =SUM(E21:E35) -> 0 | F36: =SUM(F21:F35) -> 0 | G36: =SUM(G21:G35) -> 0 | H36: =SUM(H21:H35) -> 0 | I36: =SUM(I21:I35) -> 0 | J36: =SUM(J21:J35) -> 0 | K36: =SUM(K21:K35) -> 0 | ... M36: =SUM(M21:M35) -> 0
C37: فصل دوم
C38: مبتنی بر عملکرد پزشکان | M38: =SUM(D38:L38) -> 0
C39: مبتنی بر عملکرد کارکنان | M39: =SUM(D39:L39) -> 0
C40: ماموریت | M40: =SUM(D40:L40) -> 0
C41: آب | M41: =SUM(D41:L41) -> 0
C42: برق | M42: =SUM(D42:L42) -> 0
C43: گاز | M43: =SUM(D43:L43) -> 0
C44: تلفن | M44: =SUM(D44:L44) -> 0
C45: نفت سفید | M45: =SUM(D45:L45) -> 0
C46: گازوئیل | M46: =SUM(D46:L46) -> 0
C47: بنزین | M47: =SUM(D47:L47) -> 0
C48: هزینه سفر | M48: =SUM(D48:L48) -> 0
C49: قراردادها | M49: =SUM(D49:L49) -> 0
... C56: سایر | M56: =SUM(D56:L56) -> 0
C57: جمع فصل دوم | D57: =SUM(D38:D56) -> 0 | E57: =SUM(E38:E56) -> 0 | F57: =SUM(F38:F56) -> 0 | G57: =SUM(G38:G56) -> 0 | H57: =SUM(H38:H56) -> 0 | I57: =SUM(I38:I56) -> 0 | J57: =SUM(J38:J56) -> 0 | K57: =SUM(K38:K56) -> 0 | ... M57: =SUM(M38:M56) -> 0
C58: فصل سوم
C59: اجاره ساختمان | M59: =SUM(D59:L59) -> 0
C60: سایر | M60: =SUM(D60:L60) -> 0
C61: جمع فصل سوم | D61: =SUM(D59:D60) -> 0 | E61: =SUM(E59:E60) -> 0 | F61: =SUM(F59:F60) -> 0 | G61: =SUM(G59:G60) -> 0 | H61: =SUM(H59:H60) -> 0 | I61: =SUM(I59:I60) -> 0 | J61: =SUM(J59:J60) -> 0 | K61: =SUM(K59:K60) -> 0 | ... M61: =SUM(M59:M60) -> 0
C62: فصل ششم
C63: بیمه حقوق | M63: =SUM(D63:L63) -> 0
C64: سنوات خدمت بازنشسته | M64: =SUM(D64:L64) -> 0
C65: سنوات قراردادی | M65: =SUM(D65:L65) -> 0
C66: بیمه بازنشستگی | M66: =SUM(D66:L66) -> 0
C67: کمک هزینه مسکن | M67: =SUM(D67:L67) -> 0
C68: کمک هزینه مهد کودک | M68: =SUM(D68:L68) -> 0
C69: ازدواج و فوت | M69: =SUM(D69:L69) -> 0
C70: کمک هزینه مسکن | M70: =SUM(D70:L70) -> 0
C71: ورزش و سایر رفاهی | M71: =SUM(D71:L71) -> 0
C72: بیمه تکمیلی جانبازان(خارج از شمول) | M72: =SUM(D72:L72) -> 0
C73: بیمه عمر | M73: =SUM(D73:L73) -> 0
C74: کمک هزینه غذا | M74: =SUM(D74:L74) -> 0
C75: سایر | M75: =SUM(D75:L75) -> 0
C76: جمع فصل ششم | D76: =SUM(D63:D75) -> 0 | E76: =SUM(E63:E75) -> 0 | F76: =SUM(F63:F75) -> 0 | G76: =SUM(G63:G75) -> 0 | H76: =SUM(H63:H75) -> 0 | I76: =SUM(I63:I75) -> 0 | J76: =SUM(J63:J75) -> 0 | K76: =SUM(K63:K75) -> 0 | ... M76: =SUM(M63:M75) -> 0
C77: فصل هفتم
C78: خرید تجهیزات | M78: =SUM(D78:L78) -> 0
C79: خرید انشعابات | M79: =SUM(D79:L79) -> 0
C80: بیمه خودرو | M80: =SUM(D80:L80) -> 0
C81: عوارض و جرایم | M81: =SUM(D81:L81) -> 0
C82: دیون پرسنلی | M82: =SUM(D82:L82) -> 0
C83: دارو | M83: =SUM(D83:L83) -> 0
C84: سایر2 | M84: =SUM(D84:L84) -> 0
C85: جمع فصل هفتم | D85: =SUM(D78:D84) -> 0 | E85: =SUM(E78:E84) -> 0 | F85: =SUM(F78:F84) -> 0 | G85: =SUM(G78:G84) -> 0 | H85: =SUM(H78:H84) -> 0 | I85: =SUM(I78:I84) -> 0 | J85: =SUM(J78:J84) -> 0 | K85: =SUM(K78:K84) -> 0 | ... M85: =SUM(M78:M84) -> 0
C86: جمع کل فصول | D86: =SUM(D36,D57,D61,D76,D85) -> 0 | E86: =SUM(E36,E57,E61,E76,E85) -> 0 | F86: =SUM(F36,F57,F61,F76,F85) -> 0 | G86: =SUM(G36,G57,G61,G76,G85) -> 0 | H86: =SUM(H36,H57,H61,H76,H85) -> 0 | I86: =SUM(I36,I57,I61,I76,I85) -> 0 | J86: =SUM(J36,J57,J61,J76,J85) -> 0 | K86: =SUM(K36,K57,K61,K76,K85) -> 0 | ... M86: =SUM(M36,M57,M61,M76,M85) -> 0

Sheet خوانساری
B3: فرم منابع | C3: درآمد اعلام شده واحد | D3: سهم مرکز | E3: بند واو تطبیق یافته(سیاستگزاری ستاد) | F3: 1.5 درصد اورژانس | G3: 2 درصد رفاهی | H3: 1 درصد پژوهش | J3: 5 درصد ستاد | K3: 3 درصد خارج از شمول | L3: 5 درصد تجهیزات
B4: درمان
B5: دارو
B8: فرم مصارف | C8: درآمد اعلام شده واحد | D8: سهم مرکز | E8: بند واو تطبیق یافته(سیاستگزاری ستاد) | F8: 1.5 درصد اورژانس | G8: 2 درصد رفاهی | H8: 1 درصد پژوهش | J8: 5 درصد ستاد | K8: 3 درصد خارج از شمول | L8: 5 درصد تجهیزات
B9: درمان
B10: دارو
B13: فرم مانده | C13: درآمد اعلام شده واحد | D13: سهم مرکز | E13: بند واو تطبیق یافته(سیاستگزاری ستاد) | F13: 1.5 درصد اورژانس | G13: 2 درصد رفاهی | H13: 1 درصد پژوهش | J13: 5 درصد ستاد | K13: 3 درصد خارج از شمول | L13: 5 درصد تجهیزات
B14: درمان
B15: دارو
C18: معاونت توسعه مدیریت و منابع
C19: فرم تخصیص درآمدهای اختصاصی (سهم مرکز و در اختیار ستاد) (ارقام به هزار ریال( ماه .................)
C20: 30303 - 30301(خوانساری) | D20: سهم مرکز | E20: (سیاستگزاری ستاد) | F20: 1.5 درصد اورژانس | G20: 2 درصد رفاهی | H20: 1 درصد پژوهش | I20: 1 درصد آموزش | J20: 5 درصد ستاد | K20: 3 درصد خارج از شمول | L20: 5 درصد تجهیزات | M20: جمع
C21: فصل اول
C22: حقوق و مزایای طرح لایحه | M22: =SUM(D22:L22) -> 0
C23: حقوق و مزایای تبصره 4 | M23: =SUM(D23:L23) -> 0
C24: حقوق و مزایای تبصره 3 | M24: =SUM(D24:L24) -> 0
C25: اضافه کار | M25: =SUM(D25:L25) -> 0
C26: محرومیت از مطب | M26: =SUM(D26:L26) -> 0
C27: طرح تمام وقتی و آنکال | M27: =SUM(D27:L27) -> 0
C28: حق مدیریت(خارج از شمول) | M28: =SUM(D28:L28) -> 0
C29: عیدی | M29: =SUM(D29:L29) -> 0
C30: حق مسکن | M30: =SUM(D30:L30) -> 0
C31: سنوات و مرخصی بازنشسته | M31: =SUM(D31:L31) -> 0
C32: سنوات و مرخصی تبصره 3-4 | M32: =SUM(D32:L32) -> 0
C33: مرخصی تبصره 4 | M33: =SUM(D33:L33) -> 0
... C35: سایر2 | M35: =SUM(D35:L35) -> 0
C36: جمع فصل اول | D36: =SUM(D21:D35) -> 0 | E36: =SUM(E21:E35) -> 0 | F36: =SUM(F21:F35) -> 0 | G36: =SUM(G21:G35) -> 0 | H36: =SUM(H21:H35) -> 0 | I36: =SUM(I21:I35) -> 0 | J36: =SUM(J21:J35) -> 0 | K36: =SUM(K21:K35) -> 0 | ... M36: =SUM(M21:M35) -> 0
C37: فصل دوم
C38: مبتنی بر عملکرد پزشکان | M38: =SUM(D38:L38) -> 0
C39: مبتنی بر عملکرد کارکنان | M39: =SUM(D39:L39) -> 0
C40: ماموریت | M40: =SUM(D40:L40) -> 0
C41: آب | M41: =SUM(D41:L41) -> 0
C42: برق | M42: =SUM(D42:L42) -> 0
C43: گاز | M43: =SUM(D43:L43) -> 0
C44: تلفن | M44: =SUM(D44:L44) -> 0
C45: نفت سفید | M45: =SUM(D45:L45) -> 0
C46: گازوئیل | M46: =SUM(D46:L46) -> 0
C47: بنزین | M47: =SUM(D47:L47) -> 0
C48: هزینه سفر | M48: =SUM(D48:L48) -> 0
C49: قراردادها | M49: =SUM(D49:L49) -> 0
... C56: سایر | M56: =SUM(D56:L56) -> 0
C57: جمع فصل دوم | D57: =SUM(D38:D56) -> 0 | E57: =SUM(E38:E56) -> 0 | F57: =SUM(F38:F56) -> 0 | G57: =SUM(G38:G56) -> 0 | H57: =SUM(H38:H56) -> 0 | I57: =SUM(I38:I56) -> 0 | J57: =SUM(J38:J56) -> 0 | K57: =SUM(K38:K56) -> 0 | ... M57: =SUM(M38:M56) -> 0
C58: فصل سوم
C59: اجاره ساختمان | M59: =SUM(D59:L59) -> 0
C60: سایر | M60: =SUM(D60:L60) -> 0
C61: جمع فصل سوم | D61: =SUM(D59:D60) -> 0 | E61: =SUM(E59:E60) -> 0 | F61: =SUM(F59:F60) -> 0 | G61: =SUM(G59:G60) -> 0 | H61: =SUM(H59:H60) -> 0 | I61: =SUM(I59:I60) -> 0 | J61: =SUM(J59:J60) -> 0 | K61: =SUM(K59:K60) -> 0 | ... M61: =SUM(M59:M60) -> 0
C62: فصل ششم
C63: بیمه حقوق | M63: =SUM(D63:L63) -> 0
C64: سنوات خدمت بازنشسته | M64: =SUM(D64:L64) -> 0
C65: سنوات قراردادی | M65: =SUM(D65:L65) -> 0
C66: بیمه بازنشستگی | M66: =SUM(D66:L66) -> 0
C67: کمک هزینه مسکن | M67: =SUM(D67:L67) -> 0
C68: کمک هزینه مهد کودک | M68: =SUM(D68:L68) -> 0
C69: ازدواج و فوت | M69: =SUM(D69:L69) -> 0
C70: کمک هزینه مسکن | M70: =SUM(D70:L70) -> 0
C71: ورزش و سایر رفاهی | M71: =SUM(D71:L71) -> 0
C72: بیمه تکمیلی جانبازان(خارج از شمول) | M72: =SUM(D72:L72) -> 0
C73: بیمه عمر | M73: =SUM(D73:L73) -> 0
C74: کمک هزینه غذا | M74: =SUM(D74:L74) -> 0
C75: سایر | M75: =SUM(D75:L75) -> 0
C76: جمع فصل ششم | D76: =SUM(D63:D75) -> 0 | E76: =SUM(E63:E75) -> 0 | F76: =SUM(F63:F75) -> 0 | G76: =SUM(G63:G75) -> 0 | H76: =SUM(H63:H75) -> 0 | I76: =SUM(I63:I75) -> 0 | J76: =SUM(J63:J75) -> 0 | K76: =SUM(K63:K75) -> 0 | ... M76: =SUM(M63:M75) -> 0
C77: فصل هفتم
C78: خرید تجهیزات | M78: =SUM(D78:L78) -> 0
C79: خرید انشعابات | M79: =SUM(D79:L79) -> 0
C80: بیمه خودرو | M80: =SUM(D80:L80) -> 0
C81: عوارض و جرایم | M81: =SUM(D81:L81) -> 0
C82: دیون پرسنلی | M82: =SUM(D82:L82) -> 0
C83: دارو | M83: =SUM(D83:L83) -> 0
C84: سایر2 | M84: =SUM(D84:L84) -> 0
C85: جمع فصل هفتم | D85: =SUM(D78:D84) -> 0 | E85: =SUM(E78:E84) -> 0 | F85: =SUM(F78:F84) -> 0 | G85: =SUM(G78:G84) -> 0 | H85: =SUM(H78:H84) -> 0 | I85: =SUM(I78:I84) -> 0 | J85: =SUM(J78:J84) -> 0 | K85: =SUM(K78:K84) -> 0 | ... M85: =SUM(M78:M84) -> 0
C86: جمع کل فصول | D86: =SUM(D36,D57,D61,D76,D85) -> 0 | E86: =SUM(E36,E57,E61,E76,E85) -> 0 | F86: =SUM(F36,F57,F61,F76,F85) -> 0 | G86: =SUM(G36,G57,G61,G76,G85) -> 0 | H86: =SUM(H36,H57,H61,H76,H85) -> 0 | I86: =SUM(I36,I57,I61,I76,I85) -> 0 | J86: =SUM(J36,J57,J61,J76,J85) -> 0 | K86: =SUM(K36,K57,K61,K76,K85) -> 0 | ... M86: =SUM(M36,M57,M61,M76,M85) -> 0

Sheet امیرالمومنین
B3: فرم منابع | C3: درآمد اعلام شده واحد | D3: سهم مرکز | E3: بند واو تطبیق یافته(سیاستگزاری ستاد) | F3: 1.5 درصد اورژانس | G3: 2 درصد رفاهی | H3: 1 درصد پژوهش | J3: 5 درصد ستاد | K3: 3 درصد خارج از شمول | L3: 5 درصد تجهیزات
B4: درمان
B5: دارو
B8: فرم مصارف | C8: درآمد اعلام شده واحد | D8: سهم مرکز | E8: بند واو تطبیق یافته(سیاستگزاری ستاد) | F8: 1.5 درصد اورژانس | G8: 2 درصد رفاهی | H8: 1 درصد پژوهش | J8: 5 درصد ستاد | K8: 3 درصد خارج از شمول | L8: 5 درصد تجهیزات
B9: درمان
B10: دارو
B13: فرم مانده | C13: درآمد اعلام شده واحد | D13: سهم مرکز | E13: بند واو تطبیق یافته(سیاستگزاری ستاد) | F13: 1.5 درصد اورژانس | G13: 2 درصد رفاهی | H13: 1 درصد پژوهش | J13: 5 درصد ستاد | K13: 3 درصد خارج از شمول | L13: 5 درصد تجهیزات
B14: درمان
B15: دارو
C18: معاونت توسعه مدیریت و منابع
C19: فرم تخصیص درآمدهای اختصاصی (سهم مرکز و در اختیار ستاد) (ارقام به هزار ریال( ماه .................)
C20: 30303 - 30301(امیرالمومنین) | D20: سهم مرکز | E20: (سیاستگزاری ستاد) | F20: 1.5 درصد اورژانس | G20: 2 درصد رفاهی | H20: 1 درصد پژوهش | I20: 1 درصد آموزش | J20: 5 درصد ستاد | K20: 3 درصد خارج از شمول | L20: 5 درصد تجهیزات | M20: جمع
C21: فصل اول
C22: حقوق و مزایای طرح لایحه | M22: =SUM(D22:L22) -> 0
C23: حقوق و مزایای تبصره 4 | M23: =SUM(D23:L23) -> 0
C24: حقوق و مزایای تبصره 3 | M24: =SUM(D24:L24) -> 0
C25: اضافه کار | M25: =SUM(D25:L25) -> 0
C26: محرومیت از مطب | M26: =SUM(D26:L26) -> 0
C27: طرح تمام وقتی و آنکال | M27: =SUM(D27:L27) -> 0
C28: حق مدیریت(خارج از شمول) | M28: =SUM(D28:L28) -> 0
C29: عیدی | M29: =SUM(D29:L29) -> 0
C30: حق مسکن | M30: =SUM(D30:L30) -> 0
C31: سنوات و مرخصی بازنشسته | M31: =SUM(D31:L31) -> 0
C32: سنوات و مرخصی تبصره 3-4 | M32: =SUM(D32:L32) -> 0
C33: مرخصی تبصره 4 | M33: =SUM(D33:L33) -> 0
... C35: سایر2 | M35: =SUM(D35:L35) -> 0
C36: جمع فصل اول | D36: =SUM(D21:D35) -> 0 | E36: =SUM(E21:E35) -> 0 | F36: =SUM(F21:F35) -> 0 | G36: =SUM(G21:G35) -> 0 | H36: =SUM(H21:H35) -> 0 | I36: =SUM(I21:I35) -> 0 | J36: =SUM(J21:J35) -> 0 | K36: =SUM(K21:K35) -> 0 | ... M36: =SUM(M21:M35) -> 0
C37: فصل دوم
C38: مبتنی بر عملکرد پزشکان | M38: =SUM(D38:L38) -> 0
C39: مبتنی بر عملکرد کارکنان | M39: =SUM(D39:L39) -> 0
C40: ماموریت | M40: =SUM(D40:L40) -> 0
C41: آب | M41: =SUM(D41:L41) -> 0
C42: برق | M42: =SUM(D42:L42) -> 0
C43: گاز | M43: =SUM(D43:L43) -> 0
C44: تلفن | M44: =SUM(D44:L44) -> 0
C45: نفت سفید | M45: =SUM(D45:L45) -> 0
C46: گازوئیل | M46: =SUM(D46:L46) -> 0
C47: بنزین | M47: =SUM(D47:L47) -> 0
C48: هزینه سفر | M48: =SUM(D48:L48) -> 0
C49: قراردادها | M49: =SUM(D49:L49) -> 0
... C56: سایر | M56: =SUM(D56:L56) -> 0
C57: جمع فصل دوم | D57: =SUM(D38:D56) -> 0 | E57: =SUM(E38:E56) -> 0 | F57: =SUM(F38:F56) -> 0 | G57: =SUM(G38:G56) -> 0 | H57: =SUM(H38:H56) -> 0 | I57: =SUM(I38:I56) -> 0 | J57: =SUM(J38:J56) -> 0 | K57: =SUM(K38:K56) -> 0 | ... M57: =SUM(M38:M56) -> 0
C58: فصل سوم
C59: اجاره ساختمان | M59: =SUM(D59:L59) -> 0
C60: سایر | M60: =SUM(D60:L60) -> 0
C61: جمع فصل سوم | D61: =SUM(D59:D60) -> 0 | E61: =SUM(E59:E60) -> 0 | F61: =SUM(F59:F60) -> 0 | G61: =SUM(G59:G60) -> 0 | H61: =SUM(H59:H60) -> 0 | I61: =SUM(I59:I60) -> 0 | J61: =SUM(J59:J60) -> 0 | K61: =SUM(K59:K60) -> 0 | ... M61: =SUM(M59:M60) -> 0
C62: فصل ششم
C63: بیمه حقوق | M63: =SUM(D63:L63) -> 0
C64: سنوات خدمت بازنشسته | M64: =SUM(D64:L64) -> 0
C65: سنوات قراردادی | M65: =SUM(D65:L65) -> 0
C66: بیمه بازنشستگی | M66: =SUM(D66:L66) -> 0
C67: کمک هزینه مسکن | M67: =SUM(D67:L67) -> 0
C68: کمک هزینه مهد کودک | M68: =SUM(D68:L68) -> 0
C69: ازدواج و فوت | M69: =SUM(D69:L69) -> 0
C70: کمک هزینه مسکن | M70: =SUM(D70:L70) -> 0
C71: ورزش و سایر رفاهی | M71: =SUM(D71:L71) -> 0
C72: بیمه تکمیلی جانبازان(خارج از شمول) | M72: =SUM(D72:L72) -> 0
C73: بیمه عمر | M73: =SUM(D73:L73) -> 0
C74: کمک هزینه غذا | M74: =SUM(D74:L74) -> 0
C75: سایر | M75: =SUM(D75:L75) -> 0
C76: جمع فصل ششم | D76: =SUM(D63:D75) -> 0 | E76: =SUM(E63:E75) -> 0 | F76: =SUM(F63:F75) -> 0 | G76: =SUM(G63:G75) -> 0 | H76: =SUM(H63:H75) -> 0 | I76: =SUM(I63:I75) -> 0 | J76: =SUM(J63:J75) -> 0 | K76: =SUM(K63:K75) -> 0 | ... M76: =SUM(M63:M75) -> 0
C77: فصل هفتم
C78: خرید تجهیزات | M78: =SUM(D78:L78) -> 0
C79: خرید انشعابات | M79: =SUM(D79:L79) -> 0
C80: بیمه خودرو | M80: =SUM(D80:L80) -> 0
C81: عوارض و جرایم | M81: =SUM(D81:L81) -> 0
C82: دیون پرسنلی | M82: =SUM(D82:L82) -> 0
C83: دارو | M83: =SUM(D83:L83) -> 0
C84: سایر2 | M84: =SUM(D84:L84) -> 0
C85: جمع فصل هفتم | D85: =SUM(D78:D84) -> 0 | E85: =SUM(E78:E84) -> 0 | F85: =SUM(F78:F84) -> 0 | G85: =SUM(G78:G84) -> 0 | H85: =SUM(H78:H84) -> 0 | I85: =SUM(I78:I84) -> 0 | J85: =SUM(J78:J84) -> 0 | K85: =SUM(K78:K84) -> 0 | ... M85: =SUM(M78:M84) -> 0
C86: جمع کل فصول | D86: =SUM(D36,D57,D61,D76,D85) -> 0 | E86: =SUM(E36,E57,E61,E76,E85) -> 0 | F86: =SUM(F36,F57,F61,F76,F85) -> 0 | G86: =SUM(G36,G57,G61,G76,G85) -> 0 | H86: =SUM(H36,H57,H61,H76,H85) -> 0 | I86: =SUM(I36,I57,I61,I76,I85) -> 0 | J86: =SUM(J36,J57,J61,J76,J85) -> 0 | K86: =SUM(K36,K57,K61,K76,K85) -> 0 | ... M86: =SUM(M36,M57,M61,M76,M85) -> 0

Sheet مرکز پزشکی هسته ای امیرالمومنین
B3: فرم منابع | C3: درآمد اعلام شده واحد | D3: سهم مرکز | E3: بند واو تطبیق یافته(سیاستگزاری ستاد) | F3: 1.5 درصد اورژانس | G3: 2 درصد رفاهی | H3: 1 درصد پژوهش | J3: 5 درصد ستاد | K3: 3 درصد خارج از شمول | L3: 5 درصد تجهیزات
B4: درمان
B5: دارو
B8: فرم مصارف | C8: درآمد اعلام شده واحد | D8: سهم مرکز | E8: بند واو تطبیق یافته(سیاستگزاری ستاد) | F8: 1.5 درصد اورژانس | G8: 2 درصد رفاهی | H8: 1 درصد پژوهش | J8: 5 درصد ستاد | K8: 3 درصد خارج از شمول | L8: 5 درصد تجهیزات
B9: درمان
B10: دارو
B13: فرم مانده | C13: درآمد اعلام شده واحد | D13: سهم مرکز | E13: بند واو تطبیق یافته(سیاستگزاری ستاد) | F13: 1.5 درصد اورژانس | G13: 2 درصد رفاهی | H13: 1 درصد پژوهش | J13: 5 درصد ستاد | K13: 3 درصد خارج از شمول | L13: 5 درصد تجهیزات
B14: درمان
B15: دارو
C18: معاونت توسعه مدیریت و منابع
C19: فرم تخصیص درآمدهای اختصاصی (سهم مرکز و در اختیار ستاد) (ارقام به هزار ریال( ماه .................)
C20: 30303 - 30301(پزشکی هسته ای امیرالمومنین) | D20: سهم مرکز | E20: (سیاستگزاری ستاد) | F20: 1.5 درصد اورژانس | G20: 2 درصد رفاهی | H20: 1 درصد پژوهش | I20: 1 درصد آموزش | J20: 5 درصد ستاد | K20: 3 درصد خارج از شمول | L20: 5 درصد تجهیزات | M20: جمع
C21: فصل اول
C22: حقوق و مزایای طرح لایحه | M22: =SUM(D22:L22) -> 0
C23: حقوق و مزایای تبصره 4 | M23: =SUM(D23:L23) -> 0
C24: حقوق و مزایای تبصره 3 | M24: =SUM(D24:L24) -> 0
C25: اضافه کار | M25: =SUM(D25:L25) -> 0
C26: محرومیت از مطب | M26: =SUM(D26:L26) -> 0
C27: طرح تمام وقتی و آنکال | M27: =SUM(D27:L27) -> 0
C28: حق مدیریت(خارج از شمول) | M28: =SUM(D28:L28) -> 0
C29: عیدی | M29: =SUM(D29:L29) -> 0
C30: حق مسکن | M30: =SUM(D30:L30) -> 0
C31: سنوات و مرخصی بازنشسته | M31: =SUM(D31:L31) -> 0
C32: سنوات و مرخصی تبصره 3-4 | M32: =SUM(D32:L32) -> 0
C33: مرخصی تبصره 4 | M33: =SUM(D33:L33) -> 0
... C35: سایر2 | M35: =SUM(D35:L35) -> 0
C36: جمع فصل اول | D36: =SUM(D21:D35) -> 0 | E36: =SUM(E21:E35) -> 0 | F36: =SUM(F21:F35) -> 0 | G36: =SUM(G21:G35) -> 0 | H36: =SUM(H21:H35) -> 0 | I36: =SUM(I21:I35) -> 0 | J36: =SUM(J21:J35) -> 0 | K36: =SUM(K21:K35) -> 0 | ... M36: =SUM(M21:M35) -> 0
C37: فصل دوم
C38: مبتنی بر عملکرد پزشکان | M38: =SUM(D38:L38) -> 0
C39: مبتنی بر عملکرد کارکنان | M39: =SUM(D39:L39) -> 0
C40: ماموریت | M40: =SUM(D40:L40) -> 0
C41: آب | M41: =SUM(D41:L41) -> 0
C42: برق | M42: =SUM(D42:L42) -> 0
C43: گاز | M43: =SUM(D43:L43) -> 0
C44: تلفن | M44: =SUM(D44:L44) -> 0
C45: نفت سفید | M45: =SUM(D45:L45) -> 0
C46: گازوئیل | M46: =SUM(D46:L46) -> 0
C47: بنزین | M47: =SUM(D47:L47) -> 0
C48: هزینه سفر | M48: =SUM(D48:L48) -> 0
C49: قراردادها | M49: =SUM(D49:L49) -> 0
... C56: سایر | M56: =SUM(D56:L56) -> 0
C57: جمع فصل دوم | D57: =SUM(D38:D56) -> 0 | E57: =SUM(E38:E56) -> 0 | F57: =SUM(F38:F56) -> 0 | G57: =SUM(G38:G56) -> 0 | H57: =SUM(H38:H56) -> 0 | I57: =SUM(I38:I56) -> 0 | J57: =SUM(J38:J56) -> 0 | K57: =SUM(K38:K56) -> 0 | ... M57: =SUM(M38:M56) -> 0
C58: فصل سوم
C59: اجاره ساختمان | M59: =SUM(D59:L59) -> 0
C60: سایر | M60: =SUM(D60:L60) -> 0
C61: جمع فصل سوم | D61: =SUM(D59:D60) -> 0 | E61: =SUM(E59:E60) -> 0 | F61: =SUM(F59:F60) -> 0 | G61: =SUM(G59:G60) -> 0 | H61: =SUM(H59:H60) -> 0 | I61: =SUM(I59:I60) -> 0 | J61: =SUM(J59:J60) -> 0 | K61: =SUM(K59:K60) -> 0 | ... M61: =SUM(M59:M60) -> 0
C62: فصل ششم
C63: بیمه حقوق | M63: =SUM(D63:L63) -> 0
C64: سنوات خدمت بازنشسته | M64: =SUM(D64:L64) -> 0
C65: سنوات قراردادی | M65: =SUM(D65:L65) -> 0
C66: بیمه بازنشستگی | M66: =SUM(D66:L66) -> 0
C67: کمک هزینه مسکن | M67: =SUM(D67:L67) -> 0
C68: کمک هزینه مهد کودک | M68: =SUM(D68:L68) -> 0
C69: ازدواج و فوت | M69: =SUM(D69:L69) -> 0
C70: کمک هزینه مسکن | M70: =SUM(D70:L70) -> 0
C71: ورزش و سایر رفاهی | M71: =SUM(D71:L71) -> 0
C72: بیمه تکمیلی جانبازان(خارج از شمول) | M72: =SUM(D72:L72) -> 0
C73: بیمه عمر | M73: =SUM(D73:L73) -> 0
C74: کمک هزینه غذا | M74: =SUM(D74:L74) -> 0
C75: سایر | M75: =SUM(D75:L75) -> 0
C76: جمع فصل ششم | D76: =SUM(D63:D75) -> 0 | E76: =SUM(E63:E75) -> 0 | F76: =SUM(F63:F75) -> 0 | G76: =SUM(G63:G75) -> 0 | H76: =SUM(H63:H75) -> 0 | I76: =SUM(I63:I75) -> 0 | J76: =SUM(J63:J75) -> 0 | K76: =SUM(K63:K75) -> 0 | ... M76: =SUM(M63:M75) -> 0
C77: فصل هفتم
C78: خرید تجهیزات | M78: =SUM(D78:L78) -> 0
C79: خرید انشعابات | M79: =SUM(D79:L79) -> 0
C80: بیمه خودرو | M80: =SUM(D80:L80) -> 0
C81: عوارض و جرایم | M81: =SUM(D81:L81) -> 0
C82: دیون پرسنلی | M82: =SUM(D82:L82) -> 0
C83: دارو | M83: =SUM(D83:L83) -> 0
C84: سایر2 | M84: =SUM(D84:L84) -> 0
C85: جمع فصل هفتم | D85: =SUM(D78:D84) -> 0 | E85: =SUM(E78:E84) -> 0 | F85: =SUM(F78:F84) -> 0 | G85: =SUM(G78:G84) -> 0 | H85: =SUM(H78:H84) -> 0 | I85: =SUM(I78:I84) -> 0 | J85: =SUM(J78:J84) -> 0 | K85: =SUM(K78:K84) -> 0 | ... M85: =SUM(M78:M84) -> 0
C86: جمع کل فصول | D86: =SUM(D36,D57,D61,D76,D85) -> 0 | E86: =SUM(E36,E57,E61,E76,E85) -> 0 | F86: =SUM(F36,F57,F61,F76,F85) -> 0 | G86: =SUM(G36,G57,G61,G76,G85) -> 0 | H86: =SUM(H36,H57,H61,H76,H85) -> 0 | I86: =SUM(I36,I57,I61,I76,I85) -> 0 | J86: =SUM(J36,J57,J61,J76,J85) -> 0 | K86: =SUM(K36,K57,K61,K76,K85) -> 0 | ... M86: =SUM(M36,M57,M61,M76,M85) -> 0

Sheet بیمارستان خمین
B3: فرم منابع | C3: درآمد اعلام شده واحد | D3: سهم مرکز | E3: بند واو تطبیق یافته(سیاستگزاری ستاد) | F3: 1.5 درصد اورژانس | G3: 2 درصد رفاهی | H3: 1 درصد پژوهش | J3: 5 درصد ستاد | K3: 3 درصد خارج از شمول | L3: 5 درصد تجهیزات
B4: درمان
B5: دارو
B8: فرم مصارف | C8: درآمد اعلام شده واحد | D8: سهم مرکز | E8: بند واو تطبیق یافته(سیاستگزاری ستاد) | F8: 1.5 درصد اورژانس | G8: 2 درصد رفاهی | H8: 1 درصد پژوهش | J8: 5 درصد ستاد | K8: 3 درصد خارج از شمول | L8: 5 درصد تجهیزات
B9: درمان
B10: دارو
B13: فرم مانده | C13: درآمد اعلام شده واحد | D13: سهم مرکز | E13: بند واو تطبیق یافته(سیاستگزاری ستاد) | F13: 1.5 درصد اورژانس | G13: 2 درصد رفاهی | H13: 1 درصد پژوهش | J13: 5 درصد ستاد | K13: 3 درصد خارج از شمول | L13: 5 درصد تجهیزات
B14: درمان
B15: دارو
C18: معاونت توسعه مدیریت و منابع
C19: فرم تخصیص درآمدهای اختصاصی (سهم مرکز و در اختیار ستاد) (ارقام به هزار ریال( ماه .................)
C20: 30303 - 30301(بیمارستان خمین) | D20: سهم مرکز | E20: (سیاستگزاری ستاد) | F20: 1.5 درصد اورژانس | G20: 2 درصد رفاهی | H20: 1 درصد پژوهش | I20: 1 درصد آموزش | J20: 5 درصد ستاد | K20: 3 درصد خارج از شمول | L20: 5 درصد تجهیزات | M20: جمع
C21: فصل اول
C22: حقوق و مزایای طرح لایحه | M22: =SUM(D22:L22) -> 0
C23: حقوق و مزایای تبصره 4 | M23: =SUM(D23:L23) -> 0
C24: حقوق و مزایای تبصره 3 | M24: =SUM(D24:L24) -> 0
C25: اضافه کار | M25: =SUM(D25:L25) -> 0
C26: محرومیت از مطب | M26: =SUM(D26:L26) -> 0
C27: طرح تمام وقتی و آنکال | M27: =SUM(D27:L27) -> 0
C28: حق مدیریت(خارج از شمول) | M28: =SUM(D28:L28) -> 0
C29: عیدی | M29: =SUM(D29:L29) -> 0
C30: حق مسکن | M30: =SUM(D30:L30) -> 0
C31: سنوات و مرخصی بازنشسته | M31: =SUM(D31:L31) -> 0
C32: سنوات و مرخصی تبصره 3-4 | M32: =SUM(D32:L32) -> 0
C33: مرخصی تبصره 4 | M33: =SUM(D33:L33) -> 0
... C35: سایر2 | M35: =SUM(D35:L35) -> 0
C36: جمع فصل اول | D36: =SUM(D21:D35) -> 0 | E36: =SUM(E21:E35) -> 0 | F36: =SUM(F21:F35) -> 0 | G36: =SUM(G21:G35) -> 0 | H36: =SUM(H21:H35) -> 0 | I36: =SUM(I21:I35) -> 0 | J36: =SUM(J21:J35) -> 0 | K36: =SUM(K21:K35) -> 0 | ... M36: =SUM(M21:M35) -> 0
C37: فصل دوم
C38: مبتنی بر عملکرد پزشکان | M38: =SUM(D38:L38) -> 0
C39: مبتنی بر عملکرد کارکنان | M39: =SUM(D39:L39) -> 0
C40: ماموریت | M40: =SUM(D40:L40) -> 0
C41: آب | M41: =SUM(D41:L41) -> 0
C42: برق | M42: =SUM(D42:L42) -> 0
C43: گاز | M43: =SUM(D43:L43) -> 0
C44: تلفن | M44: =SUM(D44:L44) -> 0
C45: نفت سفید | M45: =SUM(D45:L45) -> 0
C46: گازوئیل | M46: =SUM(D46:L46) -> 0
C47: بنزین | M47: =SUM(D47:L47) -> 0
C48: هزینه سفر | M48: =SUM(D48:L48) -> 0
C49: قراردادها | M49: =SUM(D49:L49) -> 0
... C56: سایر | M56: =SUM(D56:L56) -> 0
C57: جمع فصل دوم | D57: =SUM(D38:D56) -> 0 | E57: =SUM(E38:E56) -> 0 | F57: =SUM(F38:F56) -> 0 | G57: =SUM(G38:G56) -> 0 | H57: =SUM(H38:H56) -> 0 | I57: =SUM(I38:I56) -> 0 | J57: =SUM(J38:J56) -> 0 | K57: =SUM(K38:K56) -> 0 | ... M57: =SUM(M38:M56) -> 0
C58: فصل سوم
C59: اجاره ساختمان | M59: =SUM(D59:L59) -> 0
C60: سایر | M60: =SUM(D60:L60) -> 0
C61: جمع فصل سوم | D61: =SUM(D59:D60) -> 0 | E61: =SUM(E59:E60) -> 0 | F61: =SUM(F59:F60) -> 0 | G61: =SUM(G59:G60) -> 0 | H61: =SUM(H59:H60) -> 0 | I61: =SUM(I59:I60) -> 0 | J61: =SUM(J59:J60) -> 0 | K61: =SUM(K59:K60) -> 0 | ... M61: =SUM(M59:M60) -> 0
C62: فصل ششم
C63: بیمه حقوق | M63: =SUM(D63:L63) -> 0
C64: سنوات خدمت بازنشسته | M64: =SUM(D64:L64) -> 0
C65: سنوات قراردادی | M65: =SUM(D65:L65) -> 0
C66: بیمه بازنشستگی | M66: =SUM(D66:L66) -> 0
C67: کمک هزینه مسکن | M67: =SUM(D67:L67) -> 0
C68: کمک هزینه مهد کودک | M68: =SUM(D68:L68) -> 0
C69: ازدواج و فوت | M69: =SUM(D69:L69) -> 0
C70: کمک هزینه مسکن | M70: =SUM(D70:L70) -> 0
C71: ورزش و سایر رفاهی | M71: =SUM(D71:L71) -> 0
C72: بیمه تکمیلی جانبازان(خارج از شمول) | M72: =SUM(D72:L72) -> 0
C73: بیمه عمر | M73: =SUM(D73:L73) -> 0
C74: کمک هزینه غذا | M74: =SUM(D74:L74) -> 0
C75: سایر | M75: =SUM(D75:L75) -> 0
C76: جمع فصل ششم | D76: =SUM(D63:D75) -> 0 | E76: =SUM(E63:E75) -> 0 | F76: =SUM(F63:F75) -> 0 | G76: =SUM(G63:G75) -> 0 | H76: =SUM(H63:H75) -> 0 | I76: =SUM(I63:I75) -> 0 | J76: =SUM(J63:J75) -> 0 | K76: =SUM(K63:K75) -> 0 | ... M76: =SUM(M63:M75) -> 0
C77: فصل هفتم
C78: خرید تجهیزات | M78: =SUM(D78:L78) -> 0
C79: خرید انشعابات | M79: =SUM(D79:L79) -> 0
C80: بیمه خودرو | M80: =SUM(D80:L80) -> 0
C81: عوارض و جرایم | M81: =SUM(D81:L81) -> 0
C82: دیون پرسنلی | M82: =SUM(D82:L82) -> 0
C83: دارو | M83: =SUM(D83:L83) -> 0
C84: سایر2 | M84: =SUM(D84:L84) -> 0
C85: جمع فصل هفتم | D85: =SUM(D78:D84) -> 0 | E85: =SUM(E78:E84) -> 0 | F85: =SUM(F78:F84) -> 0 | G85: =SUM(G78:G84) -> 0 | H85: =SUM(H78:H84) -> 0 | I85: =SUM(I78:I84) -> 0 | J85: =SUM(J78:J84) -> 0 | K85: =SUM(K78:K84) -> 0 | ... M85: =SUM(M78:M84) -> 0
C86: جمع کل فصول | D86: =SUM(D36,D57,D61,D76,D85) -> 0 | E86: =SUM(E36,E57,E61,E76,E85) -> 0 | F86: =SUM(F36,F57,F61,F76,F85) -> 0 | G86: =SUM(G36,G57,G61,G76,G85) -> 0 | H86: =SUM(H36,H57,H61,H76,H85) -> 0 | I86: =SUM(I36,I57,I61,I76,I85) -> 0 | J86: =SUM(J36,J57,J61,J76,J85) -> 0 | K86: =SUM(K36,K57,K61,K76,K85) -> 0 | ... M86: =SUM(M36,M57,M61,M76,M85) -> 0

Sheet بیمارستان دلیجان
B3: فرم منابع | C3: درآمد اعلام شده واحد | D3: سهم مرکز | E3: بند واو تطبیق یافته(سیاستگزاری ستاد) | F3: 1.5 درصد اورژانس | G3: 2 درصد رفاهی | H3: 1 درصد پژوهش | J3: 5 درصد ستاد | K3: 3 درصد خارج از شمول | L3: 5 درصد تجهیزات
B4: درمان
B5: دارو
B8: فرم مصارف | C8: درآمد اعلام شده واحد | D8: سهم مرکز | E8: بند واو تطبیق یافته(سیاستگزاری ستاد) | F8: 1.5 درصد اورژانس | G8: 2 درصد رفاهی | H8: 1 درصد پژوهش | J8: 5 درصد ستاد | K8: 3 درصد خارج از شمول | L8: 5 درصد تجهیزات
B9: درمان
B10: دارو
B13: فرم مانده | C13: درآمد اعلام شده واحد | D13: سهم مرکز | E13: بند واو تطبیق یافته(سیاستگزاری ستاد) | F13: 1.5 درصد اورژانس | G13: 2 درصد رفاهی | H13: 1 درصد پژوهش | J13: 5 درصد ستاد | K13: 3 درصد خارج از شمول | L13: 5 درصد تجهیزات
B14: درمان
B15: دارو
C18: معاونت توسعه مدیریت و منابع
C19: فرم تخصیص درآمدهای اختصاصی (سهم مرکز و در اختیار ستاد) (ارقام به هزار ریال( ماه .................)
C20: 30303 - 30301(بیمارستان دلیجان) | D20: سهم مرکز | E20: (سیاستگزاری ستاد) | F20: 1.5 درصد اورژانس | G20: 2 درصد رفاهی | H20: 1 درصد پژوهش | I20: 1 درصد آموزش | J20: 5 درصد ستاد | K20: 3 درصد خارج از شمول | L20: 5 درصد تجهیزات | M20: جمع
C21: فصل اول
C22: حقوق و مزایای طرح لایحه | M22: =SUM(D22:L22) -> 0
C23: حقوق و مزایای تبصره 4 | M23: =SUM(D23:L23) -> 0
C24: حقوق و مزایای تبصره 3 | M24: =SUM(D24:L24) -> 0
C25: اضافه کار | M25: =SUM(D25:L25) -> 0
C26: محرومیت از مطب | M26: =SUM(D26:L26) -> 0
C27: طرح تمام وقتی و آنکال | M27: =SUM(D27:L27) -> 0
C28: حق مدیریت(خارج از شمول) | M28: =SUM(D28:L28) -> 0
C29: عیدی | M29: =SUM(D29:L29) -> 0
C30: حق مسکن | M30: =SUM(D30:L30) -> 0
C31: سنوات و مرخصی بازنشسته | M31: =SUM(D31:L31) -> 0
C32: سنوات و مرخصی تبصره 3-4 | M32: =SUM(D32:L32) -> 0
C33: مرخصی تبصره 4 | M33: =SUM(D33:L33) -> 0
... C35: سایر2 | M35: =SUM(D35:L35) -> 0
C36: جمع فصل اول | D36: =SUM(D21:D35) -> 0 | E36: =SUM(E21:E35) -> 0 | F36: =SUM(F21:F35) -> 0 | G36: =SUM(G21:G35) -> 0 | H36: =SUM(H21:H35) -> 0 | I36: =SUM(I21:I35) -> 0 | J36: =SUM(J21:J35) -> 0 | K36: =SUM(K21:K35) -> 0 | ... M36: =SUM(M21:M35) -> 0
C37: فصل دوم
C38: مبتنی بر عملکرد پزشکان | M38: =SUM(D38:L38) -> 0
C39: مبتنی بر عملکرد کارکنان | M39: =SUM(D39:L39) -> 0
C40: ماموریت | M40: =SUM(D40:L40) -> 0
C41: آب | M41: =SUM(D41:L41) -> 0
C42: برق | M42: =SUM(D42:L42) -> 0
C43: گاز | M43: =SUM(D43:L43) -> 0
C44: تلفن | M44: =SUM(D44:L44) -> 0
C45: نفت سفید | M45: =SUM(D45:L45) -> 0
C46: گازوئیل | M46: =SUM(D46:L46) -> 0
C47: بنزین | M47: =SUM(D47:L47) -> 0
C48: هزینه سفر | M48: =SUM(D48:L48) -> 0
C49: قراردادها | M49: =SUM(D49:L49) -> 0
... C56: سایر | M56: =SUM(D56:L56) -> 0
C57: جمع فصل دوم | D57: =SUM(D38:D56) -> 0 | E57: =SUM(E38:E56) -> 0 | F57: =SUM(F38:F56) -> 0 | G57: =SUM(G38:G56) -> 0 | H57: =SUM(H38:H56) -> 0 | I57: =SUM(I38:I56) -> 0 | J57: =SUM(J38:J56) -> 0 | K57: =SUM(K38:K56) -> 0 | ... M57: =SUM(M38:M56) -> 0
C58: فصل سوم
C59: اجاره ساختمان | M59: =SUM(D59:L59) -> 0
C60: سایر | M60: =SUM(D60:L60) -> 0
C61: جمع فصل سوم | D61: =SUM(D59:D60) -> 0 | E61: =SUM(E59:E60) -> 0 | F61: =SUM(F59:F60) -> 0 | G61: =SUM(G59:G60) -> 0 | H61: =SUM(H59:H60) -> 0 | I61: =SUM(I59:I60) -> 0 | J61: =SUM(J59:J60) -> 0 | K61: =SUM(K59:K60) -> 0 | ... M61: =SUM(M59:M60) -> 0
C62: فصل ششم
C63: بیمه حقوق | M63: =SUM(D63:L63) -> 0
C64: سنوات خدمت بازنشسته | M64: =SUM(D64:L64) -> 0
C65: سنوات قراردادی | M65: =SUM(D65:L65) -> 0
C66: بیمه بازنشستگی | M66: =SUM(D66:L66) -> 0
C67: کمک هزینه مسکن | M67: =SUM(D67:L67) -> 0
C68: کمک هزینه مهد کودک | M68: =SUM(D68:L68) -> 0
C69: ازدواج و فوت | M69: =SUM(D69:L69) -> 0
C70: کمک هزینه مسکن | M70: =SUM(D70:L70) -> 0
C71: ورزش و سایر رفاهی | M71: =SUM(D71:L71) -> 0
C72: بیمه تکمیلی جانبازان(خارج از شمول) | M72: =SUM(D72:L72) -> 0
C73: بیمه عمر | M73: =SUM(D73:L73) -> 0
C74: کمک هزینه غذا | M74: =SUM(D74:L74) -> 0
C75: سایر | M75: =SUM(D75:L75) -> 0
C76: جمع فصل ششم | D76: =SUM(D63:D75) -> 0 | E76: =SUM(E63:E75) -> 0 | F76: =SUM(F63:F75) -> 0 | G76: =SUM(G63:G75) -> 0 | H76: =SUM(H63:H75) -> 0 | I76: =SUM(I63:I75) -> 0 | J76: =SUM(J63:J75) -> 0 | K76: =SUM(K63:K75) -> 0 | ... M76: =SUM(M63:M75) -> 0
C77: فصل هفتم
C78: خرید تجهیزات | M78: =SUM(D78:L78) -> 0
C79: خرید انشعابات | M79: =SUM(D79:L79) -> 0
C80: بیمه خودرو | M80: =SUM(D80:L80) -> 0
C81: عوارض و جرایم | M81: =SUM(D81:L81) -> 0
C82: دیون پرسنلی | M82: =SUM(D82:L82) -> 0
C83: دارو | M83: =SUM(D83:L83) -> 0
C84: سایر2 | M84: =SUM(D84:L84) -> 0
C85: جمع فصل هفتم | D85: =SUM(D78:D84) -> 0 | E85: =SUM(E78:E84) -> 0 | F85: =SUM(F78:F84) -> 0 | G85: =SUM(G78:G84) -> 0 | H85: =SUM(H78:H84) -> 0 | I85: =SUM(I78:I84) -> 0 | J85: =SUM(J78:J84) -> 0 | K85: =SUM(K78:K84) -> 0 | ... M85: =SUM(M78:M84) -> 0
C86: جمع کل فصول | D86: =SUM(D36,D57,D61,D76,D85) -> 0 | E86: =SUM(E36,E57,E61,E76,E85) -> 0 | F86: =SUM(F36,F57,F61,F76,F85) -> 0 | G86: =SUM(G36,G57,G61,G76,G85) -> 0 | H86: =SUM(H36,H57,H61,H76,H85) -> 0 | I86: =SUM(I36,I57,I61,I76,I85) -> 0 | J86: =SUM(J36,J57,J61,J76,J85) -> 0 | K86: =SUM(K36,K57,K61,K76,K85) -> 0 | ... M86: =SUM(M36,M57,M61,M76,M85) -> 0

Sheet بیمارستان محلات
B3: فرم منابع | C3: درآمد اعلام شده واحد | D3: سهم مرکز | E3: بند واو تطبیق یافته(سیاستگزاری ستاد) | F3: 1.5 درصد اورژانس | G3: 2 درصد رفاهی | H3: 1 درصد پژوهش | J3: 5 درصد ستاد | K3: 3 درصد خارج از شمول | L3: 5 درصد تجهیزات
B4: درمان
B5: دارو
B8: فرم مصارف | C8: درآمد اعلام شده واحد | D8: سهم مرکز | E8: بند واو تطبیق یافته(سیاستگزاری ستاد) | F8: 1.5 درصد اورژانس | G8: 2 درصد رفاهی | H8: 1 درصد پژوهش | J8: 5 درصد ستاد | K8: 3 درصد خارج از شمول | L8: 5 درصد تجهیزات
B9: درمان
B10: دارو
B13: فرم مانده | C13: درآمد اعلام شده واحد | D13: سهم مرکز | E13: بند واو تطبیق یافته(سیاستگزاری ستاد) | F13: 1.5 درصد اورژانس | G13: 2 درصد رفاهی | H13: 1 درصد پژوهش | J13: 5 درصد ستاد | K13: 3 درصد خارج از شمول | L13: 5 درصد تجهیزات
B14: درمان
B15: دارو
C18: معاونت توسعه مدیریت و منابع
C19: فرم تخصیص درآمدهای اختصاصی (سهم مرکز و در اختیار ستاد) (ارقام به هزار ریال( ماه .................)
C20: 30303 - 30301(بیمارستان محلات) | D20: سهم مرکز | E20: (سیاستگزاری ستاد) | F20: 1.5 درصد اورژانس | G20: 2 درصد رفاهی | H20: 1 درصد پژوهش | I20: 1 درصد آموزش | J20: 5 درصد ستاد | K20: 3 درصد خارج از شمول | L20: 5 درصد تجهیزات | M20: جمع
C21: فصل اول
C22: حقوق و مزایای طرح لایحه | M22: =SUM(D22:L22) -> 0
C23: حقوق و مزایای تبصره 4 | M23: =SUM(D23:L23) -> 0
C24: حقوق و مزایای تبصره 3 | M24: =SUM(D24:L24) -> 0
C25: اضافه کار | M25: =SUM(D25:L25) -> 0
C26: محرومیت از مطب | M26: =SUM(D26:L26) -> 0
C27: طرح تمام وقتی و آنکال | M27: =SUM(D27:L27) -> 0
C28: حق مدیریت(خارج از شمول) | M28: =SUM(D28:L28) -> 0
C29: عیدی | M29: =SUM(D29:L29) -> 0
C30: حق مسکن | M30: =SUM(D30:L30) -> 0
C31: سنوات و مرخصی بازنشسته | M31: =SUM(D31:L31) -> 0
C32: سنوات و مرخصی تبصره 3-4 | M32: =SUM(D32:L32) -> 0
C33: مرخصی تبصره 4 | M33: =SUM(D33:L33) -> 0
... C35: سایر2 | M35: =SUM(D35:L35) -> 0
C36: جمع فصل اول | D36: =SUM(D21:D35) -> 0 | E36: =SUM(E21:E35) -> 0 | F36: =SUM(F21:F35) -> 0 | G36: =SUM(G21:G35) -> 0 | H36: =SUM(H21:H35) -> 0 | I36: =SUM(I21:I35) -> 0 | J36: =SUM(J21:J35) -> 0 | K36: =SUM(K21:K35) -> 0 | ... M36: =SUM(M21:M35) -> 0
C37: فصل دوم
C38: مبتنی بر عملکرد پزشکان | M38: =SUM(D38:L38) -> 0
C39: مبتنی بر عملکرد کارکنان | M39: =SUM(D39:L39) -> 0
C40: ماموریت | M40: =SUM(D40:L40) -> 0
C41: آب | M41: =SUM(D41:L41) -> 0
C42: برق | M42: =SUM(D42:L42) -> 0
C43: گاز | M43: =SUM(D43:L43) -> 0
C44: تلفن | M44: =SUM(D44:L44) -> 0
C45: نفت سفید | M45: =SUM(D45:L45) -> 0
C46: گازوئیل | M46: =SUM(D46:L46) -> 0
C47: بنزین | M47: =SUM(D47:L47) -> 0
C48: هزینه سفر | M48: =SUM(D48:L48) -> 0
C49: قراردادها | M49: =SUM(D49:L49) -> 0
... C56: سایر | M56: =SUM(D56:L56) -> 0
C57: جمع فصل دوم | D57: =SUM(D38:D56) -> 0 | E57: =SUM(E38:E56) -> 0 | F57: =SUM(F38:F56) -> 0 | G57: =SUM(G38:G56) -> 0 | H57: =SUM(H38:H56) -> 0 | I57: =SUM(I38:I56) -> 0 | J57: =SUM(J38:J56) -> 0 | K57: =SUM(K38:K56) -> 0 | ... M57: =SUM(M38:M56) -> 0
C58: فصل سوم
C59: اجاره ساختمان | M59: =SUM(D59:L59) -> 0
C60: سایر | M60: =SUM(D60:L60) -> 0
C61: جمع فصل سوم | D61: =SUM(D59:D60) -> 0 | E61: =SUM(E59:E60) -> 0 | F61: =SUM(F59:F60) -> 0 | G61: =SUM(G59:G60) -> 0 | H61: =SUM(H59:H60) -> 0 | I61: =SUM(I59:I60) -> 0 | J61: =SUM(J59:J60) -> 0 | K61: =SUM(K59:K60) -> 0 | ... M61: =SUM(M59:M60) -> 0
C62: فصل ششم
C63: بیمه حقوق | M63: =SUM(D63:L63) -> 0
C64: سنوات خدمت بازنشسته | M64: =SUM(D64:L64) -> 0
C65: سنوات قراردادی | M65: =SUM(D65:L65) -> 0
C66: بیمه بازنشستگی | M66: =SUM(D66:L66) -> 0
C67: کمک هزینه مسکن | M67: =SUM(D67:L67) -> 0
C68: کمک هزینه مهد کودک | M68: =SUM(D68:L68) -> 0
C69: ازدواج و فوت | M69: =SUM(D69:L69) -> 0
C70: کمک هزینه مسکن | M70: =SUM(D70:L70) -> 0
C71: ورزش و سایر رفاهی | M71: =SUM(D71:L71) -> 0
C72: بیمه تکمیلی جانبازان(خارج از شمول) | M72: =SUM(D72:L72) -> 0
C73: بیمه عمر | M73: =SUM(D73:L73) -> 0
C74: کمک هزینه غذا | M74: =SUM(D74:L74) -> 0
C75: سایر | M75: =SUM(D75:L75) -> 0
C76: جمع فصل ششم | D76: =SUM(D63:D75) -> 0 | E76: =SUM(E63:E75) -> 0 | F76: =SUM(F63:F75) -> 0 | G76: =SUM(G63:G75) -> 0 | H76: =SUM(H63:H75) -> 0 | I76: =SUM(I63:I75) -> 0 | J76: =SUM(J63:J75) -> 0 | K76: =SUM(K63:K75) -> 0 | ... M76: =SUM(M63:M75) -> 0
C77: فصل هفتم
C78: خرید تجهیزات | M78: =SUM(D78:L78) -> 0
C79: خرید انشعابات | M79: =SUM(D79:L79) -> 0
C80: بیمه خودرو | M80: =SUM(D80:L80) -> 0
C81: عوارض و جرایم | M81: =SUM(D81:L81) -> 0
C82: دیون پرسنلی | M82: =SUM(D82:L82) -> 0
C83: دارو | M83: =SUM(D83:L83) -> 0
C84: سایر2 | M84: =SUM(D84:L84) -> 0
C85: جمع فصل هفتم | D85: =SUM(D78:D84) -> 0 | E85: =SUM(E78:E84) -> 0 | F85: =SUM(F78:F84) -> 0 | G85: =SUM(G78:G84) -> 0 | H85: =SUM(H78:H84) -> 0 | I85: =SUM(I78:I84) -> 0 | J85: =SUM(J78:J84) -> 0 | K85: =SUM(K78:K84) -> 0 | ... M85: =SUM(M78:M84) -> 0
C86: جمع کل فصول | D86: =SUM(D36,D57,D61,D76,D85) -> 0 | E86: =SUM(E36,E57,E61,E76,E85) -> 0 | F86: =SUM(F36,F57,F61,F76,F85) -> 0 | G86: =SUM(G36,G57,G61,G76,G85) -> 0 | H86: =SUM(H36,H57,H61,H76,H85) -> 0 | I86: =SUM(I36,I57,I61,I76,I85) -> 0 | J86: =SUM(J36,J57,J61,J76,J85) -> 0 | K86: =SUM(K36,K57,K61,K76,K85) -> 0 | ... M86: =SUM(M36,M57,M61,M76,M85) -> 0

Sheet بیمارستان آشتیان
B3: فرم منابع | C3: درآمد اعلام شده واحد | D3: سهم مرکز | E3: بند واو تطبیق یافته(سیاستگزاری ستاد) | F3: 1.5 درصد اورژانس | G3: 2 درصد رفاهی | H3: 1 درصد پژوهش | J3: 5 درصد ستاد | K3: 3 درصد خارج از شمول | L3: 5 درصد تجهیزات
B4: درمان
B5: دارو
B8: فرم مصارف | C8: درآمد اعلام شده واحد | D8: سهم مرکز | E8: بند واو تطبیق یافته(سیاستگزاری ستاد) | F8: 1.5 درصد اورژانس | G8: 2 درصد رفاهی | H8: 1 درصد پژوهش | J8: 5 درصد ستاد | K8: 3 درصد خارج از شمول | L8: 5 درصد تجهیزات
B9: درمان
B10: دارو
B13: فرم مانده | C13: درآمد اعلام شده واحد | D13: سهم مرکز | E13: بند واو تطبیق یافته(سیاستگزاری ستاد) | F13: 1.5 درصد اورژانس | G13: 2 درصد رفاهی | H13: 1 درصد پژوهش | J13: 5 درصد ستاد | K13: 3 درصد خارج از شمول | L13: 5 درصد تجهیزات
B14: درمان
B15: دارو
C18: معاونت توسعه مدیریت و منابع
C19: فرم تخصیص درآمدهای اختصاصی (سهم مرکز و در اختیار ستاد) (ارقام به هزار ریال( ماه .................)
C20: 30303 - 30301(بیمارستان آشتیان) | D20: سهم مرکز | E20: (سیاستگزاری ستاد) | F20: 1.5 درصد اورژانس | G20: 2 درصد رفاهی | H20: 1 درصد پژوهش | I20: 1 درصد آموزش | J20: 5 درصد ستاد | K20: 3 درصد خارج از شمول | L20: 5 درصد تجهیزات | M20: جمع
C21: فصل اول
C22: حقوق و مزایای طرح لایحه | M22: =SUM(D22:L22) -> 0
C23: حقوق و مزایای تبصره 4 | M23: =SUM(D23:L23) -> 0
C24: حقوق و مزایای تبصره 3 | M24: =SUM(D24:L24) -> 0
C25: اضافه کار | M25: =SUM(D25:L25) -> 0
C26: محرومیت از مطب | M26: =SUM(D26:L26) -> 0
C27: طرح تمام وقتی و آنکال | M27: =SUM(D27:L27) -> 0
C28: حق مدیریت(خارج از شمول) | M28: =SUM(D28:L28) -> 0
C29: عیدی | M29: =SUM(D29:L29) -> 0
C30: حق مسکن | M30: =SUM(D30:L30) -> 0
C31: سنوات و مرخصی بازنشسته | M31: =SUM(D31:L31) -> 0
C32: سنوات و مرخصی تبصره 3-4 | M32: =SUM(D32:L32) -> 0
C33: مرخصی تبصره 4 | M33: =SUM(D33:L33) -> 0
... C35: سایر2 | M35: =SUM(D35:L35) -> 0
C36: جمع فصل اول | D36: =SUM(D21:D35) -> 0 | E36: =SUM(E21:E35) -> 0 | F36: =SUM(F21:F35) -> 0 | G36: =SUM(G21:G35) -> 0 | H36: =SUM(H21:H35) -> 0 | I36: =SUM(I21:I35) -> 0 | J36: =SUM(J21:J35) -> 0 | K36: =SUM(K21:K35) -> 0 | ... M36: =SUM(M21:M35) -> 0
C37: فصل دوم
C38: مبتنی بر عملکرد پزشکان | M38: =SUM(D38:L38) -> 0
C39: مبتنی بر عملکرد کارکنان | M39: =SUM(D39:L39) -> 0
C40: ماموریت | M40: =SUM(D40:L40) -> 0
C41: آب | M41: =SUM(D41:L41) -> 0
C42: برق | M42: =SUM(D42:L42) -> 0
C43: گاز | M43: =SUM(D43:L43) -> 0
C44: تلفن | M44: =SUM(D44:L44) -> 0
C45: نفت سفید | M45: =SUM(D45:L45) -> 0
C46: گازوئیل | M46: =SUM(D46:L46) -> 0
C47: بنزین | M47: =SUM(D47:L47) -> 0
C48: هزینه سفر | M48: =SUM(D48:L48) -> 0
C49: قراردادها | M49: =SUM(D49:L49) -> 0
... C56: سایر | M56: =SUM(D56:L56) -> 0
C57: جمع فصل دوم | D57: =SUM(D38:D56) -> 0 | E57: =SUM(E38:E56) -> 0 | F57: =SUM(F38:F56) -> 0 | G57: =SUM(G38:G56) -> 0 | H57: =SUM(H38:H56) -> 0 | I57: =SUM(I38:I56) -> 0 | J57: =SUM(J38:J56) -> 0 | K57: =SUM(K38:K56) -> 0 | ... M57: =SUM(M38:M56) -> 0
C58: فصل سوم
C59: اجاره ساختمان | M59: =SUM(D59:L59) -> 0
C60: سایر | M60: =SUM(D60:L60) -> 0
C61: جمع فصل سوم | D61: =SUM(D59:D60) -> 0 | E61: =SUM(E59:E60) -> 0 | F61: =SUM(F59:F60) -> 0 | G61: =SUM(G59:G60) -> 0 | H61: =SUM(H59:H60) -> 0 | I61: =SUM(I59:I60) -> 0 | J61: =SUM(J59:J60) -> 0 | K61: =SUM(K59:K60) -> 0 | ... M61: =SUM(M59:M60) -> 0
C62: فصل ششم
C63: بیمه حقوق | M63: =SUM(D63:L63) -> 0
C64: سنوات خدمت بازنشسته | M64: =SUM(D64:L64) -> 0
C65: سنوات قراردادی | M65: =SUM(D65:L65) -> 0
C66: بیمه بازنشستگی | M66: =SUM(D66:L66) -> 0
C67: کمک هزینه مسکن | M67: =SUM(D67:L67) -> 0
C68: کمک هزینه مهد کودک | M68: =SUM(D68:L68) -> 0
C69: ازدواج و فوت | M69: =SUM(D69:L69) -> 0
C70: کمک هزینه مسکن | M70: =SUM(D70:L70) -> 0
C71: ورزش و سایر رفاهی | M71: =SUM(D71:L71) -> 0
C72: بیمه تکمیلی جانبازان(خارج از شمول) | M72: =SUM(D72:L72) -> 0
C73: بیمه عمر | M73: =SUM(D73:L73) -> 0
C74: کمک هزینه غذا | M74: =SUM(D74:L74) -> 0
C75: سایر | M75: =SUM(D75:L75) -> 0
C76: جمع فصل ششم | D76: =SUM(D63:D75) -> 0 | E76: =SUM(E63:E75) -> 0 | F76: =SUM(F63:F75) -> 0 | G76: =SUM(G63:G75) -> 0 | H76: =SUM(H63:H75) -> 0 | I76: =SUM(I63:I75) -> 0 | J76: =SUM(J63:J75) -> 0 | K76: =SUM(K63:K75) -> 0 | ... M76: =SUM(M63:M75) -> 0
C77: فصل هفتم
C78: خرید تجهیزات | M78: =SUM(D78:L78) -> 0
C79: خرید انشعابات | M79: =SUM(D79:L79) -> 0
C80: بیمه خودرو | M80: =SUM(D80:L80) -> 0
C81: عوارض و جرایم | M81: =SUM(D81:L81) -> 0
C82: دیون پرسنلی | M82: =SUM(D82:L82) -> 0
C83: دارو | M83: =SUM(D83:L83) -> 0
C84: سایر2 | M84: =SUM(D84:L84) -> 0
C85: جمع فصل هفتم | D85: =SUM(D78:D84) -> 0 | E85: =SUM(E78:E84) -> 0 | F85: =SUM(F78:F84) -> 0 | G85: =SUM(G78:G84) -> 0 | H85: =SUM(H78:H84) -> 0 | I85: =SUM(I78:I84) -> 0 | J85: =SUM(J78:J84) -> 0 | K85: =SUM(K78:K84) -> 0 | ... M85: =SUM(M78:M84) -> 0
C86: جمع کل فصول | D86: =SUM(D36,D57,D61,D76,D85) -> 0 | E86: =SUM(E36,E57,E61,E76,E85) -> 0 | F86: =SUM(F36,F57,F61,F76,F85) -> 0 | G86: =SUM(G36,G57,G61,G76,G85) -> 0 | H86: =SUM(H36,H57,H61,H76,H85) -> 0 | I86: =SUM(I36,I57,I61,I76,I85) -> 0 | J86: =SUM(J36,J57,J61,J76,J85) -> 0 | K86: =SUM(K36,K57,K61,K76,K85) -> 0 | ... M86: =SUM(M36,M57,M61,M76,M85) -> 0

Sheet بیمارستان کمیجان
B3: فرم منابع | C3: درآمد اعلام شده واحد | D3: سهم مرکز | E3: بند واو تطبیق یافته(سیاستگزاری ستاد) | F3: 1.5 درصد اورژانس | G3: 2 درصد رفاهی | H3: 1 درصد پژوهش | J3: 5 درصد ستاد | K3: 3 درصد خارج از شمول | L3: 5 درصد تجهیزات
B4: درمان
B5: دارو
B8: فرم مصارف | C8: درآمد اعلام شده واحد | D8: سهم مرکز | E8: بند واو تطبیق یافته(سیاستگزاری ستاد) | F8: 1.5 درصد اورژانس | G8: 2 درصد رفاهی | H8: 1 درصد پژوهش | J8: 5 درصد ستاد | K8: 3 درصد خارج از شمول | L8: 5 درصد تجهیزات
B9: درمان
B10: دارو
B13: فرم مانده | C13: درآمد اعلام شده واحد | D13: سهم مرکز | E13: بند واو تطبیق یافته(سیاستگزاری ستاد) | F13: 1.5 درصد اورژانس | G13: 2 درصد رفاهی | H13: 1 درصد پژوهش | J13: 5 درصد ستاد | K13: 3 درصد خارج از شمول | L13: 5 درصد تجهیزات
B14: درمان
B15: دارو
C18: معاونت توسعه مدیریت و منابع
C19: فرم تخصیص درآمدهای اختصاصی (سهم مرکز و در اختیار ستاد) (ارقام به هزار ریال( ماه .................)
C20: 30303 - 30301(بیمارستان کمیجان) | D20: سهم مرکز | E20: (سیاستگزاری ستاد) | F20: 1.5 درصد اورژانس | G20: 2 درصد رفاهی | H20: 1 درصد پژوهش | I20: 1 درصد آموزش | J20: 5 درصد ستاد | K20: 3 درصد خارج از شمول | L20: 5 درصد تجهیزات | M20: جمع
C21: فصل اول
C22: حقوق و مزایای طرح لایحه | M22: =SUM(D22:L22) -> 0
C23: حقوق و مزایای تبصره 4 | M23: =SUM(D23:L23) -> 0
C24: حقوق و مزایای تبصره 3 | M24: =SUM(D24:L24) -> 0
C25: اضافه کار | M25: =SUM(D25:L25) -> 0
C26: محرومیت از مطب | M26: =SUM(D26:L26) -> 0
C27: طرح تمام وقتی و آنکال | M27: =SUM(D27:L27) -> 0
C28: حق مدیریت(خارج از شمول) | M28: =SUM(D28:L28) -> 0
C29: عیدی | M29: =SUM(D29:L29) -> 0
C30: حق مسکن | M30: =SUM(D30:L30) -> 0
C31: سنوات و مرخصی بازنشسته | M31: =SUM(D31:L31) -> 0
C32: سنوات و مرخصی تبصره 3-4 | M32: =SUM(D32:L32) -> 0
C33: مرخصی تبصره 4 | M33: =SUM(D33:L33) -> 0
... C35: سایر2 | M35: =SUM(D35:L35) -> 0
C36: جمع فصل اول | D36: =SUM(D21:D35) -> 0 | E36: =SUM(E21:E35) -> 0 | F36: =SUM(F21:F35) -> 0 | G36: =SUM(G21:G35) -> 0 | H36: =SUM(H21:H35) -> 0 | I36: =SUM(I21:I35) -> 0 | J36: =SUM(J21:J35) -> 0 | K36: =SUM(K21:K35) -> 0 | ... M36: =SUM(M21:M35) -> 0
C37: فصل دوم
C38: مبتنی بر عملکرد پزشکان | M38: =SUM(D38:L38) -> 0
C39: مبتنی بر عملکرد کارکنان | M39: =SUM(D39:L39) -> 0
C40: ماموریت | M40: =SUM(D40:L40) -> 0
C41: آب | M41: =SUM(D41:L41) -> 0
C42: برق | M42: =SUM(D42:L42) -> 0
C43: گاز | M43: =SUM(D43:L43) -> 0
C44: تلفن | M44: =SUM(D44:L44) -> 0
C45: نفت سفید | M45: =SUM(D45:L45) -> 0
C46: گازوئیل | M46: =SUM(D46:L46) -> 0
C47: بنزین | M47: =SUM(D47:L47) -> 0
C48: هزینه سفر | M48: =SUM(D48:L48) -> 0
C49: قراردادها | M49: =SUM(D49:L49) -> 0
... C56: سایر | M56: =SUM(D56:L56) -> 0
C57: جمع فصل دوم | D57: =SUM(D38:D56) -> 0 | E57: =SUM(E38:E56) -> 0 | F57: =SUM(F38:F56) -> 0 | G57: =SUM(G38:G56) -> 0 | H57: =SUM(H38:H56) -> 0 | I57: =SUM(I38:I56) -> 0 | J57: =SUM(J38:J56) -> 0 | K57: =SUM(K38:K56) -> 0 | ... M57: =SUM(M38:M56) -> 0
C58: فصل سوم
C59: اجاره ساختمان | M59: =SUM(D59:L59) -> 0
C60: سایر | M60: =SUM(D60:L60) -> 0
C61: جمع فصل سوم | D61: =SUM(D59:D60) -> 0 | E61: =SUM(E59:E60) -> 0 | F61: =SUM(F59:F60) -> 0 | G61: =SUM(G59:G60) -> 0 | H61: =SUM(H59:H60) -> 0 | I61: =SUM(I59:I60) -> 0 | J61: =SUM(J59:J60) -> 0 | K61: =SUM(K59:K60) -> 0 | ... M61: =SUM(M59:M60) -> 0
C62: فصل ششم
C63: بیمه حقوق | M63: =SUM(D63:L63) -> 0
C64: سنوات خدمت بازنشسته | M64: =SUM(D64:L64) -> 0
C65: سنوات قراردادی | M65: =SUM(D65:L65) -> 0
C66: بیمه بازنشستگی | M66: =SUM(D66:L66) -> 0
C67: کمک هزینه مسکن | M67: =SUM(D67:L67) -> 0
C68: کمک هزینه مهد کودک | M68: =SUM(D68:L68) -> 0
C69: ازدواج و فوت | M69: =SUM(D69:L69) -> 0
C70: کمک هزینه مسکن | M70: =SUM(D70:L70) -> 0
C71: ورزش و سایر رفاهی | M71: =SUM(D71:L71) -> 0
C72: بیمه تکمیلی جانبازان(خارج از شمول) | M72: =SUM(D72:L72) -> 0
C73: بیمه عمر | M73: =SUM(D73:L73) -> 0
C74: کمک هزینه غذا | M74: =SUM(D74:L74) -> 0
C75: سایر | M75: =SUM(D75:L75) -> 0
C76: جمع فصل ششم | D76: =SUM(D63:D75) -> 0 | E76: =SUM(E63:E75) -> 0 | F76: =SUM(F63:F75) -> 0 | G76: =SUM(G63:G75) -> 0 | H76: =SUM(H63:H75) -> 0 | I76: =SUM(I63:I75) -> 0 | J76: =SUM(J63:J75) -> 0 | K76: =SUM(K63:K75) -> 0 | ... M76: =SUM(M63:M75) -> 0
C77: فصل هفتم
C78: خرید تجهیزات | M78: =SUM(D78:L78) -> 0
C79: خرید انشعابات | M79: =SUM(D79:L79) -> 0
C80: بیمه خودرو | M80: =SUM(D80:L80) -> 0
C81: عوارض و جرایم | M81: =SUM(D81:L81) -> 0
C82: دیون پرسنلی | M82: =SUM(D82:L82) -> 0
C83: دارو | M83: =SUM(D83:L83) -> 0
C84: سایر2 | M84: =SUM(D84:L84) -> 0
C85: جمع فصل هفتم | D85: =SUM(D78:D84) -> 0 | E85: =SUM(E78:E84) -> 0 | F85: =SUM(F78:F84) -> 0 | G85: =SUM(G78:G84) -> 0 | H85: =SUM(H78:H84) -> 0 | I85: =SUM(I78:I84) -> 0 | J85: =SUM(J78:J84) -> 0 | K85: =SUM(K78:K84) -> 0 | ... M85: =SUM(M78:M84) -> 0
C86: جمع کل فصول | D86: =SUM(D36,D57,D61,D76,D85) -> 0 | E86: =SUM(E36,E57,E61,E76,E85) -> 0 | F86: =SUM(F36,F57,F61,F76,F85) -> 0 | G86: =SUM(G36,G57,G61,G76,G85) -> 0 | H86: =SUM(H36,H57,H61,H76,H85) -> 0 | I86: =SUM(I36,I57,I61,I76,I85) -> 0 | J86: =SUM(J36,J57,J61,J76,J85) -> 0 | K86: =SUM(K36,K57,K61,K76,K85) -> 0 | ... M86: =SUM(M36,M57,M61,M76,M85) -> 0

Sheet بیمارستان تفرش
B3: فرم منابع | C3: درآمد اعلام شده واحد | D3: سهم مرکز | E3: بند واو تطبیق یافته(سیاستگزاری ستاد) | F3: 1.5 درصد اورژانس | G3: 2 درصد رفاهی | H3: 1 درصد پژوهش | J3: 5 درصد ستاد | K3: 3 درصد خارج از شمول | L3: 5 درصد تجهیزات
B4: درمان
B5: دارو
B8: فرم مصارف | C8: درآمد اعلام شده واحد | D8: سهم مرکز | E8: بند واو تطبیق یافته(سیاستگزاری ستاد) | F8: 1.5 درصد اورژانس | G8: 2 درصد رفاهی | H8: 1 درصد پژوهش | J8: 5 درصد ستاد | K8: 3 درصد خارج از شمول | L8: 5 درصد تجهیزات
B9: درمان
B10: دارو
B13: فرم مانده | C13: درآمد اعلام شده واحد | D13: سهم مرکز | E13: بند واو تطبیق یافته(سیاستگزاری ستاد) | F13: 1.5 درصد اورژانس | G13: 2 درصد رفاهی | H13: 1 درصد پژوهش | J13: 5 درصد ستاد | K13: 3 درصد خارج از شمول | L13: 5 درصد تجهیزات
B14: درمان
B15: دارو
C18: معاونت توسعه مدیریت و منابع
C19: فرم تخصیص درآمدهای اختصاصی (سهم مرکز و در اختیار ستاد) (ارقام به هزار ریال( ماه .................)
C20: 30303 - 30301(بیمارستان تفرش) | D20: سهم مرکز | E20: (سیاستگزاری ستاد) | F20: 1.5 درصد اورژانس | G20: 2 درصد رفاهی | H20: 1 درصد پژوهش | I20: 1 درصد آموزش | J20: 5 درصد ستاد | K20: 3 درصد خارج از شمول | L20: 5 درصد تجهیزات | M20: جمع
C21: فصل اول
C22: حقوق و مزایای طرح لایحه | M22: =SUM(D22:L22) -> 0
C23: حقوق و مزایای تبصره 4 | M23: =SUM(D23:L23) -> 0
C24: حقوق و مزایای تبصره 3 | M24: =SUM(D24:L24) -> 0
C25: اضافه کار | M25: =SUM(D25:L25) -> 0
C26: محرومیت از مطب | M26: =SUM(D26:L26) -> 0
C27: طرح تمام وقتی و آنکال | M27: =SUM(D27:L27) -> 0
C28: حق مدیریت(خارج از شمول) | M28: =SUM(D28:L28) -> 0
C29: عیدی | M29: =SUM(D29:L29) -> 0
C30: حق مسکن | M30: =SUM(D30:L30) -> 0
C31: سنوات و مرخصی بازنشسته | M31: =SUM(D31:L31) -> 0
C32: سنوات و مرخصی تبصره 3-4 | M32: =SUM(D32:L32) -> 0
C33: مرخصی تبصره 4 | M33: =SUM(D33:L33) -> 0
... C35: سایر2 | M35: =SUM(D35:L35) -> 0
C36: جمع فصل اول | D36: =SUM(D21:D35) -> 0 | E36: =SUM(E21:E35) -> 0 | F36: =SUM(F21:F35) -> 0 | G36: =SUM(G21:G35) -> 0 | H36: =SUM(H21:H35) -> 0 | I36: =SUM(I21:I35) -> 0 | J36: =SUM(J21:J35) -> 0 | K36: =SUM(K21:K35) -> 0 | ... M36: =SUM(M21:M35) -> 0
C37: فصل دوم
C38: مبتنی بر عملکرد پزشکان | M38: =SUM(D38:L38) -> 0
C39: مبتنی بر عملکرد کارکنان | M39: =SUM(D39:L39) -> 0
C40: ماموریت | M40: =SUM(D40:L40) -> 0
C41: آب | M41: =SUM(D41:L41) -> 0
C42: برق | M42: =SUM(D42:L42) -> 0
C43: گاز | M43: =SUM(D43:L43) -> 0
C44: تلفن | M44: =SUM(D44:L44) -> 0
C45: نفت سفید | M45: =SUM(D45:L45) -> 0
C46: گازوئیل | M46: =SUM(D46:L46) -> 0
C47: بنزین | M47: =SUM(D47:L47) -> 0
C48: هزینه سفر | M48: =SUM(D48:L48) -> 0
C49: قراردادها | M49: =SUM(D49:L49) -> 0
... C56: سایر | M56: =SUM(D56:L56) -> 0
C57: جمع فصل دوم | D57: =SUM(D38:D56) -> 0 | E57: =SUM(E38:E56) -> 0 | F57: =SUM(F38:F56) -> 0 | G57: =SUM(G38:G56) -> 0 | H57: =SUM(H38:H56) -> 0 | I57: =SUM(I38:I56) -> 0 | J57: =SUM(J38:J56) -> 0 | K57: =SUM(K38:K56) -> 0 | ... M57: =SUM(M38:M56) -> 0
C58: فصل سوم
C59: اجاره ساختمان | M59: =SUM(D59:L59) -> 0
C60: سایر | M60: =SUM(D60:L60) -> 0
C61: جمع فصل سوم | D61: =SUM(D59:D60) -> 0 | E61: =SUM(E59:E60) -> 0 | F61: =SUM(F59:F60) -> 0 | G61: =SUM(G59:G60) -> 0 | H61: =SUM(H59:H60) -> 0 | I61: =SUM(I59:I60) -> 0 | J61: =SUM(J59:J60) -> 0 | K61: =SUM(K59:K60) -> 0 | ... M61: =SUM(M59:M60) -> 0
C62: فصل ششم
C63: بیمه حقوق | M63: =SUM(D63:L63) -> 0
C64: سنوات خدمت بازنشسته | M64: =SUM(D64:L64) -> 0
C65: سنوات قراردادی | M65: =SUM(D65:L65) -> 0
C66: بیمه بازنشستگی | M66: =SUM(D66:L66) -> 0
C67: کمک هزینه مسکن | M67: =SUM(D67:L67) -> 0
C68: کمک هزینه مهد کودک | M68: =SUM(D68:L68) -> 0
C69: ازدواج و فوت | M69: =SUM(D69:L69) -> 0
C70: کمک هزینه مسکن | M70: =SUM(D70:L70) -> 0
C71: ورزش و سایر رفاهی | M71: =SUM(D71:L71) -> 0
C72: بیمه تکمیلی جانبازان(خارج از شمول) | M72: =SUM(D72:L72) -> 0
C73: بیمه عمر | M73: =SUM(D73:L73) -> 0
C74: کمک هزینه غذا | M74: =SUM(D74:L74) -> 0
C75: سایر | M75: =SUM(D75:L75) -> 0
C76: جمع فصل ششم | D76: =SUM(D63:D75) -> 0 | E76: =SUM(E63:E75) -> 0 | F76: =SUM(F63:F75) -> 0 | G76: =SUM(G63:G75) -> 0 | H76: =SUM(H63:H75) -> 0 | I76: =SUM(I63:I75) -> 0 | J76: =SUM(J63:J75) -> 0 | K76: =SUM(K63:K75) -> 0 | ... M76: =SUM(M63:M75) -> 0
C77: فصل هفتم
C78: خرید تجهیزات | M78: =SUM(D78:L78) -> 0
C79: خرید انشعابات | M79: =SUM(D79:L79) -> 0
C80: بیمه خودرو | M80: =SUM(D80:L80) -> 0
C81: عوارض و جرایم | M81: =SUM(D81:L81) -> 0
C82: دیون پرسنلی | M82: =SUM(D82:L82) -> 0
C83: دارو | M83: =SUM(D83:L83) -> 0
C84: سایر2 | M84: =SUM(D84:L84) -> 0
C85: جمع فصل هفتم | D85: =SUM(D78:D84) -> 0 | E85: =SUM(E78:E84) -> 0 | F85: =SUM(F78:F84) -> 0 | G85: =SUM(G78:G84) -> 0 | H85: =SUM(H78:H84) -> 0 | I85: =SUM(I78:I84) -> 0 | J85: =SUM(J78:J84) -> 0 | K85: =SUM(K78:K84) -> 0 | ... M85: =SUM(M78:M84) -> 0
C86: جمع کل فصول | D86: =SUM(D36,D57,D61,D76,D85) -> 0 | E86: =SUM(E36,E57,E61,E76,E85) -> 0 | F86: =SUM(F36,F57,F61,F76,F85) -> 0 | G86: =SUM(G36,G57,G61,G76,G85) -> 0 | H86: =SUM(H36,H57,H61,H76,H85) -> 0 | I86: =SUM(I36,I57,I61,I76,I85) -> 0 | J86: =SUM(J36,J57,J61,J76,J85) -> 0 | K86: =SUM(K36,K57,K61,K76,K85) -> 0 | ... M86: =SUM(M36,M57,M61,M76,M85) -> 0

Sheet کلینیک امام رضا
B3: فرم منابع | C3: درآمد اعلام شده واحد | D3: سهم مرکز | E3: بند واو تطبیق یافته(سیاستگزاری ستاد) | F3: 1.5 درصد اورژانس | G3: 2 درصد رفاهی | H3: 1 درصد پژوهش | J3: 5 درصد ستاد | K3: 3 درصد خارج از شمول | L3: 5 درصد تجهیزات
B4: درمان
B5: دارو
B8: فرم مصارف | C8: درآمد اعلام شده واحد | D8: سهم مرکز | E8: بند واو تطبیق یافته(سیاستگزاری ستاد) | F8: 1.5 درصد اورژانس | G8: 2 درصد رفاهی | H8: 1 درصد پژوهش | J8: 5 درصد ستاد | K8: 3 درصد خارج از شمول | L8: 5 درصد تجهیزات
B9: درمان
B10: دارو
B13: فرم مانده | C13: درآمد اعلام شده واحد | D13: سهم مرکز | E13: بند واو تطبیق یافته(سیاستگزاری ستاد) | F13: 1.5 درصد اورژانس | G13: 2 درصد رفاهی | H13: 1 درصد پژوهش | J13: 5 درصد ستاد | K13: 3 درصد خارج از شمول | L13: 5 درصد تجهیزات
B14: درمان
B15: دارو
C18: معاونت توسعه مدیریت و منابع
C19: فرم تخصیص درآمدهای اختصاصی (سهم مرکز و در اختیار ستاد) (ارقام به هزار ریال( ماه .................)
C20: 30303 - 30301(کلینیک امام رضا ع) | D20: سهم مرکز | E20: (سیاستگزاری ستاد) | F20: 1.5 درصد اورژانس | G20: 2 درصد رفاهی | H20: 1 درصد پژوهش | I20: 1 درصد آموزش | J20: 5 درصد ستاد | K20: 3 درصد خارج از شمول | L20: 5 درصد تجهیزات | M20: جمع
C21: فصل اول
C22: حقوق و مزایای طرح لایحه | M22: =SUM(D22:L22) -> 0
C23: حقوق و مزایای تبصره 4 | M23: =SUM(D23:L23) -> 0
C24: حقوق و مزایای تبصره 3 | M24: =SUM(D24:L24) -> 0
C25: اضافه کار | M25: =SUM(D25:L25) -> 0
C26: محرومیت از مطب | M26: =SUM(D26:L26) -> 0
C27: طرح تمام وقتی و آنکال | M27: =SUM(D27:L27) -> 0
C28: حق مدیریت(خارج از شمول) | M28: =SUM(D28:L28) -> 0
C29: عیدی | M29: =SUM(D29:L29) -> 0
C30: حق مسکن | M30: =SUM(D30:L30) -> 0
C31: سنوات و مرخصی بازنشسته | M31: =SUM(D31:L31) -> 0
C32: سنوات و مرخصی تبصره 3-4 | M32: =SUM(D32:L32) -> 0
C33: مرخصی تبصره 4 | M33: =SUM(D33:L33) -> 0
... C35: سایر2 | M35: =SUM(D35:L35) -> 0
C36: جمع فصل اول | D36: =SUM(D21:D35) -> 0 | E36: =SUM(E21:E35) -> 0 | F36: =SUM(F21:F35) -> 0 | G36: =SUM(G21:G35) -> 0 | H36: =SUM(H21:H35) -> 0 | I36: =SUM(I21:I35) -> 0 | J36: =SUM(J21:J35) -> 0 | K36: =SUM(K21:K35) -> 0 | ... M36: =SUM(M21:M35) -> 0
C37: فصل دوم
C38: مبتنی بر عملکرد پزشکان | M38: =SUM(D38:L38) -> 0
C39: مبتنی بر عملکرد کارکنان | M39: =SUM(D39:L39) -> 0
C40: ماموریت | M40: =SUM(D40:L40) -> 0
C41: آب | M41: =SUM(D41:L41) -> 0
C42: برق | M42: =SUM(D42:L42) -> 0
C43: گاز | M43: =SUM(D43:L43) -> 0
C44: تلفن | M44: =SUM(D44:L44) -> 0
C45: نفت سفید | M45: =SUM(D45:L45) -> 0
C46: گازوئیل | M46: =SUM(D46:L46) -> 0
C47: بنزین | M47: =SUM(D47:L47) -> 0
C48: هزینه سفر | M48: =SUM(D48:L48) -> 0
C49: قراردادها | M49: =SUM(D49:L49) -> 0
... C56: سایر | M56: =SUM(D56:L56) -> 0
C57: جمع فصل دوم | D57: =SUM(D38:D56) -> 0 | E57: =SUM(E38:E56) -> 0 | F57: =SUM(F38:F56) -> 0 | G57: =SUM(G38:G56) -> 0 | H57: =SUM(H38:H56) -> 0 | I57: =SUM(I38:I56) -> 0 | J57: =SUM(J38:J56) -> 0 | K57: =SUM(K38:K56) -> 0 | ... M57: =SUM(M38:M56) -> 0
C58: فصل سوم
C59: اجاره ساختمان | M59: =SUM(D59:L59) -> 0
C60: سایر | M60: =SUM(D60:L60) -> 0
C61: جمع فصل سوم | D61: =SUM(D59:D60) -> 0 | E61: =SUM(E59:E60) -> 0 | F61: =SUM(F59:F60) -> 0 | G61: =SUM(G59:G60) -> 0 | H61: =SUM(H59:H60) -> 0 | I61: =SUM(I59:I60) -> 0 | J61: =SUM(J59:J60) -> 0 | K61: =SUM(K59:K60) -> 0 | ... M61: =SUM(M59:M60) -> 0
C62: فصل ششم
C63: بیمه حقوق | M63: =SUM(D63:L63) -> 0
C64: سنوات خدمت بازنشسته | M64: =SUM(D64:L64) -> 0
C65: سنوات قراردادی | M65: =SUM(D65:L65) -> 0
C66: بیمه بازنشستگی | M66: =SUM(D66:L66) -> 0
C67: کمک هزینه مسکن | M67: =SUM(D67:L67) -> 0
C68: کمک هزینه مهد کودک | M68: =SUM(D68:L68) -> 0
C69: ازدواج و فوت | M69: =SUM(D69:L69) -> 0
C70: کمک هزینه مسکن | M70: =SUM(D70:L70) -> 0
C71: ورزش و سایر رفاهی | M71: =SUM(D71:L71) -> 0
C72: بیمه تکمیلی جانبازان(خارج از شمول) | M72: =SUM(D72:L72) -> 0
C73: بیمه عمر | M73: =SUM(D73:L73) -> 0
C74: کمک هزینه غذا | M74: =SUM(D74:L74) -> 0
C75: سایر | M75: =SUM(D75:L75) -> 0
C76: جمع فصل ششم | D76: =SUM(D63:D75) -> 0 | E76: =SUM(E63:E75) -> 0 | F76: =SUM(F63:F75) -> 0 | G76: =SUM(G63:G75) -> 0 | H76: =SUM(H63:H75) -> 0 | I76: =SUM(I63:I75) -> 0 | J76: =SUM(J63:J75) -> 0 | K76: =SUM(K63:K75) -> 0 | ... M76: =SUM(M63:M75) -> 0
C77: فصل هفتم
C78: خرید تجهیزات | M78: =SUM(D78:L78) -> 0
C79: خرید انشعابات | M79: =SUM(D79:L79) -> 0
C80: بیمه خودرو | M80: =SUM(D80:L80) -> 0
C81: عوارض و جرایم | M81: =SUM(D81:L81) -> 0
C82: دیون پرسنلی | M82: =SUM(D82:L82) -> 0
C83: دارو | M83: =SUM(D83:L83) -> 0
C84: سایر2 | M84: =SUM(D84:L84) -> 0
C85: جمع فصل هفتم | D85: =SUM(D78:D84) -> 0 | E85: =SUM(E78:E84) -> 0 | F85: =SUM(F78:F84) -> 0 | G85: =SUM(G78:G84) -> 0 | H85: =SUM(H78:H84) -> 0 | I85: =SUM(I78:I84) -> 0 | J85: =SUM(J78:J84) -> 0 | K85: =SUM(K78:K84) -> 0 | ... M85: =SUM(M78:M84) -> 0
C86: جمع کل فصول | D86: =SUM(D36,D57,D61,D76,D85) -> 0 | E86: =SUM(E36,E57,E61,E76,E85) -> 0 | F86: =SUM(F36,F57,F61,F76,F85) -> 0 | G86: =SUM(G36,G57,G61,G76,G85) -> 0 | H86: =SUM(H36,H57,H61,H76,H85) -> 0 | I86: =SUM(I36,I57,I61,I76,I85) -> 0 | J86: =SUM(J36,J57,J61,J76,J85) -> 0 | K86: =SUM(K36,K57,K61,K76,K85) -> 0 | ... M86: =SUM(M36,M57,M61,M76,M85) -> 0

Sheet کلینیک کوثر
B3: فرم منابع | C3: درآمد اعلام شده واحد | D3: سهم مرکز | E3: بند واو تطبیق یافته(سیاستگزاری ستاد) | F3: 1.5 درصد اورژانس | G3: 2 درصد رفاهی | H3: 1 درصد پژوهش | J3: 5 درصد ستاد | K3: 3 درصد خارج از شمول | L3: 5 درصد تجهیزات
B4: درمان
B5: دارو
B8: فرم مصارف | C8: درآمد اعلام شده واحد | D8: سهم مرکز | E8: بند واو تطبیق یافته(سیاستگزاری ستاد) | F8: 1.5 درصد اورژانس | G8: 2 درصد رفاهی | H8: 1 درصد پژوهش | J8: 5 درصد ستاد | K8: 3 درصد خارج از شمول | L8: 5 درصد تجهیزات
B9: درمان
B10: دارو
B13: فرم مانده | C13: درآمد اعلام شده واحد | D13: سهم مرکز | E13: بند واو تطبیق یافته(سیاستگزاری ستاد) | F13: 1.5 درصد اورژانس | G13: 2 درصد رفاهی | H13: 1 درصد پژوهش | J13: 5 درصد ستاد | K13: 3 درصد خارج از شمول | L13: 5 درصد تجهیزات
B14: درمان
B15: دارو
C18: معاونت توسعه مدیریت و منابع
C19: فرم تخصیص درآمدهای اختصاصی (سهم مرکز و در اختیار ستاد) (ارقام به هزار ریال( ماه .................)
C20: 30303 - 30301(کلینیک کوثر) | D20: سهم مرکز | E20: (سیاستگزاری ستاد) | F20: 1.5 درصد اورژانس | G20: 2 درصد رفاهی | H20: 1 درصد پژوهش | I20: 1 درصد آموزش | J20: 5 درصد ستاد | K20: 3 درصد خارج از شمول | L20: 5 درصد تجهیزات | M20: جمع
C21: فصل اول
C22: حقوق و مزایای طرح لایحه | M22: =SUM(D22:L22) -> 0
C23: حقوق و مزایای تبصره 4 | M23: =SUM(D23:L23) -> 0
C24: حقوق و مزایای تبصره 3 | M24: =SUM(D24:L24) -> 0
C25: اضافه کار | M25: =SUM(D25:L25) -> 0
C26: محرومیت از مطب | M26: =SUM(D26:L26) -> 0
C27: طرح تمام وقتی و آنکال | M27: =SUM(D27:L27) -> 0
C28: حق مدیریت(خارج از شمول) | M28: =SUM(D28:L28) -> 0
C29: عیدی | M29: =SUM(D29:L29) -> 0
C30: حق مسکن | M30: =SUM(D30:L30) -> 0
C31: سنوات و مرخصی بازنشسته | M31: =SUM(D31:L31) -> 0
C32: سنوات و مرخصی تبصره 3-4 | M32: =SUM(D32:L32) -> 0
C33: مرخصی تبصره 4 | M33: =SUM(D33:L33) -> 0
... C35: سایر2 | M35: =SUM(D35:L35) -> 0
C36: جمع فصل اول | D36: =SUM(D21:D35) -> 0 | E36: =SUM(E21:E35) -> 0 | F36: =SUM(F21:F35) -> 0 | G36: =SUM(G21:G35) -> 0 | H36: =SUM(H21:H35) -> 0 | I36: =SUM(I21:I35) -> 0 | J36: =SUM(J21:J35) -> 0 | K36: =SUM(K21:K35) -> 0 | ... M36: =SUM(M21:M35) -> 0
C37: فصل دوم
C38: مبتنی بر عملکرد پزشکان | M38: =SUM(D38:L38) -> 0
C39: مبتنی بر عملکرد کارکنان | M39: =SUM(D39:L39) -> 0
C40: ماموریت | M40: =SUM(D40:L40) -> 0
C41: آب | M41: =SUM(D41:L41) -> 0
C42: برق | M42: =SUM(D42:L42) -> 0
C43: گاز | M43: =SUM(D43:L43) -> 0
C44: تلفن | M44: =SUM(D44:L44) -> 0
C45: نفت سفید | M45: =SUM(D45:L45) -> 0
C46: گازوئیل | M46: =SUM(D46:L46) -> 0
C47: بنزین | M47: =SUM(D47:L47) -> 0
C48: هزینه سفر | M48: =SUM(D48:L48) -> 0
C49: قراردادها | M49: =SUM(D49:L49) -> 0
... C56: سایر | M56: =SUM(D56:L56) -> 0
C57: جمع فصل دوم | D57: =SUM(D38:D56) -> 0 | E57: =SUM(E38:E56) -> 0 | F57: =SUM(F38:F56) -> 0 | G57: =SUM(G38:G56) -> 0 | H57: =SUM(H38:H56) -> 0 | I57: =SUM(I38:I56) -> 0 | J57: =SUM(J38:J56) -> 0 | K57: =SUM(K38:K56) -> 0 | ... M57: =SUM(M38:M56) -> 0
C58: فصل سوم
C59: اجاره ساختمان | M59: =SUM(D59:L59) -> 0
C60: سایر | M60: =SUM(D60:L60) -> 0
C61: جمع فصل سوم | D61: =SUM(D59:D60) -> 0 | E61: =SUM(E59:E60) -> 0 | F61: =SUM(F59:F60) -> 0 | G61: =SUM(G59:G60) -> 0 | H61: =SUM(H59:H60) -> 0 | I61: =SUM(I59:I60) -> 0 | J61: =SUM(J59:J60) -> 0 | K61: =SUM(K59:K60) -> 0 | ... M61: =SUM(M59:M60) -> 0
C62: فصل ششم
C63: بیمه حقوق | M63: =SUM(D63:L63) -> 0
C64: سنوات خدمت بازنشسته | M64: =SUM(D64:L64) -> 0
C65: سنوات قراردادی | M65: =SUM(D65:L65) -> 0
C66: بیمه بازنشستگی | M66: =SUM(D66:L66) -> 0
C67: کمک هزینه مسکن | M67: =SUM(D67:L67) -> 0
C68: کمک هزینه مهد کودک | M68: =SUM(D68:L68) -> 0
C69: ازدواج و فوت | M69: =SUM(D69:L69) -> 0
C70: کمک هزینه مسکن | M70: =SUM(D70:L70) -> 0
C71: ورزش و سایر رفاهی | M71: =SUM(D71:L71) -> 0
C72: بیمه تکمیلی جانبازان(خارج از شمول) | M72: =SUM(D72:L72) -> 0
C73: بیمه عمر | M73: =SUM(D73:L73) -> 0
C74: کمک هزینه غذا | M74: =SUM(D74:L74) -> 0
C75: سایر | M75: =SUM(D75:L75) -> 0
C76: جمع فصل ششم | D76: =SUM(D63:D75) -> 0 | E76: =SUM(E63:E75) -> 0 | F76: =SUM(F63:F75) -> 0 | G76: =SUM(G63:G75) -> 0 | H76: =SUM(H63:H75) -> 0 | I76: =SUM(I63:I75) -> 0 | J76: =SUM(J63:J75) -> 0 | K76: =SUM(K63:K75) -> 0 | ... M76: =SUM(M63:M75) -> 0
C77: فصل هفتم
C78: خرید تجهیزات | M78: =SUM(D78:L78) -> 0
C79: خرید انشعابات | M79: =SUM(D79:L79) -> 0
C80: بیمه خودرو | M80: =SUM(D80:L80) -> 0
C81: عوارض و جرایم | M81: =SUM(D81:L81) -> 0
C82: دیون پرسنلی | M82: =SUM(D82:L82) -> 0
C83: دارو | M83: =SUM(D83:L83) -> 0
C84: سایر2 | M84: =SUM(D84:L84) -> 0
C85: جمع فصل هفتم | D85: =SUM(D78:D84) -> 0 | E85: =SUM(E78:E84) -> 0 | F85: =SUM(F78:F84) -> 0 | G85: =SUM(G78:G84) -> 0 | H85: =SUM(H78:H84) -> 0 | I85: =SUM(I78:I84) -> 0 | J85: =SUM(J78:J84) -> 0 | K85: =SUM(K78:K84) -> 0 | ... M85: =SUM(M78:M84) -> 0
C86: جمع کل فصول | D86: =SUM(D36,D57,D61,D76,D85) -> 0 | E86: =SUM(E36,E57,E61,E76,E85) -> 0 | F86: =SUM(F36,F57,F61,F76,F85) -> 0 | G86: =SUM(G36,G57,G61,G76,G85) -> 0 | H86: =SUM(H36,H57,H61,H76,H85) -> 0 | I86: =SUM(I36,I57,I61,I76,I85) -> 0 | J86: =SUM(J36,J57,J61,J76,J85) -> 0 | K86: =SUM(K36,K57,K61,K76,K85) -> 0 | ... M86: =SUM(M36,M57,M61,M76,M85) -> 0

Sheet معاونت بهداشتی
B3: فرم منابع | C3: درآمد اعلام شده واحد | D3: سهم مرکز | E3: بند واو تطبیق یافته(سیاستگزاری ستاد) | F3: 1.5 درصد اورژانس | G3: 2 درصد رفاهی | H3: 1 درصد پژوهش | J3: 5 درصد ستاد | K3: 3 درصد خارج از شمول | L3: 5 درصد تجهیزات
B4: درمان
B5: دارو
B8: فرم مصارف | C8: درآمد اعلام شده واحد | D8: سهم مرکز | E8: بند واو تطبیق یافته(سیاستگزاری ستاد) | F8: 1.5 درصد اورژانس | G8: 2 درصد رفاهی | H8: 1 درصد پژوهش | J8: 5 درصد ستاد | K8: 3 درصد خارج از شمول | L8: 5 درصد تجهیزات
B9: درمان
B10: دارو
B13: فرم مانده | C13: درآمد اعلام شده واحد | D13: سهم مرکز | E13: بند واو تطبیق یافته(سیاستگزاری ستاد) | F13: 1.5 درصد اورژانس | G13: 2 درصد رفاهی | H13: 1 درصد پژوهش | J13: 5 درصد ستاد | K13: 3 درصد خارج از شمول | L13: 5 درصد تجهیزات
B14: درمان
B15: دارو
C18: معاونت توسعه مدیریت و منابع
C19: فرم تخصیص درآمدهای اختصاصی (سهم مرکز و در اختیار ستاد) (ارقام به هزار ریال( ماه .................)
C20: 30303 - 30301 | D20: سهم مرکز | E20: (سیاستگزاری ستاد) | F20: 1.5 درصد اورژانس | G20: 2 درصد رفاهی | H20: 1 درصد پژوهش | I20: 1 درصد آموزش | J20: 5 درصد ستاد | K20: 3 درصد خارج از شمول | L20: 5 درصد تجهیزات | M20: جمع
C21: فصل اول
C22: حقوق و مزایای طرح لایحه | M22: =SUM(D22:L22) -> 0
C23: حقوق و مزایای تبصره 4 | M23: =SUM(D23:L23) -> 0
C24: حقوق و مزایای تبصره 3 | M24: =SUM(D24:L24) -> 0
C25: اضافه کار | M25: =SUM(D25:L25) -> 0
C26: محرومیت از مطب | M26: =SUM(D26:L26) -> 0
C27: طرح تمام وقتی و آنکال | M27: =SUM(D27:L27) -> 0
C28: حق مدیریت(خارج از شمول) | M28: =SUM(D28:L28) -> 0
C29: عیدی | M29: =SUM(D29:L29) -> 0
C30: حق مسکن | M30: =SUM(D30:L30) -> 0
C31: سنوات و مرخصی بازنشسته | M31: =SUM(D31:L31) -> 0
C32: سنوات و مرخصی تبصره 3-4 | M32: =SUM(D32:L32) -> 0
C33: مرخصی تبصره 4 | M33: =SUM(D33:L33) -> 0
... C35: سایر2 | M35: =SUM(D35:L35) -> 0
C36: جمع فصل اول | D36: =SUM(D21:D35) -> 0 | E36: =SUM(E21:E35) -> 0 | F36: =SUM(F21:F35) -> 0 | G36: =SUM(G21:G35) -> 0 | H36: =SUM(H21:H35) -> 0 | I36: =SUM(I21:I35) -> 0 | J36: =SUM(J21:J35) -> 0 | K36: =SUM(K21:K35) -> 0 | ... M36: =SUM(M21:M35) -> 0
C37: فصل دوم
C38: مبتنی بر عملکرد پزشکان | M38: =SUM(D38:L38) -> 0
C39: مبتنی بر عملکرد کارکنان | M39: =SUM(D39:L39) -> 0
C40: ماموریت | M40: =SUM(D40:L40) -> 0
C41: آب | M41: =SUM(D41:L41) -> 0
C42: برق | M42: =SUM(D42:L42) -> 0
C43: گاز | M43: =SUM(D43:L43) -> 0
C44: تلفن | M44: =SUM(D44:L44) -> 0
C45: نفت سفید | M45: =SUM(D45:L45) -> 0
C46: گازوئیل | M46: =SUM(D46:L46) -> 0
C47: بنزین | M47: =SUM(D47:L47) -> 0
C48: هزینه سفر | M48: =SUM(D48:L48) -> 0
C49: قراردادها | M49: =SUM(D49:L49) -> 0
... C56: سایر | M56: =SUM(D56:L56) -> 0
C57: جمع فصل دوم | D57: =SUM(D38:D56) -> 0 | E57: =SUM(E38:E56) -> 0 | F57: =SUM(F38:F56) -> 0 | G57: =SUM(G38:G56) -> 0 | H57: =SUM(H38:H56) -> 0 | I57: =SUM(I38:I56) -> 0 | J57: =SUM(J38:J56) -> 0 | K57: =SUM(K38:K56) -> 0 | ... M57: =SUM(M38:M56) -> 0
C58: فصل سوم
C59: اجاره ساختمان | M59: =SUM(D59:L59) -> 0
C60: سایر | M60: =SUM(D60:L60) -> 0
C61: جمع فصل سوم | D61: =SUM(D59:D60) -> 0 | E61: =SUM(E59:E60) -> 0 | F61: =SUM(F59:F60) -> 0 | G61: =SUM(G59:G60) -> 0 | H61: =SUM(H59:H60) -> 0 | I61: =SUM(I59:I60) -> 0 | J61: =SUM(J59:J60) -> 0 | K61: =SUM(K59:K60) -> 0 | ... M61: =SUM(M59:M60) -> 0
C62: فصل ششم
C63: بیمه حقوق | M63: =SUM(D63:L63) -> 0
C64: سنوات خدمت بازنشسته | M64: =SUM(D64:L64) -> 0
C65: سنوات قراردادی | M65: =SUM(D65:L65) -> 0
C66: بیمه بازنشستگی | M66: =SUM(D66:L66) -> 0
C67: کمک هزینه مسکن | M67: =SUM(D67:L67) -> 0
C68: کمک هزینه مهد کودک | M68: =SUM(D68:L68) -> 0
C69: ازدواج و فوت | M69: =SUM(D69:L69) -> 0
C70: کمک هزینه مسکن | M70: =SUM(D70:L70) -> 0
C71: ورزش و سایر رفاهی | M71: =SUM(D71:L71) -> 0
C72: بیمه تکمیلی جانبازان(خارج از شمول) | M72: =SUM(D72:L72) -> 0
C73: بیمه عمر | M73: =SUM(D73:L73) -> 0
C74: کمک هزینه غذا | M74: =SUM(D74:L74) -> 0
C75: سایر | M75: =SUM(D75:L75) -> 0
C76: جمع فصل ششم | D76: =SUM(D63:D75) -> 0 | E76: =SUM(E63:E75) -> 0 | F76: =SUM(F63:F75) -> 0 | G76: =SUM(G63:G75) -> 0 | H76: =SUM(H63:H75) -> 0 | I76: =SUM(I63:I75) -> 0 | J76: =SUM(J63:J75) -> 0 | K76: =SUM(K63:K75) -> 0 | ... M76: =SUM(M63:M75) -> 0
C77: فصل هفتم
C78: خرید تجهیزات | M78: =SUM(D78:L78) -> 0
C79: خرید انشعابات | M79: =SUM(D79:L79) -> 0
C80: بیمه خودرو | M80: =SUM(D80:L80) -> 0
C81: عوارض و جرایم | M81: =SUM(D81:L81) -> 0
C82: دیون پرسنلی | M82: =SUM(D82:L82) -> 0
C83: دارو | M83: =SUM(D83:L83) -> 0
C84: سایر2 | M84: =SUM(D84:L84) -> 0
C85: جمع فصل هفتم | D85: =SUM(D78:D84) -> 0 | E85: =SUM(E78:E84) -> 0 | F85: =SUM(F78:F84) -> 0 | G85: =SUM(G78:G84) -> 0 | H85: =SUM(H78:H84) -> 0 | I85: =SUM(I78:I84) -> 0 | J85: =SUM(J78:J84) -> 0 | K85: =SUM(K78:K84) -> 0 | ... M85: =SUM(M78:M84) -> 0
C86: جمع کل فصول | D86: =SUM(D36,D57,D61,D76,D85) -> 0 | E86: =SUM(E36,E57,E61,E76,E85) -> 0 | F86: =SUM(F36,F57,F61,F76,F85) -> 0 | G86: =SUM(G36,G57,G61,G76,G85) -> 0 | H86: =SUM(H36,H57,H61,H76,H85) -> 0 | I86: =SUM(I36,I57,I61,I76,I85) -> 0 | J86: =SUM(J36,J57,J61,J76,J85) -> 0 | K86: =SUM(K36,K57,K61,K76,K85) -> 0 | ... M86: =SUM(M36,M57,M61,M76,M85) -> 0

Sheet درمانگاه mmt
B3: فرم منابع | C3: درآمد اعلام شده واحد | D3: سهم مرکز | E3: بند واو تطبیق یافته(سیاستگزاری ستاد) | F3: 1.5 درصد اورژانس | G3: 2 درصد رفاهی | H3: 1 درصد پژوهش | J3: 5 درصد ستاد | K3: 3 درصد خارج از شمول | L3: 5 درصد تجهیزات
B4: درمان
B5: دارو
B8: فرم مصارف | C8: درآمد اعلام شده واحد | D8: سهم مرکز | E8: بند واو تطبیق یافته(سیاستگزاری ستاد) | F8: 1.5 درصد اورژانس | G8: 2 درصد رفاهی | H8: 1 درصد پژوهش | J8: 5 درصد ستاد | K8: 3 درصد خارج از شمول | L8: 5 درصد تجهیزات
B9: درمان
B10: دارو
B13: فرم مانده | C13: درآمد اعلام شده واحد | D13: سهم مرکز | E13: بند واو تطبیق یافته(سیاستگزاری ستاد) | F13: 1.5 درصد اورژانس | G13: 2 درصد رفاهی | H13: 1 درصد پژوهش | J13: 5 درصد ستاد | K13: 3 درصد خارج از شمول | L13: 5 درصد تجهیزات
B14: درمان
B15: دارو
C18: معاونت توسعه مدیریت و منابع
C19: فرم تخصیص درآمدهای اختصاصی (سهم مرکز و در اختیار ستاد) (ارقام به هزار ریال( ماه .................)
C20: 30303 - 30301 درمانگاه mmt | D20: سهم مرکز | E20: (سیاستگزاری ستاد) | F20: 1.5 درصد اورژانس | G20: 2 درصد رفاهی | H20: 1 درصد پژوهش | I20: 1 درصد آموزش | J20: 5 درصد ستاد | K20: 3 درصد خارج از شمول | L20: 5 درصد تجهیزات | M20: جمع
C21: فصل اول
C22: حقوق و مزایای طرح لایحه | M22: =SUM(D22:L22) -> 0
C23: حقوق و مزایای تبصره 4 | M23: =SUM(D23:L23) -> 0
C24: حقوق و مزایای تبصره 3 | M24: =SUM(D24:L24) -> 0
C25: اضافه کار | M25: =SUM(D25:L25) -> 0
C26: محرومیت از مطب | M26: =SUM(D26:L26) -> 0
C27: طرح تمام وقتی و آنکال | M27: =SUM(D27:L27) -> 0
C28: حق مدیریت(خارج از شمول) | M28: =SUM(D28:L28) -> 0
C29: عیدی | M29: =SUM(D29:L29) -> 0
C30: حق مسکن | M30: =SUM(D30:L30) -> 0
C31: سنوات و مرخصی بازنشسته | M31: =SUM(D31:L31) -> 0
C32: سنوات و مرخصی تبصره 3-4 | M32: =SUM(D32:L32) -> 0
C33: مرخصی تبصره 4 | M33: =SUM(D33:L33) -> 0
... C35: سایر2 | M35: =SUM(D35:L35) -> 0
C36: جمع فصل اول | D36: =SUM(D21:D35) -> 0 | E36: =SUM(E21:E35) -> 0 | F36: =SUM(F21:F35) -> 0 | G36: =SUM(G21:G35) -> 0 | H36: =SUM(H21:H35) -> 0 | I36: =SUM(I21:I35) -> 0 | J36: =SUM(J21:J35) -> 0 | K36: =SUM(K21:K35) -> 0 | ... M36: =SUM(M21:M35) -> 0
C37: فصل دوم
C38: مبتنی بر عملکرد پزشکان | M38: =SUM(D38:L38) -> 0
C39: مبتنی بر عملکرد کارکنان | M39: =SUM(D39:L39) -> 0
C40: ماموریت | M40: =SUM(D40:L40) -> 0
C41: آب | M41: =SUM(D41:L41) -> 0
C42: برق | M42: =SUM(D42:L42) -> 0
C43: گاز | M43: =SUM(D43:L43) -> 0
C44: تلفن | M44: =SUM(D44:L44) -> 0
C45: نفت سفید | M45: =SUM(D45:L45) -> 0
C46: گازوئیل | M46: =SUM(D46:L46) -> 0
C47: بنزین | M47: =SUM(D47:L47) -> 0
C48: هزینه سفر | M48: =SUM(D48:L48) -> 0
C49: قراردادها | M49: =SUM(D49:L49) -> 0
... C56: سایر | M56: =SUM(D56:L56) -> 0
C57: جمع فصل دوم | D57: =SUM(D38:D56) -> 0 | E57: =SUM(E38:E56) -> 0 | F57: =SUM(F38:F56) -> 0 | G57: =SUM(G38:G56) -> 0 | H57: =SUM(H38:H56) -> 0 | I57: =SUM(I38:I56) -> 0 | J57: =SUM(J38:J56) -> 0 | K57: =SUM(K38:K56) -> 0 | ... M57: =SUM(M38:M56) -> 0
C58: فصل سوم
C59: اجاره ساختمان | M59: =SUM(D59:L59) -> 0
C60: سایر | M60: =SUM(D60:L60) -> 0
C61: جمع فصل سوم | D61: =SUM(D59:D60) -> 0 | E61: =SUM(E59:E60) -> 0 | F61: =SUM(F59:F60) -> 0 | G61: =SUM(G59:G60) -> 0 | H61: =SUM(H59:H60) -> 0 | I61: =SUM(I59:I60) -> 0 | J61: =SUM(J59:J60) -> 0 | K61: =SUM(K59:K60) -> 0 | ... M61: =SUM(M59:M60) -> 0
C62: فصل ششم
C63: بیمه حقوق | M63: =SUM(D63:L63) -> 0
C64: سنوات خدمت بازنشسته | M64: =SUM(D64:L64) -> 0
C65: سنوات قراردادی | M65: =SUM(D65:L65) -> 0
C66: بیمه بازنشستگی | M66: =SUM(D66:L66) -> 0
C67: کمک هزینه مسکن | M67: =SUM(D67:L67) -> 0
C68: کمک هزینه مهد کودک | M68: =SUM(D68:L68) -> 0
C69: ازدواج و فوت | M69: =SUM(D69:L69) -> 0
C70: کمک هزینه مسکن | M70: =SUM(D70:L70) -> 0
C71: ورزش و سایر رفاهی | M71: =SUM(D71:L71) -> 0
C72: بیمه تکمیلی جانبازان(خارج از شمول) | M72: =SUM(D72:L72) -> 0
C73: بیمه عمر | M73: =SUM(D73:L73) -> 0
C74: کمک هزینه غذا | M74: =SUM(D74:L74) -> 0
C75: سایر | M75: =SUM(D75:L75) -> 0
C76: جمع فصل ششم | D76: =SUM(D63:D75) -> 0 | E76: =SUM(E63:E75) -> 0 | F76: =SUM(F63:F75) -> 0 | G76: =SUM(G63:G75) -> 0 | H76: =SUM(H63:H75) -> 0 | I76: =SUM(I63:I75) -> 0 | J76: =SUM(J63:J75) -> 0 | K76: =SUM(K63:K75) -> 0 | ... M76: =SUM(M63:M75) -> 0
C77: فصل هفتم
C78: خرید تجهیزات | M78: =SUM(D78:L78) -> 0
C79: خرید انشعابات | M79: =SUM(D79:L79) -> 0
C80: بیمه خودرو | M80: =SUM(D80:L80) -> 0
C81: عوارض و جرایم | M81: =SUM(D81:L81) -> 0
C82: دیون پرسنلی | M82: =SUM(D82:L82) -> 0
C83: دارو | M83: =SUM(D83:L83) -> 0
C84: سایر2 | M84: =SUM(D84:L84) -> 0
C85: جمع فصل هفتم | D85: =SUM(D78:D84) -> 0 | E85: =SUM(E78:E84) -> 0 | F85: =SUM(F78:F84) -> 0 | G85: =SUM(G78:G84) -> 0 | H85: =SUM(H78:H84) -> 0 | I85: =SUM(I78:I84) -> 0 | J85: =SUM(J78:J84) -> 0 | K85: =SUM(K78:K84) -> 0 | ... M85: =SUM(M78:M84) -> 0
C86: جمع کل فصول | D86: =SUM(D36,D57,D61,D76,D85) -> 0 | E86: =SUM(E36,E57,E61,E76,E85) -> 0 | F86: =SUM(F36,F57,F61,F76,F85) -> 0 | G86: =SUM(G36,G57,G61,G76,G85) -> 0 | H86: =SUM(H36,H57,H61,H76,H85) -> 0 | I86: =SUM(I36,I57,I61,I76,I85) -> 0 | J86: =SUM(J36,J57,J61,J76,J85) -> 0 | K86: =SUM(K36,K57,K61,K76,K85) -> 0 | ... M86: =SUM(M36,M57,M61,M76,M85) -> 0

Sheet دانشکده پرستاری
B3: فرم منابع | C3: درآمد اعلام شده واحد | D3: سهم مرکز | E3: بند واو تطبیق یافته(سیاستگزاری ستاد) | F3: 1.5 درصد اورژانس | G3: 2 درصد رفاهی | H3: 1 درصد پژوهش | J3: 5 درصد ستاد | K3: 3 درصد خارج از شمول | L3: 5 درصد تجهیزات
B4: درمان
B5: دارو
B8: فرم مصارف | C8: درآمد اعلام شده واحد | D8: سهم مرکز | E8: بند واو تطبیق یافته(سیاستگزاری ستاد) | F8: 1.5 درصد اورژانس | G8: 2 درصد رفاهی | H8: 1 درصد پژوهش | J8: 5 درصد ستاد | K8: 3 درصد خارج از شمول | L8: 5 درصد تجهیزات
B9: درمان
B10: دارو
B13: فرم مانده | C13: درآمد اعلام شده واحد | D13: سهم مرکز | E13: بند واو تطبیق یافته(سیاستگزاری ستاد) | F13: 1.5 درصد اورژانس | G13: 2 درصد رفاهی | H13: 1 درصد پژوهش | J13: 5 درصد ستاد | K13: 3 درصد خارج از شمول | L13: 5 درصد تجهیزات
B14: درمان
B15: دارو
C18: معاونت توسعه مدیریت و منابع
C19: فرم تخصیص درآمدهای اختصاصی (سهم مرکز و در اختیار ستاد) (ارقام به هزار ریال( ماه .................)
C20: 30303 - 30301 | D20: سهم مرکز | E20: (سیاستگزاری ستاد) | F20: 1.5 درصد اورژانس | G20: 2 درصد رفاهی | H20: 1 درصد پژوهش | I20: 1 درصد آموزش | J20: 5 درصد ستاد | K20: 3 درصد خارج از شمول | L20: 5 درصد تجهیزات | M20: جمع
C21: فصل اول
C22: حقوق و مزایای طرح لایحه | M22: =SUM(D22:L22) -> 0
C23: حقوق و مزایای تبصره 4 | M23: =SUM(D23:L23) -> 0
C24: حقوق و مزایای تبصره 3 | M24: =SUM(D24:L24) -> 0
C25: اضافه کار | M25: =SUM(D25:L25) -> 0
C26: محرومیت از مطب | M26: =SUM(D26:L26) -> 0
C27: طرح تمام وقتی و آنکال | M27: =SUM(D27:L27) -> 0
C28: حق مدیریت(خارج از شمول) | M28: =SUM(D28:L28) -> 0
C29: عیدی | M29: =SUM(D29:L29) -> 0
C30: حق مسکن | M30: =SUM(D30:L30) -> 0
C31: سنوات و مرخصی بازنشسته | M31: =SUM(D31:L31) -> 0
C32: سنوات و مرخصی تبصره 3-4 | M32: =SUM(D32:L32) -> 0
C33: مرخصی تبصره 4 | M33: =SUM(D33:L33) -> 0
... C35: سایر2 | M35: =SUM(D35:L35) -> 0
C36: جمع فصل اول | D36: =SUM(D21:D35) -> 0 | E36: =SUM(E21:E35) -> 0 | F36: =SUM(F21:F35) -> 0 | G36: =SUM(G21:G35) -> 0 | H36: =SUM(H21:H35) -> 0 | I36: =SUM(I21:I35) -> 0 | J36: =SUM(J21:J35) -> 0 | K36: =SUM(K21:K35) -> 0 | ... M36: =SUM(M21:M35) -> 0
C37: فصل دوم
C38: مبتنی بر عملکرد پزشکان | M38: =SUM(D38:L38) -> 0
C39: مبتنی بر عملکرد کارکنان | M39: =SUM(D39:L39) -> 0
C40: ماموریت | M40: =SUM(D40:L40) -> 0
C41: آب | M41: =SUM(D41:L41) -> 0
C42: برق | M42: =SUM(D42:L42) -> 0
C43: گاز | M43: =SUM(D43:L43) -> 0
C44: تلفن | M44: =SUM(D44:L44) -> 0
C45: نفت سفید | M45: =SUM(D45:L45) -> 0
C46: گازوئیل | M46: =SUM(D46:L46) -> 0
C47: بنزین | M47: =SUM(D47:L47) -> 0
C48: هزینه سفر | M48: =SUM(D48:L48) -> 0
C49: قراردادها | M49: =SUM(D49:L49) -> 0
... C56: سایر | M56: =SUM(D56:L56) -> 0
C57: جمع فصل دوم | D57: =SUM(D38:D56) -> 0 | E57: =SUM(E38:E56) -> 0 | F57: =SUM(F38:F56) -> 0 | G57: =SUM(G38:G56) -> 0 | H57: =SUM(H38:H56) -> 0 | I57: =SUM(I38:I56) -> 0 | J57: =SUM(J38:J56) -> 0 | K57: =SUM(K38:K56) -> 0 | ... M57: =SUM(M38:M56) -> 0
C58: فصل سوم
C59: اجاره ساختمان | M59: =SUM(D59:L59) -> 0
C60: سایر | M60: =SUM(D60:L60) -> 0
C61: جمع فصل سوم | D61: =SUM(D59:D60) -> 0 | E61: =SUM(E59:E60) -> 0 | F61: =SUM(F59:F60) -> 0 | G61: =SUM(G59:G60) -> 0 | H61: =SUM(H59:H60) -> 0 | I61: =SUM(I59:I60) -> 0 | J61: =SUM(J59:J60) -> 0 | K61: =SUM(K59:K60) -> 0 | ... M61: =SUM(M59:M60) -> 0
C62: فصل ششم
C63: بیمه حقوق | M63: =SUM(D63:L63) -> 0
C64: سنوات خدمت بازنشسته | M64: =SUM(D64:L64) -> 0
C65: سنوات قراردادی | M65: =SUM(D65:L65) -> 0
C66: بیمه بازنشستگی | M66: =SUM(D66:L66) -> 0
C67: کمک هزینه مسکن | M67: =SUM(D67:L67) -> 0
C68: کمک هزینه مهد کودک | M68: =SUM(D68:L68) -> 0
C69: ازدواج و فوت | M69: =SUM(D69:L69) -> 0
C70: کمک هزینه مسکن | M70: =SUM(D70:L70) -> 0
C71: ورزش و سایر رفاهی | M71: =SUM(D71:L71) -> 0
C72: بیمه تکمیلی جانبازان(خارج از شمول) | M72: =SUM(D72:L72) -> 0
C73: بیمه عمر | M73: =SUM(D73:L73) -> 0
C74: کمک هزینه غذا | M74: =SUM(D74:L74) -> 0
C75: سایر | M75: =SUM(D75:L75) -> 0
C76: جمع فصل ششم | D76: =SUM(D63:D75) -> 0 | E76: =SUM(E63:E75) -> 0 | F76: =SUM(F63:F75) -> 0 | G76: =SUM(G63:G75) -> 0 | H76: =SUM(H63:H75) -> 0 | I76: =SUM(I63:I75) -> 0 | J76: =SUM(J63:J75) -> 0 | K76: =SUM(K63:K75) -> 0 | ... M76: =SUM(M63:M75) -> 0
C77: فصل هفتم
C78: خرید تجهیزات | M78: =SUM(D78:L78) -> 0
C79: خرید انشعابات | M79: =SUM(D79:L79) -> 0
C80: بیمه خودرو | M80: =SUM(D80:L80) -> 0
C81: عوارض و جرایم | M81: =SUM(D81:L81) -> 0
C82: دیون پرسنلی | M82: =SUM(D82:L82) -> 0
C83: دارو | M83: =SUM(D83:L83) -> 0
C84: سایر2 | M84: =SUM(D84:L84) -> 0
C85: جمع فصل هفتم | D85: =SUM(D78:D84) -> 0 | E85: =SUM(E78:E84) -> 0 | F85: =SUM(F78:F84) -> 0 | G85: =SUM(G78:G84) -> 0 | H85: =SUM(H78:H84) -> 0 | I85: =SUM(I78:I84) -> 0 | J85: =SUM(J78:J84) -> 0 | K85: =SUM(K78:K84) -> 0 | ... M85: =SUM(M78:M84) -> 0
C86: جمع کل فصول | D86: =SUM(D36,D57,D61,D76,D85) -> 0 | E86: =SUM(E36,E57,E61,E76,E85) -> 0 | F86: =SUM(F36,F57,F61,F76,F85) -> 0 | G86: =SUM(G36,G57,G61,G76,G85) -> 0 | H86: =SUM(H36,H57,H61,H76,H85) -> 0 | I86: =SUM(I36,I57,I61,I76,I85) -> 0 | J86: =SUM(J36,J57,J61,J76,J85) -> 0 | K86: =SUM(K36,K57,K61,K76,K85) -> 0 | ... M86: =SUM(M36,M57,M61,M76,M85) -> 0

Sheet دانشکده پزشکی
B3: فرم منابع | C3: درآمد اعلام شده واحد | D3: سهم مرکز | E3: بند واو تطبیق یافته(سیاستگزاری ستاد) | F3: 1.5 درصد اورژانس | G3: 2 درصد رفاهی | H3: 1 درصد پژوهش | J3: 5 درصد ستاد | K3: 3 درصد خارج از شمول | L3: 5 درصد تجهیزات
B4: درمان
B5: دارو
B8: فرم مصارف | C8: درآمد اعلام شده واحد | D8: سهم مرکز | E8: بند واو تطبیق یافته(سیاستگزاری ستاد) | F8: 1.5 درصد اورژانس | G8: 2 درصد رفاهی | H8: 1 درصد پژوهش | J8: 5 درصد ستاد | K8: 3 درصد خارج از شمول | L8: 5 درصد تجهیزات
B9: درمان
B10: دارو
B13: فرم مانده | C13: درآمد اعلام شده واحد | D13: سهم مرکز | E13: بند واو تطبیق یافته(سیاستگزاری ستاد) | F13: 1.5 درصد اورژانس | G13: 2 درصد رفاهی | H13: 1 درصد پژوهش | J13: 5 درصد ستاد | K13: 3 درصد خارج از شمول | L13: 5 درصد تجهیزات
B14: درمان
B15: دارو
C18: معاونت توسعه مدیریت و منابع
C19: فرم تخصیص درآمدهای اختصاصی (سهم مرکز و در اختیار ستاد) (ارقام به هزار ریال( ماه .................)
C20: 30303 - 30301(دانشکده پزشکی ودندان پزشکی) | D20: سهم مرکز | E20: (سیاستگزاری ستاد) | F20: 1.5 درصد اورژانس | G20: 2 درصد رفاهی | H20: 1 درصد پژوهش | I20: 1 درصد آموزش | J20: 5 درصد ستاد | K20: 3 درصد خارج از شمول | L20: 5 درصد تجهیزات | M20: جمع
C21: فصل اول
C22: حقوق و مزایای طرح لایحه | M22: =SUM(D22:L22) -> 0
C23: حقوق و مزایای تبصره 4 | M23: =SUM(D23:L23) -> 0
C24: حقوق و مزایای تبصره 3 | M24: =SUM(D24:L24) -> 0
C25: اضافه کار | M25: =SUM(D25:L25) -> 0
C26: محرومیت از مطب | M26: =SUM(D26:L26) -> 0
C27: طرح تمام وقتی و آنکال | M27: =SUM(D27:L27) -> 0
C28: حق مدیریت(خارج از شمول) | M28: =SUM(D28:L28) -> 0
C29: عیدی | M29: =SUM(D29:L29) -> 0
C30: حق مسکن | M30: =SUM(D30:L30) -> 0
C31: سنوات و مرخصی بازنشسته | M31: =SUM(D31:L31) -> 0
C32: سنوات و مرخصی تبصره 3-4 | M32: =SUM(D32:L32) -> 0
C33: مرخصی تبصره 4 | M33: =SUM(D33:L33) -> 0
... C35: سایر2 | M35: =SUM(D35:L35) -> 0
C36: جمع فصل اول | D36: =SUM(D21:D35) -> 0 | E36: =SUM(E21:E35) -> 0 | F36: =SUM(F21:F35) -> 0 | G36: =SUM(G21:G35) -> 0 | H36: =SUM(H21:H35) -> 0 | I36: =SUM(I21:I35) -> 0 | J36: =SUM(J21:J35) -> 0 | K36: =SUM(K21:K35) -> 0 | ... M36: =SUM(M21:M35) -> 0
C37: فصل دوم
C38: مبتنی بر عملکرد پزشکان | M38: =SUM(D38:L38) -> 0
C39: مبتنی بر عملکرد کارکنان | M39: =SUM(D39:L39) -> 0
C40: ماموریت | M40: =SUM(D40:L40) -> 0
C41: آب | M41: =SUM(D41:L41) -> 0
C42: برق | M42: =SUM(D42:L42) -> 0
C43: گاز | M43: =SUM(D43:L43) -> 0
C44: تلفن | M44: =SUM(D44:L44) -> 0
C45: نفت سفید | M45: =SUM(D45:L45) -> 0
C46: گازوئیل | M46: =SUM(D46:L46) -> 0
C47: بنزین | M47: =SUM(D47:L47) -> 0
C48: هزینه سفر | M48: =SUM(D48:L48) -> 0
C49: قراردادها | M49: =SUM(D49:L49) -> 0
... C56: سایر | M56: =SUM(D56:L56) -> 0
C57: جمع فصل دوم | D57: =SUM(D38:D56) -> 0 | E57: =SUM(E38:E56) -> 0 | F57: =SUM(F38:F56) -> 0 | G57: =SUM(G38:G56) -> 0 | H57: =SUM(H38:H56) -> 0 | I57: =SUM(I38:I56) -> 0 | J57: =SUM(J38:J56) -> 0 | K57: =SUM(K38:K56) -> 0 | ... M57: =SUM(M38:M56) -> 0
C58: فصل سوم
C59: اجاره ساختمان | M59: =SUM(D59:L59) -> 0
C60: سایر | M60: =SUM(D60:L60) -> 0
C61: جمع فصل سوم | D61: =SUM(D59:D60) -> 0 | E61: =SUM(E59:E60) -> 0 | F61: =SUM(F59:F60) -> 0 | G61: =SUM(G59:G60) -> 0 | H61: =SUM(H59:H60) -> 0 | I61: =SUM(I59:I60) -> 0 | J61: =SUM(J59:J60) -> 0 | K61: =SUM(K59:K60) -> 0 | ... M61: =SUM(M59:M60) -> 0
C62: فصل ششم
C63: بیمه حقوق | M63: =SUM(D63:L63) -> 0
C64: سنوات خدمت بازنشسته | M64: =SUM(D64:L64) -> 0
C65: سنوات قراردادی | M65: =SUM(D65:L65) -> 0
C66: بیمه بازنشستگی | M66: =SUM(D66:L66) -> 0
C67: کمک هزینه مسکن | M67: =SUM(D67:L67) -> 0
C68: کمک هزینه مهد کودک | M68: =SUM(D68:L68) -> 0
C69: ازدواج و فوت | M69: =SUM(D69:L69) -> 0
C70: کمک هزینه مسکن | M70: =SUM(D70:L70) -> 0
C71: ورزش و سایر رفاهی | M71: =SUM(D71:L71) -> 0
C72: بیمه تکمیلی جانبازان(خارج از شمول) | M72: =SUM(D72:L72) -> 0
C73: بیمه عمر | M73: =SUM(D73:L73) -> 0
C74: کمک هزینه غذا | M74: =SUM(D74:L74) -> 0
C75: سایر | M75: =SUM(D75:L75) -> 0
C76: جمع فصل ششم | D76: =SUM(D63:D75) -> 0 | E76: =SUM(E63:E75) -> 0 | F76: =SUM(F63:F75) -> 0 | G76: =SUM(G63:G75) -> 0 | H76: =SUM(H63:H75) -> 0 | I76: =SUM(I63:I75) -> 0 | J76: =SUM(J63:J75) -> 0 | K76: =SUM(K63:K75) -> 0 | ... M76: =SUM(M63:M75) -> 0
C77: فصل هفتم
C78: خرید تجهیزات | M78: =SUM(D78:L78) -> 0
C79: خرید انشعابات | M79: =SUM(D79:L79) -> 0
C80: بیمه خودرو | M80: =SUM(D80:L80) -> 0
C81: عوارض و جرایم | M81: =SUM(D81:L81) -> 0
C82: دیون پرسنلی | M82: =SUM(D82:L82) -> 0
C83: دارو | M83: =SUM(D83:L83) -> 0
C84: سایر2 | M84: =SUM(D84:L84) -> 0
C85: جمع فصل هفتم | D85: =SUM(D78:D84) -> 0 | E85: =SUM(E78:E84) -> 0 | F85: =SUM(F78:F84) -> 0 | G85: =SUM(G78:G84) -> 0 | H85: =SUM(H78:H84) -> 0 | I85: =SUM(I78:I84) -> 0 | J85: =SUM(J78:J84) -> 0 | K85: =SUM(K78:K84) -> 0 | ... M85: =SUM(M78:M84) -> 0
C86: جمع کل فصول | D86: =SUM(D36,D57,D61,D76,D85) -> 0 | E86: =SUM(E36,E57,E61,E76,E85) -> 0 | F86: =SUM(F36,F57,F61,F76,F85) -> 0 | G86: =SUM(G36,G57,G61,G76,G85) -> 0 | H86: =SUM(H36,H57,H61,H76,H85) -> 0 | I86: =SUM(I36,I57,I61,I76,I85) -> 0 | J86: =SUM(J36,J57,J61,J76,J85) -> 0 | K86: =SUM(K36,K57,K61,K76,K85) -> 0 | ... M86: =SUM(M36,M57,M61,M76,M85) -> 0

Sheet دانشکده پیراپزشکی
B3: فرم منابع | C3: درآمد اعلام شده واحد | D3: سهم مرکز | E3: بند واو تطبیق یافته(سیاستگزاری ستاد) | F3: 1.5 درصد اورژانس | G3: 2 درصد رفاهی | H3: 1 درصد پژوهش | J3: 5 درصد ستاد | K3: 3 درصد خارج از شمول | L3: 5 درصد تجهیزات
B4: درمان
B5: دارو
B8: فرم مصارف | C8: درآمد اعلام شده واحد | D8: سهم مرکز | E8: بند واو تطبیق یافته(سیاستگزاری ستاد) | F8: 1.5 درصد اورژانس | G8: 2 درصد رفاهی | H8: 1 درصد پژوهش | J8: 5 درصد ستاد | K8: 3 درصد خارج از شمول | L8: 5 درصد تجهیزات
B9: درمان
B10: دارو
B13: فرم مانده | C13: درآمد اعلام شده واحد | D13: سهم مرکز | E13: بند واو تطبیق یافته(سیاستگزاری ستاد) | F13: 1.5 درصد اورژانس | G13: 2 درصد رفاهی | H13: 1 درصد پژوهش | J13: 5 درصد ستاد | K13: 3 درصد خارج از شمول | L13: 5 درصد تجهیزات
B14: درمان
B15: دارو
C18: معاونت توسعه مدیریت و منابع
C19: فرم تخصیص درآمدهای اختصاصی (سهم مرکز و در اختیار ستاد) (ارقام به هزار ریال( ماه .................)
C20: 30303 - 30301 | D20: سهم مرکز | E20: (سیاستگزاری ستاد) | F20: 1.5 درصد اورژانس | G20: 2 درصد رفاهی | H20: 1 درصد پژوهش | I20: 1 درصد آموزش | J20: 5 درصد ستاد | K20: 3 درصد خارج از شمول | L20: 5 درصد تجهیزات | M20: جمع
C21: فصل اول
C22: حقوق و مزایای طرح لایحه | M22: =SUM(D22:L22) -> 0
C23: حقوق و مزایای تبصره 4 | M23: =SUM(D23:L23) -> 0
C24: حقوق و مزایای تبصره 3 | M24: =SUM(D24:L24) -> 0
C25: اضافه کار | M25: =SUM(D25:L25) -> 0
C26: محرومیت از مطب | M26: =SUM(D26:L26) -> 0
C27: طرح تمام وقتی و آنکال | M27: =SUM(D27:L27) -> 0
C28: حق مدیریت(خارج از شمول) | M28: =SUM(D28:L28) -> 0
C29: عیدی | M29: =SUM(D29:L29) -> 0
C30: حق مسکن | M30: =SUM(D30:L30) -> 0
C31: سنوات و مرخصی بازنشسته | M31: =SUM(D31:L31) -> 0
C32: سنوات و مرخصی تبصره 3-4 | M32: =SUM(D32:L32) -> 0
C33: مرخصی تبصره 4 | M33: =SUM(D33:L33) -> 0
... C35: سایر2 | M35: =SUM(D35:L35) -> 0
C36: جمع فصل اول | D36: =SUM(D21:D35) -> 0 | E36: =SUM(E21:E35) -> 0 | F36: =SUM(F21:F35) -> 0 | G36: =SUM(G21:G35) -> 0 | H36: =SUM(H21:H35) -> 0 | I36: =SUM(I21:I35) -> 0 | J36: =SUM(J21:J35) -> 0 | K36: =SUM(K21:K35) -> 0 | ... M36: =SUM(M21:M35) -> 0
C37: فصل دوم
C38: مبتنی بر عملکرد پزشکان | M38: =SUM(D38:L38) -> 0
C39: مبتنی بر عملکرد کارکنان | M39: =SUM(D39:L39) -> 0
C40: ماموریت | M40: =SUM(D40:L40) -> 0
C41: آب | M41: =SUM(D41:L41) -> 0
C42: برق | M42: =SUM(D42:L42) -> 0
C43: گاز | M43: =SUM(D43:L43) -> 0
C44: تلفن | M44: =SUM(D44:L44) -> 0
C45: نفت سفید | M45: =SUM(D45:L45) -> 0
C46: گازوئیل | M46: =SUM(D46:L46) -> 0
C47: بنزین | M47: =SUM(D47:L47) -> 0
C48: هزینه سفر | M48: =SUM(D48:L48) -> 0
C49: قراردادها | M49: =SUM(D49:L49) -> 0
... C56: سایر | M56: =SUM(D56:L56) -> 0
C57: جمع فصل دوم | D57: =SUM(D38:D56) -> 0 | E57: =SUM(E38:E56) -> 0 | F57: =SUM(F38:F56) -> 0 | G57: =SUM(G38:G56) -> 0 | H57: =SUM(H38:H56) -> 0 | I57: =SUM(I38:I56) -> 0 | J57: =SUM(J38:J56) -> 0 | K57: =SUM(K38:K56) -> 0 | ... M57: =SUM(M38:M56) -> 0
C58: فصل سوم
C59: اجاره ساختمان | M59: =SUM(D59:L59) -> 0
C60: سایر | M60: =SUM(D60:L60) -> 0
C61: جمع فصل سوم | D61: =SUM(D59:D60) -> 0 | E61: =SUM(E59:E60) -> 0 | F61: =SUM(F59:F60) -> 0 | G61: =SUM(G59:G60) -> 0 | H61: =SUM(H59:H60) -> 0 | I61: =SUM(I59:I60) -> 0 | J61: =SUM(J59:J60) -> 0 | K61: =SUM(K59:K60) -> 0 | ... M61: =SUM(M59:M60) -> 0
C62: فصل ششم
C63: بیمه حقوق | M63: =SUM(D63:L63) -> 0
C64: سنوات خدمت بازنشسته | M64: =SUM(D64:L64) -> 0
C65: سنوات قراردادی | M65: =SUM(D65:L65) -> 0
C66: بیمه بازنشستگی | M66: =SUM(D66:L66) -> 0
C67: کمک هزینه مسکن | M67: =SUM(D67:L67) -> 0
C68: کمک هزینه مهد کودک | M68: =SUM(D68:L68) -> 0
C69: ازدواج و فوت | M69: =SUM(D69:L69) -> 0
C70: کمک هزینه مسکن | M70: =SUM(D70:L70) -> 0
C71: ورزش و سایر رفاهی | M71: =SUM(D71:L71) -> 0
C72: بیمه تکمیلی جانبازان(خارج از شمول) | M72: =SUM(D72:L72) -> 0
C73: بیمه عمر | M73: =SUM(D73:L73) -> 0
C74: کمک هزینه غذا | M74: =SUM(D74:L74) -> 0
C75: سایر | M75: =SUM(D75:L75) -> 0
C76: جمع فصل ششم | D76: =SUM(D63:D75) -> 0 | E76: =SUM(E63:E75) -> 0 | F76: =SUM(F63:F75) -> 0 | G76: =SUM(G63:G75) -> 0 | H76: =SUM(H63:H75) -> 0 | I76: =SUM(I63:I75) -> 0 | J76: =SUM(J63:J75) -> 0 | K76: =SUM(K63:K75) -> 0 | ... M76: =SUM(M63:M75) -> 0
C77: فصل هفتم
C78: خرید تجهیزات | M78: =SUM(D78:L78) -> 0
C79: خرید انشعابات | M79: =SUM(D79:L79) -> 0
C80: بیمه خودرو | M80: =SUM(D80:L80) -> 0
C81: عوارض و جرایم | M81: =SUM(D81:L81) -> 0
C82: دیون پرسنلی | M82: =SUM(D82:L82) -> 0
C83: دارو | M83: =SUM(D83:L83) -> 0
C84: سایر2 | M84: =SUM(D84:L84) -> 0
C85: جمع فصل هفتم | D85: =SUM(D78:D84) -> 0 | E85: =SUM(E78:E84) -> 0 | F85: =SUM(F78:F84) -> 0 | G85: =SUM(G78:G84) -> 0 | H85: =SUM(H78:H84) -> 0 | I85: =SUM(I78:I84) -> 0 | J85: =SUM(J78:J84) -> 0 | K85: =SUM(K78:K84) -> 0 | ... M85: =SUM(M78:M84) -> 0
C86: جمع کل فصول | D86: =SUM(D36,D57,D61,D76,D85) -> 0 | E86: =SUM(E36,E57,E61,E76,E85) -> 0 | F86: =SUM(F36,F57,F61,F76,F85) -> 0 | G86: =SUM(G36,G57,G61,G76,G85) -> 0 | H86: =SUM(H36,H57,H61,H76,H85) -> 0 | I86: =SUM(I36,I57,I61,I76,I85) -> 0 | J86: =SUM(J36,J57,J61,J76,J85) -> 0 | K86: =SUM(K36,K57,K61,K76,K85) -> 0 | ... M86: =SUM(M36,M57,M61,M76,M85) -> 0

Sheet معاونت تحقیقات
B3: فرم منابع | C3: درآمد اعلام شده واحد | D3: سهم مرکز | E3: بند واو تطبیق یافته(سیاستگزاری ستاد) | F3: 1.5 درصد اورژانس | G3: 2 درصد رفاهی | H3: 1 درصد پژوهش | J3: 5 درصد ستاد | K3: 3 درصد خارج از شمول | L3: 5 درصد تجهیزات
B4: درمان
B5: دارو
B8: فرم مصارف | C8: درآمد اعلام شده واحد | D8: سهم مرکز | E8: بند واو تطبیق یافته(سیاستگزاری ستاد) | F8: 1.5 درصد اورژانس | G8: 2 درصد رفاهی | H8: 1 درصد پژوهش | J8: 5 درصد ستاد | K8: 3 درصد خارج از شمول | L8: 5 درصد تجهیزات
B9: درمان
B10: دارو
B13: فرم مانده | C13: درآمد اعلام شده واحد | D13: سهم مرکز | E13: بند واو تطبیق یافته(سیاستگزاری ستاد) | F13: 1.5 درصد اورژانس | G13: 2 درصد رفاهی | H13: 1 درصد پژوهش | J13: 5 درصد ستاد | K13: 3 درصد خارج از شمول | L13: 5 درصد تجهیزات
B14: درمان
B15: دارو
C18: معاونت توسعه مدیریت و منابع
C19: فرم تخصیص درآمدهای اختصاصی (سهم مرکز و در اختیار ستاد) (ارقام به هزار ریال( ماه .................)
C20: 30303 - 30301-معاونت تحقیقات وپژوهش | D20: سهم مرکز | E20: (سیاستگزاری ستاد) | F20: 1.5 درصد اورژانس | G20: 2 درصد رفاهی | H20: 1 درصد پژوهش | I20: 1 درصد آموزش | J20: 5 درصد ستاد | K20: 3 درصد خارج از شمول | L20: 5 درصد تجهیزات | M20: جمع
C21: فصل اول
C22: حقوق و مزایای طرح لایحه | M22: =SUM(D22:L22) -> 0
C23: حقوق و مزایای تبصره 4 | M23: =SUM(D23:L23) -> 0
C24: حقوق و مزایای تبصره 3 | M24: =SUM(D24:L24) -> 0
C25: اضافه کار | M25: =SUM(D25:L25) -> 0
C26: محرومیت از مطب | M26: =SUM(D26:L26) -> 0
C27: طرح تمام وقتی و آنکال | M27: =SUM(D27:L27) -> 0
C28: حق مدیریت(خارج از شمول) | M28: =SUM(D28:L28) -> 0
C29: عیدی | M29: =SUM(D29:L29) -> 0
C30: حق مسکن | M30: =SUM(D30:L30) -> 0
C31: سنوات و مرخصی بازنشسته | M31: =SUM(D31:L31) -> 0
C32: سنوات و مرخصی تبصره 3-4 | M32: =SUM(D32:L32) -> 0
C33: مرخصی تبصره 4 | M33: =SUM(D33:L33) -> 0
... C35: سایر2 | M35: =SUM(D35:L35) -> 0
C36: جمع فصل اول | D36: =SUM(D21:D35) -> 0 | E36: =SUM(E21:E35) -> 0 | F36: =SUM(F21:F35) -> 0 | G36: =SUM(G21:G35) -> 0 | H36: =SUM(H21:H35) -> 0 | I36: =SUM(I21:I35) -> 0 | J36: =SUM(J21:J35) -> 0 | K36: =SUM(K21:K35) -> 0 | ... M36: =SUM(M21:M35) -> 0
C37: فصل دوم
C38: مبتنی بر عملکرد پزشکان | M38: =SUM(D38:L38) -> 0
C39: مبتنی بر عملکرد کارکنان | M39: =SUM(D39:L39) -> 0
C40: ماموریت | M40: =SUM(D40:L40) -> 0
C41: آب | M41: =SUM(D41:L41) -> 0
C42: برق | M42: =SUM(D42:L42) -> 0
C43: گاز | M43: =SUM(D43:L43) -> 0
C44: تلفن | M44: =SUM(D44:L44) -> 0
C45: نفت سفید | M45: =SUM(D45:L45) -> 0
C46: گازوئیل | M46: =SUM(D46:L46) -> 0
C47: بنزین | M47: =SUM(D47:L47) -> 0
C48: هزینه سفر | M48: =SUM(D48:L48) -> 0
C49: قراردادها | M49: =SUM(D49:L49) -> 0
... C56: سایر | M56: =SUM(D56:L56) -> 0
C57: جمع فصل دوم | D57: =SUM(D38:D56) -> 0 | E57: =SUM(E38:E56) -> 0 | F57: =SUM(F38:F56) -> 0 | G57: =SUM(G38:G56) -> 0 | H57: =SUM(H38:H56) -> 0 | I57: =SUM(I38:I56) -> 0 | J57: =SUM(J38:J56) -> 0 | K57: =SUM(K38:K56) -> 0 | ... M57: =SUM(M38:M56) -> 0
C58: فصل سوم
C59: اجاره ساختمان | M59: =SUM(D59:L59) -> 0
C60: سایر | M60: =SUM(D60:L60) -> 0
C61: جمع فصل سوم | D61: =SUM(D59:D60) -> 0 | E61: =SUM(E59:E60) -> 0 | F61: =SUM(F59:F60) -> 0 | G61: =SUM(G59:G60) -> 0 | H61: =SUM(H59:H60) -> 0 | I61: =SUM(I59:I60) -> 0 | J61: =SUM(J59:J60) -> 0 | K61: =SUM(K59:K60) -> 0 | ... M61: =SUM(M59:M60) -> 0
C62: فصل ششم
C63: بیمه حقوق | M63: =SUM(D63:L63) -> 0
C64: سنوات خدمت بازنشسته | M64: =SUM(D64:L64) -> 0
C65: سنوات قراردادی | M65: =SUM(D65:L65) -> 0
C66: بیمه بازنشستگی | M66: =SUM(D66:L66) -> 0
C67: کمک هزینه مسکن | M67: =SUM(D67:L67) -> 0
C68: کمک هزینه مهد کودک | M68: =SUM(D68:L68) -> 0
C69: ازدواج و فوت | M69: =SUM(D69:L69) -> 0
C70: کمک هزینه مسکن | M70: =SUM(D70:L70) -> 0
C71: ورزش و سایر رفاهی | M71: =SUM(D71:L71) -> 0
C72: بیمه تکمیلی جانبازان(خارج از شمول) | M72: =SUM(D72:L72) -> 0
C73: بیمه عمر | M73: =SUM(D73:L73) -> 0
C74: کمک هزینه غذا | M74: =SUM(D74:L74) -> 0
C75: سایر | M75: =SUM(D75:L75) -> 0
C76: جمع فصل ششم | D76: =SUM(D63:D75) -> 0 | E76: =SUM(E63:E75) -> 0 | F76: =SUM(F63:F75) -> 0 | G76: =SUM(G63:G75) -> 0 | H76: =SUM(H63:H75) -> 0 | I76: =SUM(I63:I75) -> 0 | J76: =SUM(J63:J75) -> 0 | K76: =SUM(K63:K75) -> 0 | ... M76: =SUM(M63:M75) -> 0
C77: فصل هفتم
C78: خرید تجهیزات | M78: =SUM(D78:L78) -> 0
C79: خرید انشعابات | M79: =SUM(D79:L79) -> 0
C80: بیمه خودرو | M80: =SUM(D80:L80) -> 0
C81: عوارض و جرایم | M81: =SUM(D81:L81) -> 0
C82: دیون پرسنلی | M82: =SUM(D82:L82) -> 0
C83: دارو | M83: =SUM(D83:L83) -> 0
C84: سایر2 | M84: =SUM(D84:L84) -> 0
C85: جمع فصل هفتم | D85: =SUM(D78:D84) -> 0 | E85: =SUM(E78:E84) -> 0 | F85: =SUM(F78:F84) -> 0 | G85: =SUM(G78:G84) -> 0 | H85: =SUM(H78:H84) -> 0 | I85: =SUM(I78:I84) -> 0 | J85: =SUM(J78:J84) -> 0 | K85: =SUM(K78:K84) -> 0 | ... M85: =SUM(M78:M84) -> 0
C86: جمع کل فصول | D86: =SUM(D36,D57,D61,D76,D85) -> 0 | E86: =SUM(E36,E57,E61,E76,E85) -> 0 | F86: =SUM(F36,F57,F61,F76,F85) -> 0 | G86: =SUM(G36,G57,G61,G76,G85) -> 0 | H86: =SUM(H36,H57,H61,H76,H85) -> 0 | I86: =SUM(I36,I57,I61,I76,I85) -> 0 | J86: =SUM(J36,J57,J61,J76,J85) -> 0 | K86: =SUM(K36,K57,K61,K76,K85) -> 0 | ... M86: =SUM(M36,M57,M61,M76,M85) -> 0

Sheet شبکه شازند
B3: فرم منابع | C3: درآمد اعلام شده واحد | D3: سهم مرکز | E3: بند واو تطبیق یافته(سیاستگزاری ستاد) | F3: 1.5 درصد اورژانس | G3: 2 درصد رفاهی | H3: 1 درصد پژوهش | J3: 5 درصد ستاد | K3: 3 درصد خارج از شمول | L3: 5 درصد تجهیزات
B4: درمان
B5: دارو
B8: فرم مصارف | C8: درآمد اعلام شده واحد | D8: سهم مرکز | E8: بند واو تطبیق یافته(سیاستگزاری ستاد) | F8: 1.5 درصد اورژانس | G8: 2 درصد رفاهی | H8: 1 درصد پژوهش | J8: 5 درصد ستاد | K8: 3 درصد خارج از شمول | L8: 5 درصد تجهیزات
B9: درمان
B10: دارو
B13: فرم مانده | C13: درآمد اعلام شده واحد | D13: سهم مرکز | E13: بند واو تطبیق یافته(سیاستگزاری ستاد) | F13: 1.5 درصد اورژانس | G13: 2 درصد رفاهی | H13: 1 درصد پژوهش | J13: 5 درصد ستاد | K13: 3 درصد خارج از شمول | L13: 5 درصد تجهیزات
B14: درمان
B15: دارو
C18: معاونت توسعه مدیریت و منابع
C19: فرم تخصیص درآمدهای اختصاصی (سهم مرکز و در اختیار ستاد) (ارقام به هزار ریال( ماه .................)
C20: 30303 - 30301 | D20: سهم مرکز | E20: (سیاستگزاری ستاد) | F20: 1.5 درصد اورژانس | G20: 2 درصد رفاهی | H20: 1 درصد پژوهش | I20: 1 درصد آموزش | J20: 5 درصد ستاد | K20: 3 درصد خارج از شمول | L20: 5 درصد تجهیزات | M20: جمع
C21: فصل اول
C22: حقوق و مزایای طرح لایحه | M22: =SUM(D22:L22) -> 0
C23: حقوق و مزایای تبصره 4 | M23: =SUM(D23:L23) -> 0
C24: حقوق و مزایای تبصره 3 | M24: =SUM(D24:L24) -> 0
C25: اضافه کار | M25: =SUM(D25:L25) -> 0
C26: محرومیت از مطب | M26: =SUM(D26:L26) -> 0
C27: طرح تمام وقتی و آنکال | M27: =SUM(D27:L27) -> 0
C28: حق مدیریت(خارج از شمول) | M28: =SUM(D28:L28) -> 0
C29: عیدی | M29: =SUM(D29:L29) -> 0
C30: حق مسکن | M30: =SUM(D30:L30) -> 0
C31: سنوات و مرخصی بازنشسته | M31: =SUM(D31:L31) -> 0
C32: سنوات و مرخصی تبصره 3-4 | M32: =SUM(D32:L32) -> 0
C33: مرخصی تبصره 4 | M33: =SUM(D33:L33) -> 0
... C35: سایر2 | M35: =SUM(D35:L35) -> 0
C36: جمع فصل اول | D36: =SUM(D21:D35) -> 0 | E36: =SUM(E21:E35) -> 0 | F36: =SUM(F21:F35) -> 0 | G36: =SUM(G21:G35) -> 0 | H36: =SUM(H21:H35) -> 0 | I36: =SUM(I21:I35) -> 0 | J36: =SUM(J21:J35) -> 0 | K36: =SUM(K21:K35) -> 0 | ... M36: =SUM(M21:M35) -> 0
C37: فصل دوم
C38: مبتنی بر عملکرد پزشکان | M38: =SUM(D38:L38) -> 0
C39: مبتنی بر عملکرد کارکنان | M39: =SUM(D39:L39) -> 0
C40: ماموریت | M40: =SUM(D40:L40) -> 0
C41: آب | M41: =SUM(D41:L41) -> 0
C42: برق | M42: =SUM(D42:L42) -> 0
C43: گاز | M43: =SUM(D43:L43) -> 0
C44: تلفن | M44: =SUM(D44:L44) -> 0
C45: نفت سفید | M45: =SUM(D45:L45) -> 0
C46: گازوئیل | M46: =SUM(D46:L46) -> 0
C47: بنزین | M47: =SUM(D47:L47) -> 0
C48: هزینه سفر | M48: =SUM(D48:L48) -> 0
C49: قراردادها | M49: =SUM(D49:L49) -> 0
... C56: سایر | M56: =SUM(D56:L56) -> 0
C57: جمع فصل دوم | D57: =SUM(D38:D56) -> 0 | E57: =SUM(E38:E56) -> 0 | F57: =SUM(F38:F56) -> 0 | G57: =SUM(G38:G56) -> 0 | H57: =SUM(H38:H56) -> 0 | I57: =SUM(I38:I56) -> 0 | J57: =SUM(J38:J56) -> 0 | K57: =SUM(K38:K56) -> 0 | ... M57: =SUM(M38:M56) -> 0
C58: فصل سوم
C59: اجاره ساختمان | M59: =SUM(D59:L59) -> 0
C60: سایر | M60: =SUM(D60:L60) -> 0
C61: جمع فصل سوم | D61: =SUM(D59:D60) -> 0 | E61: =SUM(E59:E60) -> 0 | F61: =SUM(F59:F60) -> 0 | G61: =SUM(G59:G60) -> 0 | H61: =SUM(H59:H60) -> 0 | I61: =SUM(I59:I60) -> 0 | J61: =SUM(J59:J60) -> 0 | K61: =SUM(K59:K60) -> 0 | ... M61: =SUM(M59:M60) -> 0
C62: فصل ششم
C63: بیمه حقوق | M63: =SUM(D63:L63) -> 0
C64: سنوات خدمت بازنشسته | M64: =SUM(D64:L64) -> 0
C65: سنوات قراردادی | M65: =SUM(D65:L65) -> 0
C66: بیمه بازنشستگی | M66: =SUM(D66:L66) -> 0
C67: کمک هزینه مسکن | M67: =SUM(D67:L67) -> 0
C68: کمک هزینه مهد کودک | M68: =SUM(D68:L68) -> 0
C69: ازدواج و فوت | M69: =SUM(D69:L69) -> 0
C70: کمک هزینه مسکن | M70: =SUM(D70:L70) -> 0
C71: ورزش و سایر رفاهی | M71: =SUM(D71:L71) -> 0
C72: بیمه تکمیلی جانبازان(خارج از شمول) | M72: =SUM(D72:L72) -> 0
C73: بیمه عمر | M73: =SUM(D73:L73) -> 0
C74: کمک هزینه غذا | M74: =SUM(D74:L74) -> 0
C75: سایر | M75: =SUM(D75:L75) -> 0
C76: جمع فصل ششم | D76: =SUM(D63:D75) -> 0 | E76: =SUM(E63:E75) -> 0 | F76: =SUM(F63:F75) -> 0 | G76: =SUM(G63:G75) -> 0 | H76: =SUM(H63:H75) -> 0 | I76: =SUM(I63:I75) -> 0 | J76: =SUM(J63:J75) -> 0 | K76: =SUM(K63:K75) -> 0 | ... M76: =SUM(M63:M75) -> 0
C77: فصل هفتم
C78: خرید تجهیزات | M78: =SUM(D78:L78) -> 0
C79: خرید انشعابات | M79: =SUM(D79:L79) -> 0
C80: بیمه خودرو | M80: =SUM(D80:L80) -> 0
C81: عوارض و جرایم | M81: =SUM(D81:L81) -> 0
C82: دیون پرسنلی | M82: =SUM(D82:L82) -> 0
C83: دارو | M83: =SUM(D83:L83) -> 0
C84: سایر2 | M84: =SUM(D84:L84) -> 0
C85: جمع فصل هفتم | D85: =SUM(D78:D84) -> 0 | E85: =SUM(E78:E84) -> 0 | F85: =SUM(F78:F84) -> 0 | G85: =SUM(G78:G84) -> 0 | H85: =SUM(H78:H84) -> 0 | I85: =SUM(I78:I84) -> 0 | J85: =SUM(J78:J84) -> 0 | K85: =SUM(K78:K84) -> 0 | ... M85: =SUM(M78:M84) -> 0
C86: جمع کل فصول | D86: =SUM(D36,D57,D61,D76,D85) -> 0 | E86: =SUM(E36,E57,E61,E76,E85) -> 0 | F86: =SUM(F36,F57,F61,F76,F85) -> 0 | G86: =SUM(G36,G57,G61,G76,G85) -> 0 | H86: =SUM(H36,H57,H61,H76,H85) -> 0 | I86: =SUM(I36,I57,I61,I76,I85) -> 0 | J86: =SUM(J36,J57,J61,J76,J85) -> 0 | K86: =SUM(K36,K57,K61,K76,K85) -> 0 | ... M86: =SUM(M36,M57,M61,M76,M85) -> 0

Sheet شبکه خمین
B3: فرم منابع | C3: درآمد اعلام شده واحد | D3: سهم مرکز | E3: بند واو تطبیق یافته(سیاستگزاری ستاد) | F3: 1.5 درصد اورژانس | G3: 2 درصد رفاهی | H3: 1 درصد پژوهش | J3: 5 درصد ستاد | K3: 3 درصد خارج از شمول | L3: 5 درصد تجهیزات
B4: درمان
B5: دارو
B8: فرم مصارف | C8: درآمد اعلام شده واحد | D8: سهم مرکز | E8: بند واو تطبیق یافته(سیاستگزاری ستاد) | F8: 1.5 درصد اورژانس | G8: 2 درصد رفاهی | H8: 1 درصد پژوهش | J8: 5 درصد ستاد | K8: 3 درصد خارج از شمول | L8: 5 درصد تجهیزات
B9: درمان
B10: دارو
B13: فرم مانده | C13: درآمد اعلام شده واحد | D13: سهم مرکز | E13: بند واو تطبیق یافته(سیاستگزاری ستاد) | F13: 1.5 درصد اورژانس | G13: 2 درصد رفاهی | H13: 1 درصد پژوهش | J13: 5 درصد ستاد | K13: 3 درصد خارج از شمول | L13: 5 درصد تجهیزات
B14: درمان
B15: دارو
C18: معاونت توسعه مدیریت و منابع
C19: فرم تخصیص درآمدهای اختصاصی (سهم مرکز و در اختیار ستاد) (ارقام به هزار ریال( ماه .................)
C20: 30303 - 30301 | D20: سهم مرکز | E20: (سیاستگزاری ستاد) | F20: 1.5 درصد اورژانس | G20: 2 درصد رفاهی | H20: 1 درصد پژوهش | I20: 1 درصد آموزش | J20: 5 درصد ستاد | K20: 3 درصد خارج از شمول | L20: 5 درصد تجهیزات | M20: جمع
C21: فصل اول
C22: حقوق و مزایای طرح لایحه | M22: =SUM(D22:L22) -> 0
C23: حقوق و مزایای تبصره 4 | M23: =SUM(D23:L23) -> 0
C24: حقوق و مزایای تبصره 3 | M24: =SUM(D24:L24) -> 0
C25: اضافه کار | M25: =SUM(D25:L25) -> 0
C26: محرومیت از مطب | M26: =SUM(D26:L26) -> 0
C27: طرح تمام وقتی و آنکال | M27: =SUM(D27:L27) -> 0
C28: حق مدیریت(خارج از شمول) | M28: =SUM(D28:L28) -> 0
C29: عیدی | M29: =SUM(D29:L29) -> 0
C30: حق مسکن | M30: =SUM(D30:L30) -> 0
C31: سنوات و مرخصی بازنشسته | M31: =SUM(D31:L31) -> 0
C32: سنوات و مرخصی تبصره 3-4 | M32: =SUM(D32:L32) -> 0
C33: مرخصی تبصره 4 | M33: =SUM(D33:L33) -> 0
... C35: سایر2 | M35: =SUM(D35:L35) -> 0
C36: جمع فصل اول | D36: =SUM(D21:D35) -> 0 | E36: =SUM(E21:E35) -> 0 | F36: =SUM(F21:F35) -> 0 | G36: =SUM(G21:G35) -> 0 | H36: =SUM(H21:H35) -> 0 | I36: =SUM(I21:I35) -> 0 | J36: =SUM(J21:J35) -> 0 | K36: =SUM(K21:K35) -> 0 | ... M36: =SUM(M21:M35) -> 0
C37: فصل دوم
C38: مبتنی بر عملکرد پزشکان | M38: =SUM(D38:L38) -> 0
C39: مبتنی بر عملکرد کارکنان | M39: =SUM(D39:L39) -> 0
C40: ماموریت | M40: =SUM(D40:L40) -> 0
C41: آب | M41: =SUM(D41:L41) -> 0
C42: برق | M42: =SUM(D42:L42) -> 0
C43: گاز | M43: =SUM(D43:L43) -> 0
C44: تلفن | M44: =SUM(D44:L44) -> 0
C45: نفت سفید | M45: =SUM(D45:L45) -> 0
C46: گازوئیل | M46: =SUM(D46:L46) -> 0
C47: بنزین | M47: =SUM(D47:L47) -> 0
C48: هزینه سفر | M48: =SUM(D48:L48) -> 0
C49: قراردادها | M49: =SUM(D49:L49) -> 0
... C56: سایر | M56: =SUM(D56:L56) -> 0
C57: جمع فصل دوم | D57: =SUM(D38:D56) -> 0 | E57: =SUM(E38:E56) -> 0 | F57: =SUM(F38:F56) -> 0 | G57: =SUM(G38:G56) -> 0 | H57: =SUM(H38:H56) -> 0 | I57: =SUM(I38:I56) -> 0 | J57: =SUM(J38:J56) -> 0 | K57: =SUM(K38:K56) -> 0 | ... M57: =SUM(M38:M56) -> 0
C58: فصل سوم
C59: اجاره ساختمان | M59: =SUM(D59:L59) -> 0
C60: سایر | M60: =SUM(D60:L60) -> 0
C61: جمع فصل سوم | D61: =SUM(D59:D60) -> 0 | E61: =SUM(E59:E60) -> 0 | F61: =SUM(F59:F60) -> 0 | G61: =SUM(G59:G60) -> 0 | H61: =SUM(H59:H60) -> 0 | I61: =SUM(I59:I60) -> 0 | J61: =SUM(J59:J60) -> 0 | K61: =SUM(K59:K60) -> 0 | ... M61: =SUM(M59:M60) -> 0
C62: فصل ششم
C63: بیمه حقوق | M63: =SUM(D63:L63) -> 0
C64: سنوات خدمت بازنشسته | M64: =SUM(D64:L64) -> 0
C65: سنوات قراردادی | M65: =SUM(D65:L65) -> 0
C66: بیمه بازنشستگی | M66: =SUM(D66:L66) -> 0
C67: کمک هزینه مسکن | M67: =SUM(D67:L67) -> 0
C68: کمک هزینه مهد کودک | M68: =SUM(D68:L68) -> 0
C69: ازدواج و فوت | M69: =SUM(D69:L69) -> 0
C70: کمک هزینه مسکن | M70: =SUM(D70:L70) -> 0
C71: ورزش و سایر رفاهی | M71: =SUM(D71:L71) -> 0
C72: بیمه تکمیلی جانبازان(خارج از شمول) | M72: =SUM(D72:L72) -> 0
C73: بیمه عمر | M73: =SUM(D73:L73) -> 0
C74: کمک هزینه غذا | M74: =SUM(D74:L74) -> 0
C75: سایر | M75: =SUM(D75:L75) -> 0
C76: جمع فصل ششم | D76: =SUM(D63:D75) -> 0 | E76: =SUM(E63:E75) -> 0 | F76: =SUM(F63:F75) -> 0 | G76: =SUM(G63:G75) -> 0 | H76: =SUM(H63:H75) -> 0 | I76: =SUM(I63:I75) -> 0 | J76: =SUM(J63:J75) -> 0 | K76: =SUM(K63:K75) -> 0 | ... M76: =SUM(M63:M75) -> 0
C77: فصل هفتم
C78: خرید تجهیزات | M78: =SUM(D78:L78) -> 0
C79: خرید انشعابات | M79: =SUM(D79:L79) -> 0
C80: بیمه خودرو | M80: =SUM(D80:L80) -> 0
C81: عوارض و جرایم | M81: =SUM(D81:L81) -> 0
C82: دیون پرسنلی | M82: =SUM(D82:L82) -> 0
C83: دارو | M83: =SUM(D83:L83) -> 0
C84: سایر2 | M84: =SUM(D84:L84) -> 0
C85: جمع فصل هفتم | D85: =SUM(D78:D84) -> 0 | E85: =SUM(E78:E84) -> 0 | F85: =SUM(F78:F84) -> 0 | G85: =SUM(G78:G84) -> 0 | H85: =SUM(H78:H84) -> 0 | I85: =SUM(I78:I84) -> 0 | J85: =SUM(J78:J84) -> 0 | K85: =SUM(K78:K84) -> 0 | ... M85: =SUM(M78:M84) -> 0
C86: جمع کل فصول | D86: =SUM(D36,D57,D61,D76,D85) -> 0 | E86: =SUM(E36,E57,E61,E76,E85) -> 0 | F86: =SUM(F36,F57,F61,F76,F85) -> 0 | G86: =SUM(G36,G57,G61,G76,G85) -> 0 | H86: =SUM(H36,H57,H61,H76,H85) -> 0 | I86: =SUM(I36,I57,I61,I76,I85) -> 0 | J86: =SUM(J36,J57,J61,J76,J85) -> 0 | K86: =SUM(K36,K57,K61,K76,K85) -> 0 | ... M86: =SUM(M36,M57,M61,M76,M85) -> 0

Sheet شبکه دلیجان
B3: فرم منابع | C3: درآمد اعلام شده واحد | D3: سهم مرکز | E3: بند واو تطبیق یافته(سیاستگزاری ستاد) | F3: 1.5 درصد اورژانس | G3: 2 درصد رفاهی | H3: 1 درصد پژوهش | J3: 5 درصد ستاد | K3: 3 درصد خارج از شمول | L3: 5 درصد تجهیزات
B4: درمان
B5: دارو
B8: فرم مصارف | C8: درآمد اعلام شده واحد | D8: سهم مرکز | E8: بند واو تطبیق یافته(سیاستگزاری ستاد) | F8: 1.5 درصد اورژانس | G8: 2 درصد رفاهی | H8: 1 درصد پژوهش | J8: 5 درصد ستاد | K8: 3 درصد خارج از شمول | L8: 5 درصد تجهیزات
B9: درمان
B10: دارو
B13: فرم مانده | C13: درآمد اعلام شده واحد | D13: سهم مرکز | E13: بند واو تطبیق یافته(سیاستگزاری ستاد) | F13: 1.5 درصد اورژانس | G13: 2 درصد رفاهی | H13: 1 درصد پژوهش | J13: 5 درصد ستاد | K13: 3 درصد خارج از شمول | L13: 5 درصد تجهیزات
B14: درمان
B15: دارو
C18: معاونت توسعه مدیریت و منابع
C19: فرم تخصیص درآمدهای اختصاصی (سهم مرکز و در اختیار ستاد) (ارقام به هزار ریال( ماه .................)
C20: 30303 - 30301 | D20: سهم مرکز | E20: (سیاستگزاری ستاد) | F20: 1.5 درصد اورژانس | G20: 2 درصد رفاهی | H20: 1 درصد پژوهش | I20: 1 درصد آموزش | J20: 5 درصد ستاد | K20: 3 درصد خارج از شمول | L20: 5 درصد تجهیزات | M20: جمع
C21: فصل اول
C22: حقوق و مزایای طرح لایحه | M22: =SUM(D22:L22) -> 0
C23: حقوق و مزایای تبصره 4 | M23: =SUM(D23:L23) -> 0
C24: حقوق و مزایای تبصره 3 | M24: =SUM(D24:L24) -> 0
C25: اضافه کار | M25: =SUM(D25:L25) -> 0
C26: محرومیت از مطب | M26: =SUM(D26:L26) -> 0
C27: طرح تمام وقتی و آنکال | M27: =SUM(D27:L27) -> 0
C28: حق مدیریت(خارج از شمول) | M28: =SUM(D28:L28) -> 0
C29: عیدی | M29: =SUM(D29:L29) -> 0
C30: حق مسکن | M30: =SUM(D30:L30) -> 0
C31: سنوات و مرخصی بازنشسته | M31: =SUM(D31:L31) -> 0
C32: سنوات و مرخصی تبصره 3-4 | M32: =SUM(D32:L32) -> 0
C33: مرخصی تبصره 4 | M33: =SUM(D33:L33) -> 0
... C35: سایر2 | M35: =SUM(D35:L35) -> 0
C36: جمع فصل اول | D36: =SUM(D21:D35) -> 0 | E36: =SUM(E21:E35) -> 0 | F36: =SUM(F21:F35) -> 0 | G36: =SUM(G21:G35) -> 0 | H36: =SUM(H21:H35) -> 0 | I36: =SUM(I21:I35) -> 0 | J36: =SUM(J21:J35) -> 0 | K36: =SUM(K21:K35) -> 0 | ... M36: =SUM(M21:M35) -> 0
C37: فصل دوم
C38: مبتنی بر عملکرد پزشکان | M38: =SUM(D38:L38) -> 0
C39: مبتنی بر عملکرد کارکنان | M39: =SUM(D39:L39) -> 0
C40: ماموریت | M40: =SUM(D40:L40) -> 0
C41: آب | M41: =SUM(D41:L41) -> 0
C42: برق | M42: =SUM(D42:L42) -> 0
C43: گاز | M43: =SUM(D43:L43) -> 0
C44: تلفن | M44: =SUM(D44:L44) -> 0
C45: نفت سفید | M45: =SUM(D45:L45) -> 0
C46: گازوئیل | M46: =SUM(D46:L46) -> 0
C47: بنزین | M47: =SUM(D47:L47) -> 0
C48: هزینه سفر | M48: =SUM(D48:L48) -> 0
C49: قراردادها | M49: =SUM(D49:L49) -> 0
... C56: سایر | M56: =SUM(D56:L56) -> 0
C57: جمع فصل دوم | D57: =SUM(D38:D56) -> 0 | E57: =SUM(E38:E56) -> 0 | F57: =SUM(F38:F56) -> 0 | G57: =SUM(G38:G56) -> 0 | H57: =SUM(H38:H56) -> 0 | I57: =SUM(I38:I56) -> 0 | J57: =SUM(J38:J56) -> 0 | K57: =SUM(K38:K56) -> 0 | ... M57: =SUM(M38:M56) -> 0
C58: فصل سوم
C59: اجاره ساختمان | M59: =SUM(D59:L59) -> 0
C60: سایر | M60: =SUM(D60:L60) -> 0
C61: جمع فصل سوم | D61: =SUM(D59:D60) -> 0 | E61: =SUM(E59:E60) -> 0 | F61: =SUM(F59:F60) -> 0 | G61: =SUM(G59:G60) -> 0 | H61: =SUM(H59:H60) -> 0 | I61: =SUM(I59:I60) -> 0 | J61: =SUM(J59:J60) -> 0 | K61: =SUM(K59:K60) -> 0 | ... M61: =SUM(M59:M60) -> 0
C62: فصل ششم
C63: بیمه حقوق | M63: =SUM(D63:L63) -> 0
C64: سنوات خدمت بازنشسته | M64: =SUM(D64:L64) -> 0
C65: سنوات قراردادی | M65: =SUM(D65:L65) -> 0
C66: بیمه بازنشستگی | M66: =SUM(D66:L66) -> 0
C67: کمک هزینه مسکن | M67: =SUM(D67:L67) -> 0
C68: کمک هزینه مهد کودک | M68: =SUM(D68:L68) -> 0
C69: ازدواج و فوت | M69: =SUM(D69:L69) -> 0
C70: کمک هزینه مسکن | M70: =SUM(D70:L70) -> 0
C71: ورزش و سایر رفاهی | M71: =SUM(D71:L71) -> 0
C72: بیمه تکمیلی جانبازان(خارج از شمول) | M72: =SUM(D72:L72) -> 0
C73: بیمه عمر | M73: =SUM(D73:L73) -> 0
C74: کمک هزینه غذا | M74: =SUM(D74:L74) -> 0
C75: سایر | M75: =SUM(D75:L75) -> 0
C76: جمع فصل ششم | D76: =SUM(D63:D75) -> 0 | E76: =SUM(E63:E75) -> 0 | F76: =SUM(F63:F75) -> 0 | G76: =SUM(G63:G75) -> 0 | H76: =SUM(H63:H75) -> 0 | I76: =SUM(I63:I75) -> 0 | J76: =SUM(J63:J75) -> 0 | K76: =SUM(K63:K75) -> 0 | ... M76: =SUM(M63:M75) -> 0
C77: فصل هفتم
C78: خرید تجهیزات | M78: =SUM(D78:L78) -> 0
C79: خرید انشعابات | M79: =SUM(D79:L79) -> 0
C80: بیمه خودرو | M80: =SUM(D80:L80) -> 0
C81: عوارض و جرایم | M81: =SUM(D81:L81) -> 0
C82: دیون پرسنلی | M82: =SUM(D82:L82) -> 0
C83: دارو | M83: =SUM(D83:L83) -> 0
C84: سایر2 | M84: =SUM(D84:L84) -> 0
C85: جمع فصل هفتم | D85: =SUM(D78:D84) -> 0 | E85: =SUM(E78:E84) -> 0 | F85: =SUM(F78:F84) -> 0 | G85: =SUM(G78:G84) -> 0 | H85: =SUM(H78:H84) -> 0 | I85: =SUM(I78:I84) -> 0 | J85: =SUM(J78:J84) -> 0 | K85: =SUM(K78:K84) -> 0 | ... M85: =SUM(M78:M84) -> 0
C86: جمع کل فصول | D86: =SUM(D36,D57,D61,D76,D85) -> 0 | E86: =SUM(E36,E57,E61,E76,E85) -> 0 | F86: =SUM(F36,F57,F61,F76,F85) -> 0 | G86: =SUM(G36,G57,G61,G76,G85) -> 0 | H86: =SUM(H36,H57,H61,H76,H85) -> 0 | I86: =SUM(I36,I57,I61,I76,I85) -> 0 | J86: =SUM(J36,J57,J61,J76,J85) -> 0 | K86: =SUM(K36,K57,K61,K76,K85) -> 0 | ... M86: =SUM(M36,M57,M61,M76,M85) -> 0

Sheet شبکه کمیجان
B3: فرم منابع | C3: درآمد اعلام شده واحد | D3: سهم مرکز | E3: بند واو تطبیق یافته(سیاستگزاری ستاد) | F3: 1.5 درصد اورژانس | G3: 2 درصد رفاهی | H3: 1 درصد پژوهش | J3: 5 درصد ستاد | K3: 3 درصد خارج از شمول | L3: 5 درصد تجهیزات
B4: درمان
B5: دارو
B8: فرم مصارف | C8: درآمد اعلام شده واحد | D8: سهم مرکز | E8: بند واو تطبیق یافته(سیاستگزاری ستاد) | F8: 1.5 درصد اورژانس | G8: 2 درصد رفاهی | H8: 1 درصد پژوهش | J8: 5 درصد ستاد | K8: 3 درصد خارج از شمول | L8: 5 درصد تجهیزات
B9: درمان
B10: دارو
B13: فرم مانده | C13: درآمد اعلام شده واحد | D13: سهم مرکز | E13: بند واو تطبیق یافته(سیاستگزاری ستاد) | F13: 1.5 درصد اورژانس | G13: 2 درصد رفاهی | H13: 1 درصد پژوهش | J13: 5 درصد ستاد | K13: 3 درصد خارج از شمول | L13: 5 درصد تجهیزات
B14: درمان
B15: دارو
C18: معاونت توسعه مدیریت و منابع
C19: فرم تخصیص درآمدهای اختصاصی (سهم مرکز و در اختیار ستاد) (ارقام به هزار ریال( ماه .................)
C20: 30303 - 30301 | D20: سهم مرکز | E20: (سیاستگزاری ستاد) | F20: 1.5 درصد اورژانس | G20: 2 درصد رفاهی | H20: 1 درصد پژوهش | I20: 1 درصد آموزش | J20: 5 درصد ستاد | K20: 3 درصد خارج از شمول | L20: 5 درصد تجهیزات | M20: جمع
C21: فصل اول
C22: حقوق و مزایای طرح لایحه | M22: =SUM(D22:L22) -> 0
C23: حقوق و مزایای تبصره 4 | M23: =SUM(D23:L23) -> 0
C24: حقوق و مزایای تبصره 3 | M24: =SUM(D24:L24) -> 0
C25: اضافه کار | M25: =SUM(D25:L25) -> 0
C26: محرومیت از مطب | M26: =SUM(D26:L26) -> 0
C27: طرح تمام وقتی و آنکال | M27: =SUM(D27:L27) -> 0
C28: حق مدیریت(خارج از شمول) | M28: =SUM(D28:L28) -> 0
C29: عیدی | M29: =SUM(D29:L29) -> 0
C30: حق مسکن | M30: =SUM(D30:L30) -> 0
C31: سنوات و مرخصی بازنشسته | M31: =SUM(D31:L31) -> 0
C32: سنوات و مرخصی تبصره 3-4 | M32: =SUM(D32:L32) -> 0
C33: مرخصی تبصره 4 | M33: =SUM(D33:L33) -> 0
... C35: سایر2 | M35: =SUM(D35:L35) -> 0
C36: جمع فصل اول | D36: =SUM(D21:D35) -> 0 | E36: =SUM(E21:E35) -> 0 | F36: =SUM(F21:F35) -> 0 | G36: =SUM(G21:G35) -> 0 | H36: =SUM(H21:H35) -> 0 | I36: =SUM(I21:I35) -> 0 | J36: =SUM(J21:J35) -> 0 | K36: =SUM(K21:K35) -> 0 | ... M36: =SUM(M21:M35) -> 0
C37: فصل دوم
C38: مبتنی بر عملکرد پزشکان | M38: =SUM(D38:L38) -> 0
C39: مبتنی بر عملکرد کارکنان | M39: =SUM(D39:L39) -> 0
C40: ماموریت | M40: =SUM(D40:L40) -> 0
C41: آب | M41: =SUM(D41:L41) -> 0
C42: برق | M42: =SUM(D42:L42) -> 0
C43: گاز | M43: =SUM(D43:L43) -> 0
C44: تلفن | M44: =SUM(D44:L44) -> 0
C45: نفت سفید | M45: =SUM(D45:L45) -> 0
C46: گازوئیل | M46: =SUM(D46:L46) -> 0
C47: بنزین | M47: =SUM(D47:L47) -> 0
C48: هزینه سفر | M48: =SUM(D48:L48) -> 0
C49: قراردادها | M49: =SUM(D49:L49) -> 0
... C56: سایر | M56: =SUM(D56:L56) -> 0
C57: جمع فصل دوم | D57: =SUM(D38:D56) -> 0 | E57: =SUM(E38:E56) -> 0 | F57: =SUM(F38:F56) -> 0 | G57: =SUM(G38:G56) -> 0 | H57: =SUM(H38:H56) -> 0 | I57: =SUM(I38:I56) -> 0 | J57: =SUM(J38:J56) -> 0 | K57: =SUM(K38:K56) -> 0 | ... M57: =SUM(M38:M56) -> 0
C58: فصل سوم
C59: اجاره ساختمان | M59: =SUM(D59:L59) -> 0
C60: سایر | M60: =SUM(D60:L60) -> 0
C61: جمع فصل سوم | D61: =SUM(D59:D60) -> 0 | E61: =SUM(E59:E60) -> 0 | F61: =SUM(F59:F60) -> 0 | G61: =SUM(G59:G60) -> 0 | H61: =SUM(H59:H60) -> 0 | I61: =SUM(I59:I60) -> 0 | J61: =SUM(J59:J60) -> 0 | K61: =SUM(K59:K60) -> 0 | ... M61: =SUM(M59:M60) -> 0
C62: فصل ششم
C63: بیمه حقوق | M63: =SUM(D63:L63) -> 0
C64: سنوات خدمت بازنشسته | M64: =SUM(D64:L64) -> 0
C65: سنوات قراردادی | M65: =SUM(D65:L65) -> 0
C66: بیمه بازنشستگی | M66: =SUM(D66:L66) -> 0
C67: کمک هزینه مسکن | M67: =SUM(D67:L67) -> 0
C68: کمک هزینه مهد کودک | M68: =SUM(D68:L68) -> 0
C69: ازدواج و فوت | M69: =SUM(D69:L69) -> 0
C70: کمک هزینه مسکن | M70: =SUM(D70:L70) -> 0
C71: ورزش و سایر رفاهی | M71: =SUM(D71:L71) -> 0
C72: بیمه تکمیلی جانبازان(خارج از شمول) | M72: =SUM(D72:L72) -> 0
C73: بیمه عمر | M73: =SUM(D73:L73) -> 0
C74: کمک هزینه غذا | M74: =SUM(D74:L74) -> 0
C75: سایر | M75: =SUM(D75:L75) -> 0
C76: جمع فصل ششم | D76: =SUM(D63:D75) -> 0 | E76: =SUM(E63:E75) -> 0 | F76: =SUM(F63:F75) -> 0 | G76: =SUM(G63:G75) -> 0 | H76: =SUM(H63:H75) -> 0 | I76: =SUM(I63:I75) -> 0 | J76: =SUM(J63:J75) -> 0 | K76: =SUM(K63:K75) -> 0 | ... M76: =SUM(M63:M75) -> 0
C77: فصل هفتم
C78: خرید تجهیزات | M78: =SUM(D78:L78) -> 0
C79: خرید انشعابات | M79: =SUM(D79:L79) -> 0
C80: بیمه خودرو | M80: =SUM(D80:L80) -> 0
C81: عوارض و جرایم | M81: =SUM(D81:L81) -> 0
C82: دیون پرسنلی | M82: =SUM(D82:L82) -> 0
C83: دارو | M83: =SUM(D83:L83) -> 0
C84: سایر2 | M84: =SUM(D84:L84) -> 0
C85: جمع فصل هفتم | D85: =SUM(D78:D84) -> 0 | E85: =SUM(E78:E84) -> 0 | F85: =SUM(F78:F84) -> 0 | G85: =SUM(G78:G84) -> 0 | H85: =SUM(H78:H84) -> 0 | I85: =SUM(I78:I84) -> 0 | J85: =SUM(J78:J84) -> 0 | K85: =SUM(K78:K84) -> 0 | ... M85: =SUM(M78:M84) -> 0
C86: جمع کل فصول | D86: =SUM(D36,D57,D61,D76,D85) -> 0 | E86: =SUM(E36,E57,E61,E76,E85) -> 0 | F86: =SUM(F36,F57,F61,F76,F85) -> 0 | G86: =SUM(G36,G57,G61,G76,G85) -> 0 | H86: =SUM(H36,H57,H61,H76,H85) -> 0 | I86: =SUM(I36,I57,I61,I76,I85) -> 0 | J86: =SUM(J36,J57,J61,J76,J85) -> 0 | K86: =SUM(K36,K57,K61,K76,K85) -> 0 | ... M86: =SUM(M36,M57,M61,M76,M85) -> 0

Sheet شبکه محلات
B3: فرم منابع | C3: درآمد اعلام شده واحد | D3: سهم مرکز | E3: بند واو تطبیق یافته(سیاستگزاری ستاد) | F3: 1.5 درصد اورژانس | G3: 2 درصد رفاهی | H3: 1 درصد پژوهش | J3: 5 درصد ستاد | K3: 3 درصد خارج از شمول | L3: 5 درصد تجهیزات
B4: درمان
B5: دارو
B8: فرم مصارف | C8: درآمد اعلام شده واحد | D8: سهم مرکز | E8: بند واو تطبیق یافته(سیاستگزاری ستاد) | F8: 1.5 درصد اورژانس | G8: 2 درصد رفاهی | H8: 1 درصد پژوهش | J8: 5 درصد ستاد | K8: 3 درصد خارج از شمول | L8: 5 درصد تجهیزات
B9: درمان
B10: دارو
B13: فرم مانده | C13: درآمد اعلام شده واحد | D13: سهم مرکز | E13: بند واو تطبیق یافته(سیاستگزاری ستاد) | F13: 1.5 درصد اورژانس | G13: 2 درصد رفاهی | H13: 1 درصد پژوهش | J13: 5 درصد ستاد | K13: 3 درصد خارج از شمول | L13: 5 درصد تجهیزات
B14: درمان
B15: دارو
C18: معاونت توسعه مدیریت و منابع
C19: فرم تخصیص درآمدهای اختصاصی (سهم مرکز و در اختیار ستاد) (ارقام به هزار ریال( ماه .................)
C20: 30303 - 30301 | D20: سهم مرکز | E20: (سیاستگزاری ستاد) | F20: 1.5 درصد اورژانس | G20: 2 درصد رفاهی | H20: 1 درصد پژوهش | I20: 1 درصد آموزش | J20: 5 درصد ستاد | K20: 3 درصد خارج از شمول | L20: 5 درصد تجهیزات | M20: جمع
C21: فصل اول
C22: حقوق و مزایای طرح لایحه | M22: =SUM(D22:L22) -> 0
C23: حقوق و مزایای تبصره 4 | M23: =SUM(D23:L23) -> 0
C24: حقوق و مزایای تبصره 3 | M24: =SUM(D24:L24) -> 0
C25: اضافه کار | M25: =SUM(D25:L25) -> 0
C26: محرومیت از مطب | M26: =SUM(D26:L26) -> 0
C27: طرح تمام وقتی و آنکال | M27: =SUM(D27:L27) -> 0
C28: حق مدیریت(خارج از شمول) | M28: =SUM(D28:L28) -> 0
C29: عیدی | M29: =SUM(D29:L29) -> 0
C30: حق مسکن | M30: =SUM(D30:L30) -> 0
C31: سنوات و مرخصی بازنشسته | M31: =SUM(D31:L31) -> 0
C32: سنوات و مرخصی تبصره 3-4 | M32: =SUM(D32:L32) -> 0
C33: مرخصی تبصره 4 | M33: =SUM(D33:L33) -> 0
... C35: سایر2 | M35: =SUM(D35:L35) -> 0
C36: جمع فصل اول | D36: =SUM(D21:D35) -> 0 | E36: =SUM(E21:E35) -> 0 | F36: =SUM(F21:F35) -> 0 | G36: =SUM(G21:G35) -> 0 | H36: =SUM(H21:H35) -> 0 | I36: =SUM(I21:I35) -> 0 | J36: =SUM(J21:J35) -> 0 | K36: =SUM(K21:K35) -> 0 | ... M36: =SUM(M21:M35) -> 0
C37: فصل دوم
C38: مبتنی بر عملکرد پزشکان | M38: =SUM(D38:L38) -> 0
C39: مبتنی بر عملکرد کارکنان | M39: =SUM(D39:L39) -> 0
C40: ماموریت | M40: =SUM(D40:L40) -> 0
C41: آب | M41: =SUM(D41:L41) -> 0
C42: برق | M42: =SUM(D42:L42) -> 0
C43: گاز | M43: =SUM(D43:L43) -> 0
C44: تلفن | M44: =SUM(D44:L44) -> 0
C45: نفت سفید | M45: =SUM(D45:L45) -> 0
C46: گازوئیل | M46: =SUM(D46:L46) -> 0
C47: بنزین | M47: =SUM(D47:L47) -> 0
C48: هزینه سفر | M48: =SUM(D48:L48) -> 0
C49: قراردادها | M49: =SUM(D49:L49) -> 0
... C56: سایر | M56: =SUM(D56:L56) -> 0
C57: جمع فصل دوم | D57: =SUM(D38:D56) -> 0 | E57: =SUM(E38:E56) -> 0 | F57: =SUM(F38:F56) -> 0 | G57: =SUM(G38:G56) -> 0 | H57: =SUM(H38:H56) -> 0 | I57: =SUM(I38:I56) -> 0 | J57: =SUM(J38:J56) -> 0 | K57: =SUM(K38:K56) -> 0 | ... M57: =SUM(M38:M56) -> 0
C58: فصل سوم
C59: اجاره ساختمان | M59: =SUM(D59:L59) -> 0
C60: سایر | M60: =SUM(D60:L60) -> 0
C61: جمع فصل سوم | D61: =SUM(D59:D60) -> 0 | E61: =SUM(E59:E60) -> 0 | F61: =SUM(F59:F60) -> 0 | G61: =SUM(G59:G60) -> 0 | H61: =SUM(H59:H60) -> 0 | I61: =SUM(I59:I60) -> 0 | J61: =SUM(J59:J60) -> 0 | K61: =SUM(K59:K60) -> 0 | ... M61: =SUM(M59:M60) -> 0
C62: فصل ششم
C63: بیمه حقوق | M63: =SUM(D63:L63) -> 0
C64: سنوات خدمت بازنشسته | M64: =SUM(D64:L64) -> 0
C65: سنوات قراردادی | M65: =SUM(D65:L65) -> 0
C66: بیمه بازنشستگی | M66: =SUM(D66:L66) -> 0
C67: کمک هزینه مسکن | M67: =SUM(D67:L67) -> 0
C68: کمک هزینه مهد کودک | M68: =SUM(D68:L68) -> 0
C69: ازدواج و فوت | M69: =SUM(D69:L69) -> 0
C70: کمک هزینه مسکن | M70: =SUM(D70:L70) -> 0
C71: ورزش و سایر رفاهی | M71: =SUM(D71:L71) -> 0
C72: بیمه تکمیلی جانبازان(خارج از شمول) | M72: =SUM(D72:L72) -> 0
C73: بیمه عمر | M73: =SUM(D73:L73) -> 0
C74: کمک هزینه غذا | M74: =SUM(D74:L74) -> 0
C75: سایر | M75: =SUM(D75:L75) -> 0
C76: جمع فصل ششم | D76: =SUM(D63:D75) -> 0 | E76: =SUM(E63:E75) -> 0 | F76: =SUM(F63:F75) -> 0 | G76: =SUM(G63:G75) -> 0 | H76: =SUM(H63:H75) -> 0 | I76: =SUM(I63:I75) -> 0 | J76: =SUM(J63:J75) -> 0 | K76: =SUM(K63:K75) -> 0 | ... M76: =SUM(M63:M75) -> 0
C77: فصل هفتم
C78: خرید تجهیزات | M78: =SUM(D78:L78) -> 0
C79: خرید انشعابات | M79: =SUM(D79:L79) -> 0
C80: بیمه خودرو | M80: =SUM(D80:L80) -> 0
C81: عوارض و جرایم | M81: =SUM(D81:L81) -> 0
C82: دیون پرسنلی | M82: =SUM(D82:L82) -> 0
C83: دارو | M83: =SUM(D83:L83) -> 0
C84: سایر2 | M84: =SUM(D84:L84) -> 0
C85: جمع فصل هفتم | D85: =SUM(D78:D84) -> 0 | E85: =SUM(E78:E84) -> 0 | F85: =SUM(F78:F84) -> 0 | G85: =SUM(G78:G84) -> 0 | H85: =SUM(H78:H84) -> 0 | I85: =SUM(I78:I84) -> 0 | J85: =SUM(J78:J84) -> 0 | K85: =SUM(K78:K84) -> 0 | ... M85: =SUM(M78:M84) -> 0
C86: جمع کل فصول | D86: =SUM(D36,D57,D61,D76,D85) -> 0 | E86: =SUM(E36,E57,E61,E76,E85) -> 0 | F86: =SUM(F36,F57,F61,F76,F85) -> 0 | G86: =SUM(G36,G57,G61,G76,G85) -> 0 | H86: =SUM(H36,H57,H61,H76,H85) -> 0 | I86: =SUM(I36,I57,I61,I76,I85) -> 0 | J86: =SUM(J36,J57,J61,J76,J85) -> 0 | K86: =SUM(K36,K57,K61,K76,K85) -> 0 | ... M86: =SUM(M36,M57,M61,M76,M85) -> 0

Sheet شبکه آشتیان
B3: فرم منابع | C3: درآمد اعلام شده واحد | D3: سهم مرکز | E3: بند واو تطبیق یافته(سیاستگزاری ستاد) | F3: 1.5 درصد اورژانس | G3: 2 درصد رفاهی | H3: 1 درصد پژوهش | J3: 5 درصد ستاد | K3: 3 درصد خارج از شمول | L3: 5 درصد تجهیزات
B4: درمان
B5: دارو
B8: فرم مصارف | C8: درآمد اعلام شده واحد | D8: سهم مرکز | E8: بند واو تطبیق یافته(سیاستگزاری ستاد) | F8: 1.5 درصد اورژانس | G8: 2 درصد رفاهی | H8: 1 درصد پژوهش | J8: 5 درصد ستاد | K8: 3 درصد خارج از شمول | L8: 5 درصد تجهیزات
B9: درمان
B10: دارو
B13: فرم مانده | C13: درآمد اعلام شده واحد | D13: سهم مرکز | E13: بند واو تطبیق یافته(سیاستگزاری ستاد) | F13: 1.5 درصد اورژانس | G13: 2 درصد رفاهی | H13: 1 درصد پژوهش | J13: 5 درصد ستاد | K13: 3 درصد خارج از شمول | L13: 5 درصد تجهیزات
B14: درمان
B15: دارو
C18: معاونت توسعه مدیریت و منابع
C19: فرم تخصیص درآمدهای اختصاصی (سهم مرکز و در اختیار ستاد) (ارقام به هزار ریال( ماه .................)
C20: 30303 - 30301 | D20: سهم مرکز | E20: (سیاستگزاری ستاد) | F20: 1.5 درصد اورژانس | G20: 2 درصد رفاهی | H20: 1 درصد پژوهش | I20: 1 درصد آموزش | J20: 5 درصد ستاد | K20: 3 درصد خارج از شمول | L20: 5 درصد تجهیزات | M20: جمع
C21: فصل اول
C22: حقوق و مزایای طرح لایحه | M22: =SUM(D22:L22) -> 0
C23: حقوق و مزایای تبصره 4 | M23: =SUM(D23:L23) -> 0
C24: حقوق و مزایای تبصره 3 | M24: =SUM(D24:L24) -> 0
C25: اضافه کار | M25: =SUM(D25:L25) -> 0
C26: محرومیت از مطب | M26: =SUM(D26:L26) -> 0
C27: طرح تمام وقتی و آنکال | M27: =SUM(D27:L27) -> 0
C28: حق مدیریت(خارج از شمول) | M28: =SUM(D28:L28) -> 0
C29: عیدی | M29: =SUM(D29:L29) -> 0
C30: حق مسکن | M30: =SUM(D30:L30) -> 0
C31: سنوات و مرخصی بازنشسته | M31: =SUM(D31:L31) -> 0
C32: سنوات و مرخصی تبصره 3-4 | M32: =SUM(D32:L32) -> 0
C33: مرخصی تبصره 4 | M33: =SUM(D33:L33) -> 0
... C35: سایر2 | M35: =SUM(D35:L35) -> 0
C36: جمع فصل اول | D36: =SUM(D21:D35) -> 0 | E36: =SUM(E21:E35) -> 0 | F36: =SUM(F21:F35) -> 0 | G36: =SUM(G21:G35) -> 0 | H36: =SUM(H21:H35) -> 0 | I36: =SUM(I21:I35) -> 0 | J36: =SUM(J21:J35) -> 0 | K36: =SUM(K21:K35) -> 0 | ... M36: =SUM(M21:M35) -> 0
C37: فصل دوم
C38: مبتنی بر عملکرد پزشکان | M38: =SUM(D38:L38) -> 0
C39: مبتنی بر عملکرد کارکنان | M39: =SUM(D39:L39) -> 0
C40: ماموریت | M40: =SUM(D40:L40) -> 0
C41: آب | M41: =SUM(D41:L41) -> 0
C42: برق | M42: =SUM(D42:L42) -> 0
C43: گاز | M43: =SUM(D43:L43) -> 0
C44: تلفن | M44: =SUM(D44:L44) -> 0
C45: نفت سفید | M45: =SUM(D45:L45) -> 0
C46: گازوئیل | M46: =SUM(D46:L46) -> 0
C47: بنزین | M47: =SUM(D47:L47) -> 0
C48: هزینه سفر | M48: =SUM(D48:L48) -> 0
C49: قراردادها | M49: =SUM(D49:L49) -> 0
... C56: سایر | M56: =SUM(D56:L56) -> 0
C57: جمع فصل دوم | D57: =SUM(D38:D56) -> 0 | E57: =SUM(E38:E56) -> 0 | F57: =SUM(F38:F56) -> 0 | G57: =SUM(G38:G56) -> 0 | H57: =SUM(H38:H56) -> 0 | I57: =SUM(I38:I56) -> 0 | J57: =SUM(J38:J56) -> 0 | K57: =SUM(K38:K56) -> 0 | ... M57: =SUM(M38:M56) -> 0
C58: فصل سوم
C59: اجاره ساختمان | M59: =SUM(D59:L59) -> 0
C60: سایر | M60: =SUM(D60:L60) -> 0
C61: جمع فصل سوم | D61: =SUM(D59:D60) -> 0 | E61: =SUM(E59:E60) -> 0 | F61: =SUM(F59:F60) -> 0 | G61: =SUM(G59:G60) -> 0 | H61: =SUM(H59:H60) -> 0 | I61: =SUM(I59:I60) -> 0 | J61: =SUM(J59:J60) -> 0 | K61: =SUM(K59:K60) -> 0 | ... M61: =SUM(M59:M60) -> 0
C62: فصل ششم
C63: بیمه حقوق | M63: =SUM(D63:L63) -> 0
C64: سنوات خدمت بازنشسته | M64: =SUM(D64:L64) -> 0
C65: سنوات قراردادی | M65: =SUM(D65:L65) -> 0
C66: بیمه بازنشستگی | M66: =SUM(D66:L66) -> 0
C67: کمک هزینه مسکن | M67: =SUM(D67:L67) -> 0
C68: کمک هزینه مهد کودک | M68: =SUM(D68:L68) -> 0
C69: ازدواج و فوت | M69: =SUM(D69:L69) -> 0
C70: کمک هزینه مسکن | M70: =SUM(D70:L70) -> 0
C71: ورزش و سایر رفاهی | M71: =SUM(D71:L71) -> 0
C72: بیمه تکمیلی جانبازان(خارج از شمول) | M72: =SUM(D72:L72) -> 0
C73: بیمه عمر | M73: =SUM(D73:L73) -> 0
C74: کمک هزینه غذا | M74: =SUM(D74:L74) -> 0
C75: سایر | M75: =SUM(D75:L75) -> 0
C76: جمع فصل ششم | D76: =SUM(D63:D75) -> 0 | E76: =SUM(E63:E75) -> 0 | F76: =SUM(F63:F75) -> 0 | G76: =SUM(G63:G75) -> 0 | H76: =SUM(H63:H75) -> 0 | I76: =SUM(I63:I75) -> 0 | J76: =SUM(J63:J75) -> 0 | K76: =SUM(K63:K75) -> 0 | ... M76: =SUM(M63:M75) -> 0
C77: فصل هفتم
C78: خرید تجهیزات | M78: =SUM(D78:L78) -> 0
C79: خرید انشعابات | M79: =SUM(D79:L79) -> 0
C80: بیمه خودرو | M80: =SUM(D80:L80) -> 0
C81: عوارض و جرایم | M81: =SUM(D81:L81) -> 0
C82: دیون پرسنلی | M82: =SUM(D82:L82) -> 0
C83: دارو | M83: =SUM(D83:L83) -> 0
C84: سایر2 | M84: =SUM(D84:L84) -> 0
C85: جمع فصل هفتم | D85: =SUM(D78:D84) -> 0 | E85: =SUM(E78:E84) -> 0 | F85: =SUM(F78:F84) -> 0 | G85: =SUM(G78:G84) -> 0 | H85: =SUM(H78:H84) -> 0 | I85: =SUM(I78:I84) -> 0 | J85: =SUM(J78:J84) -> 0 | K85: =SUM(K78:K84) -> 0 | ... M85: =SUM(M78:M84) -> 0
C86: جمع کل فصول | D86: =SUM(D36,D57,D61,D76,D85) -> 0 | E86: =SUM(E36,E57,E61,E76,E85) -> 0 | F86: =SUM(F36,F57,F61,F76,F85) -> 0 | G86: =SUM(G36,G57,G61,G76,G85) -> 0 | H86: =SUM(H36,H57,H61,H76,H85) -> 0 | I86: =SUM(I36,I57,I61,I76,I85) -> 0 | J86: =SUM(J36,J57,J61,J76,J85) -> 0 | K86: =SUM(K36,K57,K61,K76,K85) -> 0 | ... M86: =SUM(M36,M57,M61,M76,M85) -> 0

Sheet شبکه تفرش
B3: فرم منابع | C3: درآمد اعلام شده واحد | D3: سهم مرکز | E3: بند واو تطبیق یافته(سیاستگزاری ستاد) | F3: 1.5 درصد اورژانس | G3: 2 درصد رفاهی | H3: 1 درصد پژوهش | J3: 5 درصد ستاد | K3: 3 درصد خارج از شمول | L3: 5 درصد تجهیزات
B4: درمان
B5: دارو
B8: فرم مصارف | C8: درآمد اعلام شده واحد | D8: سهم مرکز | E8: بند واو تطبیق یافته(سیاستگزاری ستاد) | F8: 1.5 درصد اورژانس | G8: 2 درصد رفاهی | H8: 1 درصد پژوهش | J8: 5 درصد ستاد | K8: 3 درصد خارج از شمول | L8: 5 درصد تجهیزات
B9: درمان
B10: دارو
B13: فرم مانده | C13: درآمد اعلام شده واحد | D13: سهم مرکز | E13: بند واو تطبیق یافته(سیاستگزاری ستاد) | F13: 1.5 درصد اورژانس | G13: 2 درصد رفاهی | H13: 1 درصد پژوهش | J13: 5 درصد ستاد | K13: 3 درصد خارج از شمول | L13: 5 درصد تجهیزات
B14: درمان
B15: دارو
C18: معاونت توسعه مدیریت و منابع
C19: فرم تخصیص درآمدهای اختصاصی (سهم مرکز و در اختیار ستاد) (ارقام به هزار ریال( ماه .................)
C20: 30303 - 30301 | D20: سهم مرکز | E20: (سیاستگزاری ستاد) | F20: 1.5 درصد اورژانس | G20: 2 درصد رفاهی | H20: 1 درصد پژوهش | I20: 1 درصد آموزش | J20: 5 درصد ستاد | K20: 3 درصد خارج از شمول | L20: 5 درصد تجهیزات | M20: جمع
C21: فصل اول
C22: حقوق و مزایای طرح لایحه | M22: =SUM(D22:L22) -> 0
C23: حقوق و مزایای تبصره 4 | M23: =SUM(D23:L23) -> 0
C24: حقوق و مزایای تبصره 3 | M24: =SUM(D24:L24) -> 0
C25: اضافه کار | M25: =SUM(D25:L25) -> 0
C26: محرومیت از مطب | M26: =SUM(D26:L26) -> 0
C27: طرح تمام وقتی و آنکال | M27: =SUM(D27:L27) -> 0
C28: حق مدیریت(خارج از شمول) | M28: =SUM(D28:L28) -> 0
C29: عیدی | M29: =SUM(D29:L29) -> 0
C30: حق مسکن | M30: =SUM(D30:L30) -> 0
C31: سنوات و مرخصی بازنشسته | M31: =SUM(D31:L31) -> 0
C32: سنوات و مرخصی تبصره 3-4 | M32: =SUM(D32:L32) -> 0
C33: مرخصی تبصره 4 | M33: =SUM(D33:L33) -> 0
... C35: سایر2 | M35: =SUM(D35:L35) -> 0
C36: جمع فصل اول | D36: =SUM(D21:D35) -> 0 | E36: =SUM(E21:E35) -> 0 | F36: =SUM(F21:F35) -> 0 | G36: =SUM(G21:G35) -> 0 | H36: =SUM(H21:H35) -> 0 | I36: =SUM(I21:I35) -> 0 | J36: =SUM(J21:J35) -> 0 | K36: =SUM(K21:K35) -> 0 | ... M36: =SUM(M21:M35) -> 0
C37: فصل دوم
C38: مبتنی بر عملکرد پزشکان | M38: =SUM(D38:L38) -> 0
C39: مبتنی بر عملکرد کارکنان | M39: =SUM(D39:L39) -> 0
C40: ماموریت | M40: =SUM(D40:L40) -> 0
C41: آب | M41: =SUM(D41:L41) -> 0
C42: برق | M42: =SUM(D42:L42) -> 0
C43: گاز | M43: =SUM(D43:L43) -> 0
C44: تلفن | M44: =SUM(D44:L44) -> 0
C45: نفت سفید | M45: =SUM(D45:L45) -> 0
C46: گازوئیل | M46: =SUM(D46:L46) -> 0
C47: بنزین | M47: =SUM(D47:L47) -> 0
C48: هزینه سفر | M48: =SUM(D48:L48) -> 0
C49: قراردادها | M49: =SUM(D49:L49) -> 0
... C56: سایر | M56: =SUM(D56:L56) -> 0
C57: جمع فصل دوم | D57: =SUM(D38:D56) -> 0 | E57: =SUM(E38:E56) -> 0 | F57: =SUM(F38:F56) -> 0 | G57: =SUM(G38:G56) -> 0 | H57: =SUM(H38:H56) -> 0 | I57: =SUM(I38:I56) -> 0 | J57: =SUM(J38:J56) -> 0 | K57: =SUM(K38:K56) -> 0 | ... M57: =SUM(M38:M56) -> 0
C58: فصل سوم
C59: اجاره ساختمان | M59: =SUM(D59:L59) -> 0
C60: سایر | M60: =SUM(D60:L60) -> 0
C61: جمع فصل سوم | D61: =SUM(D59:D60) -> 0 | E61: =SUM(E59:E60) -> 0 | F61: =SUM(F59:F60) -> 0 | G61: =SUM(G59:G60) -> 0 | H61: =SUM(H59:H60) -> 0 | I61: =SUM(I59:I60) -> 0 | J61: =SUM(J59:J60) -> 0 | K61: =SUM(K59:K60) -> 0 | ... M61: =SUM(M59:M60) -> 0
C62: فصل ششم
C63: بیمه حقوق | M63: =SUM(D63:L63) -> 0
C64: سنوات خدمت بازنشسته | M64: =SUM(D64:L64) -> 0
C65: سنوات قراردادی | M65: =SUM(D65:L65) -> 0
C66: بیمه بازنشستگی | M66: =SUM(D66:L66) -> 0
C67: کمک هزینه مسکن | M67: =SUM(D67:L67) -> 0
C68: کمک هزینه مهد کودک | M68: =SUM(D68:L68) -> 0
C69: ازدواج و فوت | M69: =SUM(D69:L69) -> 0
C70: کمک هزینه مسکن | M70: =SUM(D70:L70) -> 0
C71: ورزش و سایر رفاهی | M71: =SUM(D71:L71) -> 0
C72: بیمه تکمیلی جانبازان(خارج از شمول) | M72: =SUM(D72:L72) -> 0
C73: بیمه عمر | M73: =SUM(D73:L73) -> 0
C74: کمک هزینه غذا | M74: =SUM(D74:L74) -> 0
C75: سایر | M75: =SUM(D75:L75) -> 0
C76: جمع فصل ششم | D76: =SUM(D63:D75) -> 0 | E76: =SUM(E63:E75) -> 0 | F76: =SUM(F63:F75) -> 0 | G76: =SUM(G63:G75) -> 0 | H76: =SUM(H63:H75) -> 0 | I76: =SUM(I63:I75) -> 0 | J76: =SUM(J63:J75) -> 0 | K76: =SUM(K63:K75) -> 0 | ... M76: =SUM(M63:M75) -> 0
C77: فصل هفتم
C78: خرید تجهیزات | M78: =SUM(D78:L78) -> 0
C79: خرید انشعابات | M79: =SUM(D79:L79) -> 0
C80: بیمه خودرو | M80: =SUM(D80:L80) -> 0
C81: عوارض و جرایم | M81: =SUM(D81:L81) -> 0
C82: دیون پرسنلی | M82: =SUM(D82:L82) -> 0
C83: دارو | M83: =SUM(D83:L83) -> 0
C84: سایر2 | M84: =SUM(D84:L84) -> 0
C85: جمع فصل هفتم | D85: =SUM(D78:D84) -> 0 | E85: =SUM(E78:E84) -> 0 | F85: =SUM(F78:F84) -> 0 | G85: =SUM(G78:G84) -> 0 | H85: =SUM(H78:H84) -> 0 | I85: =SUM(I78:I84) -> 0 | J85: =SUM(J78:J84) -> 0 | K85: =SUM(K78:K84) -> 0 | ... M85: =SUM(M78:M84) -> 0
C86: جمع کل فصول | D86: =SUM(D36,D57,D61,D76,D85) -> 0 | E86: =SUM(E36,E57,E61,E76,E85) -> 0 | F86: =SUM(F36,F57,F61,F76,F85) -> 0 | G86: =SUM(G36,G57,G61,G76,G85) -> 0 | H86: =SUM(H36,H57,H61,H76,H85) -> 0 | I86: =SUM(I36,I57,I61,I76,I85) -> 0 | J86: =SUM(J36,J57,J61,J76,J85) -> 0 | K86: =SUM(K36,K57,K61,K76,K85) -> 0 | ... M86: =SUM(M36,M57,M61,M76,M85) -> 0

Sheet شبکه فراهان
B3: فرم منابع | C3: درآمد اعلام شده واحد | D3: سهم مرکز | E3: بند واو تطبیق یافته(سیاستگزاری ستاد) | F3: 1.5 درصد اورژانس | G3: 2 درصد رفاهی | H3: 1 درصد پژوهش | J3: 5 درصد ستاد | K3: 3 درصد خارج از شمول | L3: 5 درصد تجهیزات
B4: درمان
B5: دارو
B8: فرم مصارف | C8: درآمد اعلام شده واحد | D8: سهم مرکز | E8: بند واو تطبیق یافته(سیاستگزاری ستاد) | F8: 1.5 درصد اورژانس | G8: 2 درصد رفاهی | H8: 1 درصد پژوهش | J8: 5 درصد ستاد | K8: 3 درصد خارج از شمول | L8: 5 درصد تجهیزات
B9: درمان
B10: دارو
B13: فرم مانده | C13: درآمد اعلام شده واحد | D13: سهم مرکز | E13: بند واو تطبیق یافته(سیاستگزاری ستاد) | F13: 1.5 درصد اورژانس | G13: 2 درصد رفاهی | H13: 1 درصد پژوهش | J13: 5 درصد ستاد | K13: 3 درصد خارج از شمول | L13: 5 درصد تجهیزات
B14: درمان
B15: دارو
C18: معاونت توسعه مدیریت و منابع
C19: فرم تخصیص درآمدهای اختصاصی (سهم مرکز و در اختیار ستاد) (ارقام به هزار ریال( ماه .................)
C20: 30303 - 30301 | D20: سهم مرکز | E20: (سیاستگزاری ستاد) | F20: 1.5 درصد اورژانس | G20: 2 درصد رفاهی | H20: 1 درصد پژوهش | I20: 1 درصد آموزش | J20: 5 درصد ستاد | K20: 3 درصد خارج از شمول | L20: 5 درصد تجهیزات | M20: جمع
C21: فصل اول
C22: حقوق و مزایای طرح لایحه | M22: =SUM(D22:L22) -> 0
C23: حقوق و مزایای تبصره 4 | M23: =SUM(D23:L23) -> 0
C24: حقوق و مزایای تبصره 3 | M24: =SUM(D24:L24) -> 0
C25: اضافه کار | M25: =SUM(D25:L25) -> 0
C26: محرومیت از مطب | M26: =SUM(D26:L26) -> 0
C27: طرح تمام وقتی و آنکال | M27: =SUM(D27:L27) -> 0
C28: حق مدیریت(خارج از شمول) | M28: =SUM(D28:L28) -> 0
C29: عیدی | M29: =SUM(D29:L29) -> 0
C30: حق مسکن | M30: =SUM(D30:L30) -> 0
C31: سنوات و مرخصی بازنشسته | M31: =SUM(D31:L31) -> 0
C32: سنوات و مرخصی تبصره 3-4 | M32: =SUM(D32:L32) -> 0
C33: مرخصی تبصره 4 | M33: =SUM(D33:L33) -> 0
... C35: سایر2 | M35: =SUM(D35:L35) -> 0
C36: جمع فصل اول | D36: =SUM(D21:D35) -> 0 | E36: =SUM(E21:E35) -> 0 | F36: =SUM(F21:F35) -> 0 | G36: =SUM(G21:G35) -> 0 | H36: =SUM(H21:H35) -> 0 | I36: =SUM(I21:I35) -> 0 | J36: =SUM(J21:J35) -> 0 | K36: =SUM(K21:K35) -> 0 | ... M36: =SUM(M21:M35) -> 0
C37: فصل دوم
C38: مبتنی بر عملکرد پزشکان | M38: =SUM(D38:L38) -> 0
C39: مبتنی بر عملکرد کارکنان | M39: =SUM(D39:L39) -> 0
C40: ماموریت | M40: =SUM(D40:L40) -> 0
C41: آب | M41: =SUM(D41:L41) -> 0
C42: برق | M42: =SUM(D42:L42) -> 0
C43: گاز | M43: =SUM(D43:L43) -> 0
C44: تلفن | M44: =SUM(D44:L44) -> 0
C45: نفت سفید | M45: =SUM(D45:L45) -> 0
C46: گازوئیل | M46: =SUM(D46:L46) -> 0
C47: بنزین | M47: =SUM(D47:L47) -> 0
C48: هزینه سفر | M48: =SUM(D48:L48) -> 0
C49: قراردادها | M49: =SUM(D49:L49) -> 0
... C56: سایر | M56: =SUM(D56:L56) -> 0
C57: جمع فصل دوم | D57: =SUM(D38:D56) -> 0 | E57: =SUM(E38:E56) -> 0 | F57: =SUM(F38:F56) -> 0 | G57: =SUM(G38:G56) -> 0 | H57: =SUM(H38:H56) -> 0 | I57: =SUM(I38:I56) -> 0 | J57: =SUM(J38:J56) -> 0 | K57: =SUM(K38:K56) -> 0 | ... M57: =SUM(M38:M56) -> 0
C58: فصل سوم
C59: اجاره ساختمان | M59: =SUM(D59:L59) -> 0
C60: سایر | M60: =SUM(D60:L60) -> 0
C61: جمع فصل سوم | D61: =SUM(D59:D60) -> 0 | E61: =SUM(E59:E60) -> 0 | F61: =SUM(F59:F60) -> 0 | G61: =SUM(G59:G60) -> 0 | H61: =SUM(H59:H60) -> 0 | I61: =SUM(I59:I60) -> 0 | J61: =SUM(J59:J60) -> 0 | K61: =SUM(K59:K60) -> 0 | ... M61: =SUM(M59:M60) -> 0
C62: فصل ششم
C63: بیمه حقوق | M63: =SUM(D63:L63) -> 0
C64: سنوات خدمت بازنشسته | M64: =SUM(D64:L64) -> 0
C65: سنوات قراردادی | M65: =SUM(D65:L65) -> 0
C66: بیمه بازنشستگی | M66: =SUM(D66:L66) -> 0
C67: کمک هزینه مسکن | M67: =SUM(D67:L67) -> 0
C68: کمک هزینه مهد کودک | M68: =SUM(D68:L68) -> 0
C69: ازدواج و فوت | M69: =SUM(D69:L69) -> 0
C70: کمک هزینه مسکن | M70: =SUM(D70:L70) -> 0
C71: ورزش و سایر رفاهی | M71: =SUM(D71:L71) -> 0
C72: بیمه تکمیلی جانبازان(خارج از شمول) | M72: =SUM(D72:L72) -> 0
C73: بیمه عمر | M73: =SUM(D73:L73) -> 0
C74: کمک هزینه غذا | M74: =SUM(D74:L74) -> 0
C75: سایر | M75: =SUM(D75:L75) -> 0
C76: جمع فصل ششم | D76: =SUM(D63:D75) -> 0 | E76: =SUM(E63:E75) -> 0 | F76: =SUM(F63:F75) -> 0 | G76: =SUM(G63:G75) -> 0 | H76: =SUM(H63:H75) -> 0 | I76: =SUM(I63:I75) -> 0 | J76: =SUM(J63:J75) -> 0 | K76: =SUM(K63:K75) -> 0 | ... M76: =SUM(M63:M75) -> 0
C77: فصل هفتم
C78: خرید تجهیزات | M78: =SUM(D78:L78) -> 0
C79: خرید انشعابات | M79: =SUM(D79:L79) -> 0
C80: بیمه خودرو | M80: =SUM(D80:L80) -> 0
C81: عوارض و جرایم | M81: =SUM(D81:L81) -> 0
C82: دیون پرسنلی | M82: =SUM(D82:L82) -> 0
C83: دارو | M83: =SUM(D83:L83) -> 0
C84: سایر2 | M84: =SUM(D84:L84) -> 0
C85: جمع فصل هفتم | D85: =SUM(D78:D84) -> 0 | E85: =SUM(E78:E84) -> 0 | F85: =SUM(F78:F84) -> 0 | G85: =SUM(G78:G84) -> 0 | H85: =SUM(H78:H84) -> 0 | I85: =SUM(I78:I84) -> 0 | J85: =SUM(J78:J84) -> 0 | K85: =SUM(K78:K84) -> 0 | ... M85: =SUM(M78:M84) -> 0
C86: جمع کل فصول | D86: =SUM(D36,D57,D61,D76,D85) -> 0 | E86: =SUM(E36,E57,E61,E76,E85) -> 0 | F86: =SUM(F36,F57,F61,F76,F85) -> 0 | G86: =SUM(G36,G57,G61,G76,G85) -> 0 | H86: =SUM(H36,H57,H61,H76,H85) -> 0 | I86: =SUM(I36,I57,I61,I76,I85) -> 0 | J86: =SUM(J36,J57,J61,J76,J85) -> 0 | K86: =SUM(K36,K57,K61,K76,K85) -> 0 | ... M86: =SUM(M36,M57,M61,M76,M85) -> 0

Sheet بیمارستان فراهان
B3: فرم منابع | C3: درآمد اعلام شده واحد | D3: سهم مرکز | E3: بند واو تطبیق یافته(سیاستگزاری ستاد) | F3: 1.5 درصد اورژانس | G3: 2 درصد رفاهی | H3: 1 درصد پژوهش | J3: 5 درصد ستاد | K3: 3 درصد خارج از شمول | L3: 5 درصد تجهیزات
B4: درمان
B5: دارو
B8: فرم مصارف | C8: درآمد اعلام شده واحد | D8: سهم مرکز | E8: بند واو تطبیق یافته(سیاستگزاری ستاد) | F8: 1.5 درصد اورژانس | G8: 2 درصد رفاهی | H8: 1 درصد پژوهش | J8: 5 درصد ستاد | K8: 3 درصد خارج از شمول | L8: 5 درصد تجهیزات
B9: درمان
B10: دارو
B13: فرم مانده | C13: درآمد اعلام شده واحد | D13: سهم مرکز | E13: بند واو تطبیق یافته(سیاستگزاری ستاد) | F13: 1.5 درصد اورژانس | G13: 2 درصد رفاهی | H13: 1 درصد پژوهش | J13: 5 درصد ستاد | K13: 3 درصد خارج از شمول | L13: 5 درصد تجهیزات
B14: درمان
B15: دارو
C18: معاونت توسعه مدیریت و منابع
C19: فرم تخصیص درآمدهای اختصاصی (سهم مرکز و در اختیار ستاد) (ارقام به هزار ریال( ماه .................)
C20: 30303 - 30301(بیمارستان فراهان) | D20: سهم مرکز | E20: (سیاستگزاری ستاد) | F20: 1.5 درصد اورژانس | G20: 2 درصد رفاهی | H20: 1 درصد پژوهش | I20: 1 درصد آموزش | J20: 5 درصد ستاد | K20: 3 درصد خارج از شمول | L20: 5 درصد تجهیزات | M20: جمع
C21: فصل اول
C22: حقوق و مزایای طرح لایحه | M22: =SUM(D22:L22) -> 0
C23: حقوق و مزایای تبصره 4 | M23: =SUM(D23:L23) -> 0
C24: حقوق و مزایای تبصره 3 | M24: =SUM(D24:L24) -> 0
C25: اضافه کار | M25: =SUM(D25:L25) -> 0
C26: محرومیت از مطب | M26: =SUM(D26:L26) -> 0
C27: طرح تمام وقتی و آنکال | M27: =SUM(D27:L27) -> 0
C28: حق مدیریت(خارج از شمول) | M28: =SUM(D28:L28) -> 0
C29: عیدی | M29: =SUM(D29:L29) -> 0
C30: حق مسکن | M30: =SUM(D30:L30) -> 0
C31: سنوات و مرخصی بازنشسته | M31: =SUM(D31:L31) -> 0
C32: سنوات و مرخصی تبصره 3-4 | M32: =SUM(D32:L32) -> 0
C33: مرخصی تبصره 4 | M33: =SUM(D33:L33) -> 0
... C35: سایر2 | M35: =SUM(D35:L35) -> 0
C36: جمع فصل اول | D36: =SUM(D21:D35) -> 0 | E36: =SUM(E21:E35) -> 0 | F36: =SUM(F21:F35) -> 0 | G36: =SUM(G21:G35) -> 0 | H36: =SUM(H21:H35) -> 0 | I36: =SUM(I21:I35) -> 0 | J36: =SUM(J21:J35) -> 0 | K36: =SUM(K21:K35) -> 0 | ... M36: =SUM(M21:M35) -> 0
C37: فصل دوم
C38: مبتنی بر عملکرد پزشکان | M38: =SUM(D38:L38) -> 0
C39: مبتنی بر عملکرد کارکنان | M39: =SUM(D39:L39) -> 0
C40: ماموریت | M40: =SUM(D40:L40) -> 0
C41: آب | M41: =SUM(D41:L41) -> 0
C42: برق | M42: =SUM(D42:L42) -> 0
C43: گاز | M43: =SUM(D43:L43) -> 0
C44: تلفن | M44: =SUM(D44:L44) -> 0
C45: نفت سفید | M45: =SUM(D45:L45) -> 0
C46: گازوئیل | M46: =SUM(D46:L46) -> 0
C47: بنزین | M47: =SUM(D47:L47) -> 0
C48: هزینه سفر | M48: =SUM(D48:L48) -> 0
C49: قراردادها | M49: =SUM(D49:L49) -> 0
... C56: سایر | M56: =SUM(D56:L56) -> 0
C57: جمع فصل دوم | D57: =SUM(D38:D56) -> 0 | E57: =SUM(E38:E56) -> 0 | F57: =SUM(F38:F56) -> 0 | G57: =SUM(G38:G56) -> 0 | H57: =SUM(H38:H56) -> 0 | I57: =SUM(I38:I56) -> 0 | J57: =SUM(J38:J56) -> 0 | K57: =SUM(K38:K56) -> 0 | ... M57: =SUM(M38:M56) -> 0
C58: فصل سوم
C59: اجاره ساختمان | M59: =SUM(D59:L59) -> 0
C60: سایر | M60: =SUM(D60:L60) -> 0
C61: جمع فصل سوم | D61: =SUM(D59:D60) -> 0 | E61: =SUM(E59:E60) -> 0 | F61: =SUM(F59:F60) -> 0 | G61: =SUM(G59:G60) -> 0 | H61: =SUM(H59:H60) -> 0 | I61: =SUM(I59:I60) -> 0 | J61: =SUM(J59:J60) -> 0 | K61: =SUM(K59:K60) -> 0 | ... M61: =SUM(M59:M60) -> 0
C62: فصل ششم
C63: بیمه حقوق | M63: =SUM(D63:L63) -> 0
C64: سنوات خدمت بازنشسته | M64: =SUM(D64:L64) -> 0
C65: سنوات قراردادی | M65: =SUM(D65:L65) -> 0
C66: بیمه بازنشستگی | M66: =SUM(D66:L66) -> 0
C67: کمک هزینه مسکن | M67: =SUM(D67:L67) -> 0
C68: کمک هزینه مهد کودک | M68: =SUM(D68:L68) -> 0
C69: ازدواج و فوت | M69: =SUM(D69:L69) -> 0
C70: کمک هزینه مسکن | M70: =SUM(D70:L70) -> 0
C71: ورزش و سایر رفاهی | M71: =SUM(D71:L71) -> 0
C72: بیمه تکمیلی جانبازان(خارج از شمول) | M72: =SUM(D72:L72) -> 0
C73: بیمه عمر | M73: =SUM(D73:L73) -> 0
C74: کمک هزینه غذا | M74: =SUM(D74:L74) -> 0
C75: سایر | M75: =SUM(D75:L75) -> 0
C76: جمع فصل ششم | D76: =SUM(D63:D75) -> 0 | E76: =SUM(E63:E75) -> 0 | F76: =SUM(F63:F75) -> 0 | G76: =SUM(G63:G75) -> 0 | H76: =SUM(H63:H75) -> 0 | I76: =SUM(I63:I75) -> 0 | J76: =SUM(J63:J75) -> 0 | K76: =SUM(K63:K75) -> 0 | ... M76: =SUM(M63:M75) -> 0
C77: فصل هفتم
C78: خرید تجهیزات | M78: =SUM(D78:L78) -> 0
C79: خرید انشعابات | M79: =SUM(D79:L79) -> 0
C80: بیمه خودرو | M80: =SUM(D80:L80) -> 0
C81: عوارض و جرایم | M81: =SUM(D81:L81) -> 0
C82: دیون پرسنلی | M82: =SUM(D82:L82) -> 0
C83: دارو | M83: =SUM(D83:L83) -> 0
C84: سایر2 | M84: =SUM(D84:L84) -> 0
C85: جمع فصل هفتم | D85: =SUM(D78:D84) -> 0 | E85: =SUM(E78:E84) -> 0 | F85: =SUM(F78:F84) -> 0 | G85: =SUM(G78:G84) -> 0 | H85: =SUM(H78:H84) -> 0 | I85: =SUM(I78:I84) -> 0 | J85: =SUM(J78:J84) -> 0 | K85: =SUM(K78:K84) -> 0 | ... M85: =SUM(M78:M84) -> 0
C86: جمع کل فصول | D86: =SUM(D36,D57,D61,D76,D85) -> 0 | E86: =SUM(E36,E57,E61,E76,E85) -> 0 | F86: =SUM(F36,F57,F61,F76,F85) -> 0 | G86: =SUM(G36,G57,G61,G76,G85) -> 0 | H86: =SUM(H36,H57,H61,H76,H85) -> 0 | I86: =SUM(I36,I57,I61,I76,I85) -> 0 | J86: =SUM(J36,J57,J61,J76,J85) -> 0 | K86: =SUM(K36,K57,K61,K76,K85) -> 0 | ... M86: =SUM(M36,M57,M61,M76,M85) -> 0

Sheet شبکه خنداب
B3: فرم منابع | C3: درآمد اعلام شده واحد | D3: سهم مرکز | E3: بند واو تطبیق یافته(سیاستگزاری ستاد) | F3: 1.5 درصد اورژانس | G3: 2 درصد رفاهی | H3: 1 درصد پژوهش | J3: 5 درصد ستاد | K3: 3 درصد خارج از شمول | L3: 5 درصد تجهیزات
B4: درمان
B5: دارو
B8: فرم مصارف | C8: درآمد اعلام شده واحد | D8: سهم مرکز | E8: بند واو تطبیق یافته(سیاستگزاری ستاد) | F8: 1.5 درصد اورژانس | G8: 2 درصد رفاهی | H8: 1 درصد پژوهش | J8: 5 درصد ستاد | K8: 3 درصد خارج از شمول | L8: 5 درصد تجهیزات
B9: درمان
B10: دارو
B13: فرم مانده | C13: درآمد اعلام شده واحد | D13: سهم مرکز | E13: بند واو تطبیق یافته(سیاستگزاری ستاد) | F13: 1.5 درصد اورژانس | G13: 2 درصد رفاهی | H13: 1 درصد پژوهش | J13: 5 درصد ستاد | K13: 3 درصد خارج از شمول | L13: 5 درصد تجهیزات
B14: درمان
B15: دارو
C18: معاونت توسعه مدیریت و منابع
C19: فرم تخصیص درآمدهای اختصاصی (سهم مرکز و در اختیار ستاد) (ارقام به هزار ریال( ماه .................)
C20: 30303 - 30301 | D20: سهم مرکز | E20: (سیاستگزاری ستاد) | F20: 1.5 درصد اورژانس | G20: 2 درصد رفاهی | H20: 1 درصد پژوهش | I20: 1 درصد آموزش | J20: 5 درصد ستاد | K20: 3 درصد خارج از شمول | L20: 5 درصد تجهیزات | M20: جمع
C21: فصل اول
C22: حقوق و مزایای طرح لایحه | M22: =SUM(D22:L22) -> 0
C23: حقوق و مزایای تبصره 4 | M23: =SUM(D23:L23) -> 0
C24: حقوق و مزایای تبصره 3 | M24: =SUM(D24:L24) -> 0
C25: اضافه کار | M25: =SUM(D25:L25) -> 0
C26: محرومیت از مطب | M26: =SUM(D26:L26) -> 0
C27: طرح تمام وقتی و آنکال | M27: =SUM(D27:L27) -> 0
C28: حق مدیریت(خارج از شمول) | M28: =SUM(D28:L28) -> 0
C29: عیدی | M29: =SUM(D29:L29) -> 0
C30: حق مسکن | M30: =SUM(D30:L30) -> 0
C31: سنوات و مرخصی بازنشسته | M31: =SUM(D31:L31) -> 0
C32: سنوات و مرخصی تبصره 3-4 | M32: =SUM(D32:L32) -> 0
C33: مرخصی تبصره 4 | M33: =SUM(D33:L33) -> 0
... C35: سایر2 | M35: =SUM(D35:L35) -> 0
C36: جمع فصل اول | D36: =SUM(D21:D35) -> 0 | E36: =SUM(E21:E35) -> 0 | F36: =SUM(F21:F35) -> 0 | G36: =SUM(G21:G35) -> 0 | H36: =SUM(H21:H35) -> 0 | I36: =SUM(I21:I35) -> 0 | J36: =SUM(J21:J35) -> 0 | K36: =SUM(K21:K35) -> 0 | ... M36: =SUM(M21:M35) -> 0
C37: فصل دوم
C38: مبتنی بر عملکرد پزشکان | M38: =SUM(D38:L38) -> 0
C39: مبتنی بر عملکرد کارکنان | M39: =SUM(D39:L39) -> 0
C40: ماموریت | M40: =SUM(D40:L40) -> 0
C41: آب | M41: =SUM(D41:L41) -> 0
C42: برق | M42: =SUM(D42:L42) -> 0
C43: گاز | M43: =SUM(D43:L43) -> 0
C44: تلفن | M44: =SUM(D44:L44) -> 0
C45: نفت سفید | M45: =SUM(D45:L45) -> 0
C46: گازوئیل | M46: =SUM(D46:L46) -> 0
C47: بنزین | M47: =SUM(D47:L47) -> 0
C48: هزینه سفر | M48: =SUM(D48:L48) -> 0
C49: قراردادها | M49: =SUM(D49:L49) -> 0
... C56: سایر | M56: =SUM(D56:L56) -> 0
C57: جمع فصل دوم | D57: =SUM(D38:D56) -> 0 | E57: =SUM(E38:E56) -> 0 | F57: =SUM(F38:F56) -> 0 | G57: =SUM(G38:G56) -> 0 | H57: =SUM(H38:H56) -> 0 | I57: =SUM(I38:I56) -> 0 | J57: =SUM(J38:J56) -> 0 | K57: =SUM(K38:K56) -> 0 | ... M57: =SUM(M38:M56) -> 0
C58: فصل سوم
C59: اجاره ساختمان | M59: =SUM(D59:L59) -> 0
C60: سایر | M60: =SUM(D60:L60) -> 0
C61: جمع فصل سوم | D61: =SUM(D59:D60) -> 0 | E61: =SUM(E59:E60) -> 0 | F61: =SUM(F59:F60) -> 0 | G61: =SUM(G59:G60) -> 0 | H61: =SUM(H59:H60) -> 0 | I61: =SUM(I59:I60) -> 0 | J61: =SUM(J59:J60) -> 0 | K61: =SUM(K59:K60) -> 0 | ... M61: =SUM(M59:M60) -> 0
C62: فصل ششم
C63: بیمه حقوق | M63: =SUM(D63:L63) -> 0
C64: سنوات خدمت بازنشسته | M64: =SUM(D64:L64) -> 0
C65: سنوات قراردادی | M65: =SUM(D65:L65) -> 0
C66: بیمه بازنشستگی | M66: =SUM(D66:L66) -> 0
C67: کمک هزینه مسکن | M67: =SUM(D67:L67) -> 0
C68: کمک هزینه مهد کودک | M68: =SUM(D68:L68) -> 0
C69: ازدواج و فوت | M69: =SUM(D69:L69) -> 0
C70: کمک هزینه مسکن | M70: =SUM(D70:L70) -> 0
C71: ورزش و سایر رفاهی | M71: =SUM(D71:L71) -> 0
C72: بیمه تکمیلی جانبازان(خارج از شمول) | M72: =SUM(D72:L72) -> 0
C73: بیمه عمر | M73: =SUM(D73:L73) -> 0
C74: کمک هزینه غذا | M74: =SUM(D74:L74) -> 0
C75: سایر | M75: =SUM(D75:L75) -> 0
C76: جمع فصل ششم | D76: =SUM(D63:D75) -> 0 | E76: =SUM(E63:E75) -> 0 | F76: =SUM(F63:F75) -> 0 | G76: =SUM(G63:G75) -> 0 | H76: =SUM(H63:H75) -> 0 | I76: =SUM(I63:I75) -> 0 | J76: =SUM(J63:J75) -> 0 | K76: =SUM(K63:K75) -> 0 | ... M76: =SUM(M63:M75) -> 0
C77: فصل هفتم
C78: خرید تجهیزات | M78: =SUM(D78:L78) -> 0
C79: خرید انشعابات | M79: =SUM(D79:L79) -> 0
C80: بیمه خودرو | M80: =SUM(D80:L80) -> 0
C81: عوارض و جرایم | M81: =SUM(D81:L81) -> 0
C82: دیون پرسنلی | M82: =SUM(D82:L82) -> 0
C83: دارو | M83: =SUM(D83:L83) -> 0
C84: سایر2 | M84: =SUM(D84:L84) -> 0
C85: جمع فصل هفتم | D85: =SUM(D78:D84) -> 0 | E85: =SUM(E78:E84) -> 0 | F85: =SUM(F78:F84) -> 0 | G85: =SUM(G78:G84) -> 0 | H85: =SUM(H78:H84) -> 0 | I85: =SUM(I78:I84) -> 0 | J85: =SUM(J78:J84) -> 0 | K85: =SUM(K78:K84) -> 0 | ... M85: =SUM(M78:M84) -> 0
C86: جمع کل فصول | D86: =SUM(D36,D57,D61,D76,D85) -> 0 | E86: =SUM(E36,E57,E61,E76,E85) -> 0 | F86: =SUM(F36,F57,F61,F76,F85) -> 0 | G86: =SUM(G36,G57,G61,G76,G85) -> 0 | H86: =SUM(H36,H57,H61,H76,H85) -> 0 | I86: =SUM(I36,I57,I61,I76,I85) -> 0 | J86: =SUM(J36,J57,J61,J76,J85) -> 0 | K86: =SUM(K36,K57,K61,K76,K85) -> 0 | ... M86: =SUM(M36,M57,M61,M76,M85) -> 0

Sheet ستاد
B3: فرم منابع | C3: درآمد اعلام شده واحد | D3: سهم مرکز | E3: بند واو تطبیق یافته(سیاستگزاری ستاد) | F3: 1.5 درصد اورژانس | G3: 2 درصد رفاهی | H3: 1 درصد پژوهش | J3: 5 درصد ستاد | K3: 3 درصد خارج از شمول | L3: 5 درصد تجهیزات
B4: درمان
B5: دارو
B8: فرم مصارف | C8: درآمد اعلام شده واحد | D8: سهم مرکز | E8: بند واو تطبیق یافته(سیاستگزاری ستاد) | F8: 1.5 درصد اورژانس | G8: 2 درصد رفاهی | H8: 1 درصد پژوهش | J8: 5 درصد ستاد | K8: 3 درصد خارج از شمول | L8: 5 درصد تجهیزات
B9: درمان
B10: دارو
B13: فرم مانده | C13: درآمد اعلام شده واحد | D13: سهم مرکز | E13: بند واو تطبیق یافته(سیاستگزاری ستاد) | F13: 1.5 درصد اورژانس | G13: 2 درصد رفاهی | H13: 1 درصد پژوهش | J13: 5 درصد ستاد | K13: 3 درصد خارج از شمول | L13: 5 درصد تجهیزات
B14: درمان
B15: دارو
C18: معاونت توسعه مدیریت و منابع
C19: فرم تخصیص درآمدهای اختصاصی (سهم مرکز و در اختیار ستاد) (ارقام به هزار ریال( ماه .................)
C20: 30303 - 30301(ستاد) | D20: سهم مرکز | E20: (سیاستگزاری ستاد) | F20: 1.5 درصد اورژانس | G20: 2 درصد رفاهی | H20: 1 درصد پژوهش | I20: 1 درصد آموزش | J20: 5 درصد ستاد | K20: 3 درصد خارج از شمول | L20: 5 درصد تجهیزات | M20: جمع
C21: فصل اول
C22: حقوق و مزایای طرح لایحه | M22: =SUM(D22:L22) -> 0
C23: حقوق و مزایای تبصره 4 | M23: =SUM(D23:L23) -> 0
C24: حقوق و مزایای تبصره 3 | M24: =SUM(D24:L24) -> 0
C25: اضافه کار | M25: =SUM(D25:L25) -> 0
C26: محرومیت از مطب | M26: =SUM(D26:L26) -> 0
C27: طرح تمام وقتی و آنکال | M27: =SUM(D27:L27) -> 0
C28: حق مدیریت(خارج از شمول) | M28: =SUM(D28:L28) -> 0
C29: عیدی | M29: =SUM(D29:L29) -> 0
C30: حق مسکن | M30: =SUM(D30:L30) -> 0
C31: سنوات و مرخصی بازنشسته | M31: =SUM(D31:L31) -> 0
C32: سنوات و مرخصی تبصره 3-4 | M32: =SUM(D32:L32) -> 0
C33: مرخصی تبصره 4 | M33: =SUM(D33:L33) -> 0
... C35: سایر2 | M35: =SUM(D35:L35) -> 0
C36: جمع فصل اول | D36: =SUM(D21:D35) -> 0 | E36: =SUM(E21:E35) -> 0 | F36: =SUM(F21:F35) -> 0 | G36: =SUM(G21:G35) -> 0 | H36: =SUM(H21:H35) -> 0 | I36: =SUM(I21:I35) -> 0 | J36: =SUM(J21:J35) -> 0 | K36: =SUM(K21:K35) -> 0 | ... M36: =SUM(M21:M35) -> 0
C37: فصل دوم
C38: مبتنی بر عملکرد پزشکان | M38: =SUM(D38:L38) -> 0
C39: مبتنی بر عملکرد کارکنان | M39: =SUM(D39:L39) -> 0
C40: ماموریت | M40: =SUM(D40:L40) -> 0
C41: آب | M41: =SUM(D41:L41) -> 0
C42: برق | M42: =SUM(D42:L42) -> 0
C43: گاز | M43: =SUM(D43:L43) -> 0
C44: تلفن | M44: =SUM(D44:L44) -> 0
C45: نفت سفید | M45: =SUM(D45:L45) -> 0
C46: گازوئیل | M46: =SUM(D46:L46) -> 0
C47: بنزین | M47: =SUM(D47:L47) -> 0
C48: هزینه سفر | M48: =SUM(D48:L48) -> 0
C49: قراردادها | M49: =SUM(D49:L49) -> 0
... C56: سایر | M56: =SUM(D56:L56) -> 0
C57: جمع فصل دوم | D57: =SUM(D38:D56) -> 0 | E57: =SUM(E38:E56) -> 0 | F57: =SUM(F38:F56) -> 0 | G57: =SUM(G38:G56) -> 0 | H57: =SUM(H38:H56) -> 0 | I57: =SUM(I38:I56) -> 0 | J57: =SUM(J38:J56) -> 0 | K57: =SUM(K38:K56) -> 0 | ... M57: =SUM(M38:M56) -> 0
C58: فصل سوم
C59: اجاره ساختمان | M59: =SUM(D59:L59) -> 0
C60: سایر | M60: =SUM(D60:L60) -> 0
C61: جمع فصل سوم | D61: =SUM(D59:D60) -> 0 | E61: =SUM(E59:E60) -> 0 | F61: =SUM(F59:F60) -> 0 | G61: =SUM(G59:G60) -> 0 | H61: =SUM(H59:H60) -> 0 | I61: =SUM(I59:I60) -> 0 | J61: =SUM(J59:J60) -> 0 | K61: =SUM(K59:K60) -> 0 | ... M61: =SUM(M59:M60) -> 0
C62: فصل ششم
C63: بیمه حقوق | M63: =SUM(D63:L63) -> 0
C64: سنوات خدمت بازنشسته | M64: =SUM(D64:L64) -> 0
C65: سنوات قراردادی | M65: =SUM(D65:L65) -> 0
C66: بیمه بازنشستگی | M66: =SUM(D66:L66) -> 0
C67: کمک هزینه مسکن | M67: =SUM(D67:L67) -> 0
C68: کمک هزینه مهد کودک | M68: =SUM(D68:L68) -> 0
C69: ازدواج و فوت | M69: =SUM(D69:L69) -> 0
C70: کمک هزینه مسکن | M70: =SUM(D70:L70) -> 0
C71: ورزش و سایر رفاهی | M71: =SUM(D71:L71) -> 0
C72: بیمه تکمیلی جانبازان(خارج از شمول) | M72: =SUM(D72:L72) -> 0
C73: بیمه عمر | M73: =SUM(D73:L73) -> 0
C74: کمک هزینه غذا | M74: =SUM(D74:L74) -> 0
C75: سایر | M75: =SUM(D75:L75) -> 0
C76: جمع فصل ششم | D76: =SUM(D63:D75) -> 0 | E76: =SUM(E63:E75) -> 0 | F76: =SUM(F63:F75) -> 0 | G76: =SUM(G63:G75) -> 0 | H76: =SUM(H63:H75) -> 0 | I76: =SUM(I63:I75) -> 0 | J76: =SUM(J63:J75) -> 0 | K76: =SUM(K63:K75) -> 0 | ... M76: =SUM(M63:M75) -> 0
C77: فصل هفتم
C78: خرید تجهیزات | M78: =SUM(D78:L78) -> 0
C79: خرید انشعابات | M79: =SUM(D79:L79) -> 0
C80: بیمه خودرو | M80: =SUM(D80:L80) -> 0
C81: عوارض و جرایم | M81: =SUM(D81:L81) -> 0
C82: دیون پرسنلی | M82: =SUM(D82:L82) -> 0
C83: دارو | M83: =SUM(D83:L83) -> 0
C84: سایر2 | M84: =SUM(D84:L84) -> 0
C85: جمع فصل هفتم | D85: =SUM(D78:D84) -> 0 | E85: =SUM(E78:E84) -> 0 | F85: =SUM(F78:F84) -> 0 | G85: =SUM(G78:G84) -> 0 | H85: =SUM(H78:H84) -> 0 | I85: =SUM(I78:I84) -> 0 | J85: =SUM(J78:J84) -> 0 | K85: =SUM(K78:K84) -> 0 | ... M85: =SUM(M78:M84) -> 0
C86: جمع کل فصول | D86: =SUM(D36,D57,D61,D76,D85) -> 0 | E86: =SUM(E36,E57,E61,E76,E85) -> 0 | F86: =SUM(F36,F57,F61,F76,F85) -> 0 | G86: =SUM(G36,G57,G61,G76,G85) -> 0 | H86: =SUM(H36,H57,H61,H76,H85) -> 0 | I86: =SUM(I36,I57,I61,I76,I85) -> 0 | J86: =SUM(J36,J57,J61,J76,J85) -> 0 | K86: =SUM(K36,K57,K61,K76,K85) -> 0 | ... M86: =SUM(M36,M57,M61,M76,M85) -> 0

Sheet نهاد رهبری (ستاد)
B3: فرم منابع | C3: درآمد اعلام شده واحد | D3: سهم مرکز | E3: بند واو تطبیق یافته(سیاستگزاری ستاد) | F3: 1.5 درصد اورژانس | G3: 2 درصد رفاهی | H3: 1 درصد پژوهش | J3: 5 درصد ستاد | K3: 3 درصد خارج از شمول | L3: 5 درصد تجهیزات
B4: درمان
B5: دارو
B8: فرم مصارف | C8: درآمد اعلام شده واحد | D8: سهم مرکز | E8: بند واو تطبیق یافته(سیاستگزاری ستاد) | F8: 1.5 درصد اورژانس | G8: 2 درصد رفاهی | H8: 1 درصد پژوهش | J8: 5 درصد ستاد | K8: 3 درصد خارج از شمول | L8: 5 درصد تجهیزات
B9: درمان
B10: دارو
B13: فرم مانده | C13: درآمد اعلام شده واحد | D13: سهم مرکز | E13: بند واو تطبیق یافته(سیاستگزاری ستاد) | F13: 1.5 درصد اورژانس | G13: 2 درصد رفاهی | H13: 1 درصد پژوهش | J13: 5 درصد ستاد | K13: 3 درصد خارج از شمول | L13: 5 درصد تجهیزات
B14: درمان
B15: دارو
C18: معاونت توسعه مدیریت و منابع
C19: فرم تخصیص درآمدهای اختصاصی (سهم مرکز و در اختیار ستاد) (ارقام به هزار ریال( ماه .................)
C20: 30303 - 30301(نهاد رهبری - ستاد) | D20: سهم مرکز | E20: (سیاستگزاری ستاد) | F20: 1.5 درصد اورژانس | G20: 2 درصد رفاهی | H20: 1 درصد پژوهش | I20: 1 درصد آموزش | J20: 5 درصد ستاد | K20: 3 درصد خارج از شمول | L20: 5 درصد تجهیزات | M20: جمع
C21: فصل اول
C22: حقوق و مزایای طرح لایحه | M22: =SUM(D22:L22) -> 0
C23: حقوق و مزایای تبصره 4 | M23: =SUM(D23:L23) -> 0
C24: حقوق و مزایای تبصره 3 | M24: =SUM(D24:L24) -> 0
C25: اضافه کار | M25: =SUM(D25:L25) -> 0
C26: محرومیت از مطب | M26: =SUM(D26:L26) -> 0
C27: طرح تمام وقتی و آنکال | M27: =SUM(D27:L27) -> 0
C28: حق مدیریت(خارج از شمول) | M28: =SUM(D28:L28) -> 0
C29: عیدی | M29: =SUM(D29:L29) -> 0
C30: حق مسکن | M30: =SUM(D30:L30) -> 0
C31: سنوات و مرخصی بازنشسته | M31: =SUM(D31:L31) -> 0
C32: سنوات و مرخصی تبصره 3-4 | M32: =SUM(D32:L32) -> 0
C33: مرخصی تبصره 4 | M33: =SUM(D33:L33) -> 0
... C35: سایر2 | M35: =SUM(D35:L35) -> 0
C36: جمع فصل اول | D36: =SUM(D21:D35) -> 0 | E36: =SUM(E21:E35) -> 0 | F36: =SUM(F21:F35) -> 0 | G36: =SUM(G21:G35) -> 0 | H36: =SUM(H21:H35) -> 0 | I36: =SUM(I21:I35) -> 0 | J36: =SUM(J21:J35) -> 0 | K36: =SUM(K21:K35) -> 0 | ... M36: =SUM(M21:M35) -> 0
C37: فصل دوم
C38: مبتنی بر عملکرد پزشکان | M38: =SUM(D38:L38) -> 0
C39: مبتنی بر عملکرد کارکنان | M39: =SUM(D39:L39) -> 0
C40: ماموریت | M40: =SUM(D40:L40) -> 0
C41: آب | M41: =SUM(D41:L41) -> 0
C42: برق | M42: =SUM(D42:L42) -> 0
C43: گاز | M43: =SUM(D43:L43) -> 0
C44: تلفن | M44: =SUM(D44:L44) -> 0
C45: نفت سفید | M45: =SUM(D45:L45) -> 0
C46: گازوئیل | M46: =SUM(D46:L46) -> 0
C47: بنزین | M47: =SUM(D47:L47) -> 0
C48: هزینه سفر | M48: =SUM(D48:L48) -> 0
C49: قراردادها | M49: =SUM(D49:L49) -> 0
... C56: سایر | M56: =SUM(D56:L56) -> 0
C57: جمع فصل دوم | D57: =SUM(D38:D56) -> 0 | E57: =SUM(E38:E56) -> 0 | F57: =SUM(F38:F56) -> 0 | G57: =SUM(G38:G56) -> 0 | H57: =SUM(H38:H56) -> 0 | I57: =SUM(I38:I56) -> 0 | J57: =SUM(J38:J56) -> 0 | K57: =SUM(K38:K56) -> 0 | ... M57: =SUM(M38:M56) -> 0
C58: فصل سوم
C59: اجاره ساختمان | M59: =SUM(D59:L59) -> 0
C60: سایر | M60: =SUM(D60:L60) -> 0
C61: جمع فصل سوم | D61: =SUM(D59:D60) -> 0 | E61: =SUM(E59:E60) -> 0 | F61: =SUM(F59:F60) -> 0 | G61: =SUM(G59:G60) -> 0 | H61: =SUM(H59:H60) -> 0 | I61: =SUM(I59:I60) -> 0 | J61: =SUM(J59:J60) -> 0 | K61: =SUM(K59:K60) -> 0 | ... M61: =SUM(M59:M60) -> 0
C62: فصل ششم
C63: بیمه حقوق | M63: =SUM(D63:L63) -> 0
C64: سنوات خدمت بازنشسته | M64: =SUM(D64:L64) -> 0
C65: سنوات قراردادی | M65: =SUM(D65:L65) -> 0
C66: بیمه بازنشستگی | M66: =SUM(D66:L66) -> 0
C67: کمک هزینه مسکن | M67: =SUM(D67:L67) -> 0
C68: کمک هزینه مهد کودک | M68: =SUM(D68:L68) -> 0
C69: ازدواج و فوت | M69: =SUM(D69:L69) -> 0
C70: کمک هزینه مسکن | M70: =SUM(D70:L70) -> 0
C71: ورزش و سایر رفاهی | M71: =SUM(D71:L71) -> 0
C72: بیمه تکمیلی جانبازان(خارج از شمول) | M72: =SUM(D72:L72) -> 0
C73: بیمه عمر | M73: =SUM(D73:L73) -> 0
C74: کمک هزینه غذا | M74: =SUM(D74:L74) -> 0
C75: سایر | M75: =SUM(D75:L75) -> 0
C76: جمع فصل ششم | D76: =SUM(D63:D75) -> 0 | E76: =SUM(E63:E75) -> 0 | F76: =SUM(F63:F75) -> 0 | G76: =SUM(G63:G75) -> 0 | H76: =SUM(H63:H75) -> 0 | I76: =SUM(I63:I75) -> 0 | J76: =SUM(J63:J75) -> 0 | K76: =SUM(K63:K75) -> 0 | ... M76: =SUM(M63:M75) -> 0
C77: فصل هفتم
C78: خرید تجهیزات | M78: =SUM(D78:L78) -> 0
C79: خرید انشعابات | M79: =SUM(D79:L79) -> 0
C80: بیمه خودرو | M80: =SUM(D80:L80) -> 0
C81: عوارض و جرایم | M81: =SUM(D81:L81) -> 0
C82: دیون پرسنلی | M82: =SUM(D82:L82) -> 0
C83: دارو | M83: =SUM(D83:L83) -> 0
C84: سایر2 | M84: =SUM(D84:L84) -> 0
C85: جمع فصل هفتم | D85: =SUM(D78:D84) -> 0 | E85: =SUM(E78:E84) -> 0 | F85: =SUM(F78:F84) -> 0 | G85: =SUM(G78:G84) -> 0 | H85: =SUM(H78:H84) -> 0 | I85: =SUM(I78:I84) -> 0 | J85: =SUM(J78:J84) -> 0 | K85: =SUM(K78:K84) -> 0 | ... M85: =SUM(M78:M84) -> 0
C86: جمع کل فصول | D86: =SUM(D36,D57,D61,D76,D85) -> 0 | E86: =SUM(E36,E57,E61,E76,E85) -> 0 | F86: =SUM(F36,F57,F61,F76,F85) -> 0 | G86: =SUM(G36,G57,G61,G76,G85) -> 0 | H86: =SUM(H36,H57,H61,H76,H85) -> 0 | I86: =SUM(I36,I57,I61,I76,I85) -> 0 | J86: =SUM(J36,J57,J61,J76,J85) -> 0 | K86: =SUM(K36,K57,K61,K76,K85) -> 0 | ... M86: =SUM(M36,M57,M61,M76,M85) -> 0

Sheet نهاد رهبری(تدارکات)
B3: فرم منابع | C3: درآمد اعلام شده واحد | D3: سهم مرکز | E3: بند واو تطبیق یافته(سیاستگزاری ستاد) | F3: 1.5 درصد اورژانس | G3: 2 درصد رفاهی | H3: 1 درصد پژوهش | J3: 5 درصد ستاد | K3: 3 درصد خارج از شمول | L3: 5 درصد تجهیزات
B4: درمان
B5: دارو
B8: فرم مصارف | C8: درآمد اعلام شده واحد | D8: سهم مرکز | E8: بند واو تطبیق یافته(سیاستگزاری ستاد) | F8: 1.5 درصد اورژانس | G8: 2 درصد رفاهی | H8: 1 درصد پژوهش | J8: 5 درصد ستاد | K8: 3 درصد خارج از شمول | L8: 5 درصد تجهیزات
B9: درمان
B10: دارو
B13: فرم مانده | C13: درآمد اعلام شده واحد | D13: سهم مرکز | E13: بند واو تطبیق یافته(سیاستگزاری ستاد) | F13: 1.5 درصد اورژانس | G13: 2 درصد رفاهی | H13: 1 درصد پژوهش | J13: 5 درصد ستاد | K13: 3 درصد خارج از شمول | L13: 5 درصد تجهیزات
B14: درمان
B15: دارو
C18: معاونت توسعه مدیریت و منابع
C19: فرم تخصیص درآمدهای اختصاصی (سهم مرکز و در اختیار ستاد) (ارقام به هزار ریال( ماه .................)
C20: 30303 - 30301(نهاد رهبری - تدارکات ستاد) | D20: سهم مرکز | E20: (سیاستگزاری ستاد) | F20: 1.5 درصد اورژانس | G20: 2 درصد رفاهی | H20: 1 درصد پژوهش | I20: 1 درصد آموزش | J20: 5 درصد ستاد | K20: 3 درصد خارج از شمول | L20: 5 درصد تجهیزات | M20: جمع
C21: فصل اول
C22: حقوق و مزایای طرح لایحه | M22: =SUM(D22:L22) -> 0
C23: حقوق و مزایای تبصره 4 | M23: =SUM(D23:L23) -> 0
C24: حقوق و مزایای تبصره 3 | M24: =SUM(D24:L24) -> 0
C25: اضافه کار | M25: =SUM(D25:L25) -> 0
C26: محرومیت از مطب | M26: =SUM(D26:L26) -> 0
C27: طرح تمام وقتی و آنکال | M27: =SUM(D27:L27) -> 0
C28: حق مدیریت(خارج از شمول) | M28: =SUM(D28:L28) -> 0
C29: عیدی | M29: =SUM(D29:L29) -> 0
C30: حق مسکن | M30: =SUM(D30:L30) -> 0
C31: سنوات و مرخصی بازنشسته | M31: =SUM(D31:L31) -> 0
C32: سنوات و مرخصی تبصره 3-4 | M32: =SUM(D32:L32) -> 0
C33: مرخصی تبصره 4 | M33: =SUM(D33:L33) -> 0
... C35: سایر2 | M35: =SUM(D35:L35) -> 0
C36: جمع فصل اول | D36: =SUM(D21:D35) -> 0 | E36: =SUM(E21:E35) -> 0 | F36: =SUM(F21:F35) -> 0 | G36: =SUM(G21:G35) -> 0 | H36: =SUM(H21:H35) -> 0 | I36: =SUM(I21:I35) -> 0 | J36: =SUM(J21:J35) -> 0 | K36: =SUM(K21:K35) -> 0 | ... M36: =SUM(M21:M35) -> 0
C37: فصل دوم
C38: مبتنی بر عملکرد پزشکان | M38: =SUM(D38:L38) -> 0
C39: مبتنی بر عملکرد کارکنان | M39: =SUM(D39:L39) -> 0
C40: ماموریت | M40: =SUM(D40:L40) -> 0
C41: آب | M41: =SUM(D41:L41) -> 0
C42: برق | M42: =SUM(D42:L42) -> 0
C43: گاز | M43: =SUM(D43:L43) -> 0
C44: تلفن | M44: =SUM(D44:L44) -> 0
C45: نفت سفید | M45: =SUM(D45:L45) -> 0
C46: گازوئیل | M46: =SUM(D46:L46) -> 0
C47: بنزین | M47: =SUM(D47:L47) -> 0
C48: هزینه سفر | M48: =SUM(D48:L48) -> 0
C49: قراردادها | M49: =SUM(D49:L49) -> 0
... C56: سایر | M56: =SUM(D56:L56) -> 0
C57: جمع فصل دوم | D57: =SUM(D38:D56) -> 0 | E57: =SUM(E38:E56) -> 0 | F57: =SUM(F38:F56) -> 0 | G57: =SUM(G38:G56) -> 0 | H57: =SUM(H38:H56) -> 0 | I57: =SUM(I38:I56) -> 0 | J57: =SUM(J38:J56) -> 0 | K57: =SUM(K38:K56) -> 0 | ... M57: =SUM(M38:M56) -> 0
C58: فصل سوم
C59: اجاره ساختمان | M59: =SUM(D59:L59) -> 0
C60: سایر | M60: =SUM(D60:L60) -> 0
C61: جمع فصل سوم | D61: =SUM(D59:D60) -> 0 | E61: =SUM(E59:E60) -> 0 | F61: =SUM(F59:F60) -> 0 | G61: =SUM(G59:G60) -> 0 | H61: =SUM(H59:H60) -> 0 | I61: =SUM(I59:I60) -> 0 | J61: =SUM(J59:J60) -> 0 | K61: =SUM(K59:K60) -> 0 | ... M61: =SUM(M59:M60) -> 0
C62: فصل ششم
C63: بیمه حقوق | M63: =SUM(D63:L63) -> 0
C64: سنوات خدمت بازنشسته | M64: =SUM(D64:L64) -> 0
C65: سنوات قراردادی | M65: =SUM(D65:L65) -> 0
C66: بیمه بازنشستگی | M66: =SUM(D66:L66) -> 0
C67: کمک هزینه مسکن | M67: =SUM(D67:L67) -> 0
C68: کمک هزینه مهد کودک | M68: =SUM(D68:L68) -> 0
C69: ازدواج و فوت | M69: =SUM(D69:L69) -> 0
C70: کمک هزینه مسکن | M70: =SUM(D70:L70) -> 0
C71: ورزش و سایر رفاهی | M71: =SUM(D71:L71) -> 0
C72: بیمه تکمیلی جانبازان(خارج از شمول) | M72: =SUM(D72:L72) -> 0
C73: بیمه عمر | M73: =SUM(D73:L73) -> 0
C74: کمک هزینه غذا | M74: =SUM(D74:L74) -> 0
C75: سایر | M75: =SUM(D75:L75) -> 0
C76: جمع فصل ششم | D76: =SUM(D63:D75) -> 0 | E76: =SUM(E63:E75) -> 0 | F76: =SUM(F63:F75) -> 0 | G76: =SUM(G63:G75) -> 0 | H76: =SUM(H63:H75) -> 0 | I76: =SUM(I63:I75) -> 0 | J76: =SUM(J63:J75) -> 0 | K76: =SUM(K63:K75) -> 0 | ... M76: =SUM(M63:M75) -> 0
C77: فصل هفتم
C78: خرید تجهیزات | M78: =SUM(D78:L78) -> 0
C79: خرید انشعابات | M79: =SUM(D79:L79) -> 0
C80: بیمه خودرو | M80: =SUM(D80:L80) -> 0
C81: عوارض و جرایم | M81: =SUM(D81:L81) -> 0
C82: دیون پرسنلی | M82: =SUM(D82:L82) -> 0
C83: دارو | M83: =SUM(D83:L83) -> 0
C84: سایر2 | M84: =SUM(D84:L84) -> 0
C85: جمع فصل هفتم | D85: =SUM(D78:D84) -> 0 | E85: =SUM(E78:E84) -> 0 | F85: =SUM(F78:F84) -> 0 | G85: =SUM(G78:G84) -> 0 | H85: =SUM(H78:H84) -> 0 | I85: =SUM(I78:I84) -> 0 | J85: =SUM(J78:J84) -> 0 | K85: =SUM(K78:K84) -> 0 | ... M85: =SUM(M78:M84) -> 0
C86: جمع کل فصول | D86: =SUM(D36,D57,D61,D76,D85) -> 0 | E86: =SUM(E36,E57,E61,E76,E85) -> 0 | F86: =SUM(F36,F57,F61,F76,F85) -> 0 | G86: =SUM(G36,G57,G61,G76,G85) -> 0 | H86: =SUM(H36,H57,H61,H76,H85) -> 0 | I86: =SUM(I36,I57,I61,I76,I85) -> 0 | J86: =SUM(J36,J57,J61,J76,J85) -> 0 | K86: =SUM(K36,K57,K61,K76,K85) -> 0 | ... M86: =SUM(M36,M57,M61,M76,M85) -> 0

Sheet تدارکات ستاد
B3: فرم منابع | C3: درآمد اعلام شده واحد | D3: سهم مرکز | E3: بند واو تطبیق یافته(سیاستگزاری ستاد) | F3: 1.5 درصد اورژانس | G3: 2 درصد رفاهی | H3: 1 درصد پژوهش | J3: 5 درصد ستاد | K3: 3 درصد خارج از شمول | L3: 5 درصد تجهیزات
B4: درمان
B5: دارو
B8: فرم مصارف | C8: درآمد اعلام شده واحد | D8: سهم مرکز | E8: بند واو تطبیق یافته(سیاستگزاری ستاد) | F8: 1.5 درصد اورژانس | G8: 2 درصد رفاهی | H8: 1 درصد پژوهش | J8: 5 درصد ستاد | K8: 3 درصد خارج از شمول | L8: 5 درصد تجهیزات
B9: درمان
B10: دارو
B13: فرم مانده | C13: درآمد اعلام شده واحد | D13: سهم مرکز | E13: بند واو تطبیق یافته(سیاستگزاری ستاد) | F13: 1.5 درصد اورژانس | G13: 2 درصد رفاهی | H13: 1 درصد پژوهش | J13: 5 درصد ستاد | K13: 3 درصد خارج از شمول | L13: 5 درصد تجهیزات
B14: درمان
B15: دارو
C18: معاونت توسعه مدیریت و منابع
C19: فرم تخصیص درآمدهای اختصاصی (سهم مرکز و در اختیار ستاد) (ارقام به هزار ریال( ماه .................)
C20: 30303 - 30301(تدارکات ستاد) | D20: سهم مرکز | E20: (سیاستگزاری ستاد) | F20: 1.5 درصد اورژانس | G20: 2 درصد رفاهی | H20: 1 درصد پژوهش | I20: 1 درصد آموزش | J20: 5 درصد ستاد | K20: 3 درصد خارج از شمول | L20: 5 درصد تجهیزات | M20: جمع
C21: فصل اول
C22: حقوق و مزایای طرح لایحه | M22: =SUM(D22:L22) -> 0
C23: حقوق و مزایای تبصره 4 | M23: =SUM(D23:L23) -> 0
C24: حقوق و مزایای تبصره 3 | M24: =SUM(D24:L24) -> 0
C25: اضافه کار | M25: =SUM(D25:L25) -> 0
C26: محرومیت از مطب | M26: =SUM(D26:L26) -> 0
C27: طرح تمام وقتی و آنکال | M27: =SUM(D27:L27) -> 0
C28: حق مدیریت(خارج از شمول) | M28: =SUM(D28:L28) -> 0
C29: عیدی | M29: =SUM(D29:L29) -> 0
C30: حق مسکن | M30: =SUM(D30:L30) -> 0
C31: سنوات و مرخصی بازنشسته | M31: =SUM(D31:L31) -> 0
C32: سنوات و مرخصی تبصره 3-4 | M32: =SUM(D32:L32) -> 0
C33: مرخصی تبصره 4 | M33: =SUM(D33:L33) -> 0
... C35: سایر2 | M35: =SUM(D35:L35) -> 0
C36: جمع فصل اول | D36: =SUM(D21:D35) -> 0 | E36: =SUM(E21:E35) -> 0 | F36: =SUM(F21:F35) -> 0 | G36: =SUM(G21:G35) -> 0 | H36: =SUM(H21:H35) -> 0 | I36: =SUM(I21:I35) -> 0 | J36: =SUM(J21:J35) -> 0 | K36: =SUM(K21:K35) -> 0 | ... M36: =SUM(M21:M35) -> 0
C37: فصل دوم
C38: مبتنی بر عملکرد پزشکان | M38: =SUM(D38:L38) -> 0
C39: مبتنی بر عملکرد کارکنان | M39: =SUM(D39:L39) -> 0
C40: ماموریت | M40: =SUM(D40:L40) -> 0
C41: آب | M41: =SUM(D41:L41) -> 0
C42: برق | M42: =SUM(D42:L42) -> 0
C43: گاز | M43: =SUM(D43:L43) -> 0
C44: تلفن | M44: =SUM(D44:L44) -> 0
C45: نفت سفید | M45: =SUM(D45:L45) -> 0
C46: گازوئیل | M46: =SUM(D46:L46) -> 0
C47: بنزین | M47: =SUM(D47:L47) -> 0
C48: هزینه سفر | M48: =SUM(D48:L48) -> 0
C49: قراردادها | M49: =SUM(D49:L49) -> 0
... C56: سایر | M56: =SUM(D56:L56) -> 0
C57: جمع فصل دوم | D57: =SUM(D38:D56) -> 0 | E57: =SUM(E38:E56) -> 0 | F57: =SUM(F38:F56) -> 0 | G57: =SUM(G38:G56) -> 0 | H57: =SUM(H38:H56) -> 0 | I57: =SUM(I38:I56) -> 0 | J57: =SUM(J38:J56) -> 0 | K57: =SUM(K38:K56) -> 0 | ... M57: =SUM(M38:M56) -> 0
C58: فصل سوم
C59: اجاره ساختمان | M59: =SUM(D59:L59) -> 0
C60: سایر | M60: =SUM(D60:L60) -> 0
C61: جمع فصل سوم | D61: =SUM(D59:D60) -> 0 | E61: =SUM(E59:E60) -> 0 | F61: =SUM(F59:F60) -> 0 | G61: =SUM(G59:G60) -> 0 | H61: =SUM(H59:H60) -> 0 | I61: =SUM(I59:I60) -> 0 | J61: =SUM(J59:J60) -> 0 | K61: =SUM(K59:K60) -> 0 | ... M61: =SUM(M59:M60) -> 0
C62: فصل ششم
C63: بیمه حقوق | M63: =SUM(D63:L63) -> 0
C64: سنوات خدمت بازنشسته | M64: =SUM(D64:L64) -> 0
C65: سنوات قراردادی | M65: =SUM(D65:L65) -> 0
C66: بیمه بازنشستگی | M66: =SUM(D66:L66) -> 0
C67: کمک هزینه مسکن | M67: =SUM(D67:L67) -> 0
C68: کمک هزینه مهد کودک | M68: =SUM(D68:L68) -> 0
C69: ازدواج و فوت | M69: =SUM(D69:L69) -> 0
C70: کمک هزینه مسکن | M70: =SUM(D70:L70) -> 0
C71: ورزش و سایر رفاهی | M71: =SUM(D71:L71) -> 0
C72: بیمه تکمیلی جانبازان(خارج از شمول) | M72: =SUM(D72:L72) -> 0
C73: بیمه عمر | M73: =SUM(D73:L73) -> 0
C74: کمک هزینه غذا | M74: =SUM(D74:L74) -> 0
C75: سایر | M75: =SUM(D75:L75) -> 0
C76: جمع فصل ششم | D76: =SUM(D63:D75) -> 0 | E76: =SUM(E63:E75) -> 0 | F76: =SUM(F63:F75) -> 0 | G76: =SUM(G63:G75) -> 0 | H76: =SUM(H63:H75) -> 0 | I76: =SUM(I63:I75) -> 0 | J76: =SUM(J63:J75) -> 0 | K76: =SUM(K63:K75) -> 0 | ... M76: =SUM(M63:M75) -> 0
C77: فصل هفتم
C78: خرید تجهیزات | M78: =SUM(D78:L78) -> 0
C79: خرید انشعابات | M79: =SUM(D79:L79) -> 0
C80: بیمه خودرو | M80: =SUM(D80:L80) -> 0
C81: عوارض و جرایم | M81: =SUM(D81:L81) -> 0
C82: دیون پرسنلی | M82: =SUM(D82:L82) -> 0
C83: دارو | M83: =SUM(D83:L83) -> 0
C84: سایر2 | M84: =SUM(D84:L84) -> 0
C85: جمع فصل هفتم | D85: =SUM(D78:D84) -> 0 | E85: =SUM(E78:E84) -> 0 | F85: =SUM(F78:F84) -> 0 | G85: =SUM(G78:G84) -> 0 | H85: =SUM(H78:H84) -> 0 | I85: =SUM(I78:I84) -> 0 | J85: =SUM(J78:J84) -> 0 | K85: =SUM(K78:K84) -> 0 | ... M85: =SUM(M78:M84) -> 0
C86: جمع کل فصول | D86: =SUM(D36,D57,D61,D76,D85) -> 0 | E86: =SUM(E36,E57,E61,E76,E85) -> 0 | F86: =SUM(F36,F57,F61,F76,F85) -> 0 | G86: =SUM(G36,G57,G61,G76,G85) -> 0 | H86: =SUM(H36,H57,H61,H76,H85) -> 0 | I86: =SUM(I36,I57,I61,I76,I85) -> 0 | J86: =SUM(J36,J57,J61,J76,J85) -> 0 | K86: =SUM(K36,K57,K61,K76,K85) -> 0 | ... M86: =SUM(M36,M57,M61,M76,M85) -> 0

Sheet معاونت دانشجویی
B3: فرم منابع | C3: درآمد اعلام شده واحد | D3: سهم مرکز | E3: بند واو تطبیق یافته(سیاستگزاری ستاد) | F3: 1.5 درصد اورژانس | G3: 2 درصد رفاهی | H3: 1 درصد پژوهش | J3: 5 درصد ستاد | K3: 3 درصد خارج از شمول | L3: 5 درصد تجهیزات
B4: درمان
B5: دارو
B8: فرم مصارف | C8: درآمد اعلام شده واحد | D8: سهم مرکز | E8: بند واو تطبیق یافته(سیاستگزاری ستاد) | F8: 1.5 درصد اورژانس | G8: 2 درصد رفاهی | H8: 1 درصد پژوهش | J8: 5 درصد ستاد | K8: 3 درصد خارج از شمول | L8: 5 درصد تجهیزات
B9: درمان
B10: دارو
B13: فرم مانده | C13: درآمد اعلام شده واحد | D13: سهم مرکز | E13: بند واو تطبیق یافته(سیاستگزاری ستاد) | F13: 1.5 درصد اورژانس | G13: 2 درصد رفاهی | H13: 1 درصد پژوهش | J13: 5 درصد ستاد | K13: 3 درصد خارج از شمول | L13: 5 درصد تجهیزات
B14: درمان
B15: دارو
C18: معاونت توسعه مدیریت و منابع
C19: فرم تخصیص درآمدهای اختصاصی (سهم مرکز و در اختیار ستاد) (ارقام به هزار ریال( ماه .................)
C20: 30303 - 30301 | D20: سهم مرکز | E20: (سیاستگزاری ستاد) | F20: 1.5 درصد اورژانس | G20: 2 درصد رفاهی | H20: 1 درصد پژوهش | I20: 1 درصد آموزش | J20: 5 درصد ستاد | K20: 3 درصد خارج از شمول | L20: 5 درصد تجهیزات | M20: جمع
C21: فصل اول
C22: حقوق و مزایای طرح لایحه | M22: =SUM(D22:L22) -> 0
C23: حقوق و مزایای تبصره 4 | M23: =SUM(D23:L23) -> 0
C24: حقوق و مزایای تبصره 3 | M24: =SUM(D24:L24) -> 0
C25: اضافه کار | M25: =SUM(D25:L25) -> 0
C26: محرومیت از مطب | M26: =SUM(D26:L26) -> 0
C27: طرح تمام وقتی و آنکال | M27: =SUM(D27:L27) -> 0
C28: حق مدیریت(خارج از شمول) | M28: =SUM(D28:L28) -> 0
C29: عیدی | M29: =SUM(D29:L29) -> 0
C30: حق مسکن | M30: =SUM(D30:L30) -> 0
C31: سنوات و مرخصی بازنشسته | M31: =SUM(D31:L31) -> 0
C32: سنوات و مرخصی تبصره 3-4 | M32: =SUM(D32:L32) -> 0
C33: مرخصی تبصره 4 | M33: =SUM(D33:L33) -> 0
... C35: سایر2 | M35: =SUM(D35:L35) -> 0
C36: جمع فصل اول | D36: =SUM(D21:D35) -> 0 | E36: =SUM(E21:E35) -> 0 | F36: =SUM(F21:F35) -> 0 | G36: =SUM(G21:G35) -> 0 | H36: =SUM(H21:H35) -> 0 | I36: =SUM(I21:I35) -> 0 | J36: =SUM(J21:J35) -> 0 | K36: =SUM(K21:K35) -> 0 | ... M36: =SUM(M21:M35) -> 0
C37: فصل دوم
C38: مبتنی بر عملکرد پزشکان | M38: =SUM(D38:L38) -> 0
C39: مبتنی بر عملکرد کارکنان | M39: =SUM(D39:L39) -> 0
C40: ماموریت | M40: =SUM(D40:L40) -> 0
C41: آب | M41: =SUM(D41:L41) -> 0
C42: برق | M42: =SUM(D42:L42) -> 0
C43: گاز | M43: =SUM(D43:L43) -> 0
C44: تلفن | M44: =SUM(D44:L44) -> 0
C45: نفت سفید | M45: =SUM(D45:L45) -> 0
C46: گازوئیل | M46: =SUM(D46:L46) -> 0
C47: بنزین | M47: =SUM(D47:L47) -> 0
C48: هزینه سفر | M48: =SUM(D48:L48) -> 0
C49: قراردادها | M49: =SUM(D49:L49) -> 0
... C56: سایر | M56: =SUM(D56:L56) -> 0
C57: جمع فصل دوم | D57: =SUM(D38:D56) -> 0 | E57: =SUM(E38:E56) -> 0 | F57: =SUM(F38:F56) -> 0 | G57: =SUM(G38:G56) -> 0 | H57: =SUM(H38:H56) -> 0 | I57: =SUM(I38:I56) -> 0 | J57: =SUM(J38:J56) -> 0 | K57: =SUM(K38:K56) -> 0 | ... M57: =SUM(M38:M56) -> 0
C58: فصل سوم
C59: اجاره ساختمان | M59: =SUM(D59:L59) -> 0
C60: سایر | M60: =SUM(D60:L60) -> 0
C61: جمع فصل سوم | D61: =SUM(D59:D60) -> 0 | E61: =SUM(E59:E60) -> 0 | F61: =SUM(F59:F60) -> 0 | G61: =SUM(G59:G60) -> 0 | H61: =SUM(H59:H60) -> 0 | I61: =SUM(I59:I60) -> 0 | J61: =SUM(J59:J60) -> 0 | K61: =SUM(K59:K60) -> 0 | ... M61: =SUM(M59:M60) -> 0
C62: فصل ششم
C63: بیمه حقوق | M63: =SUM(D63:L63) -> 0
C64: سنوات خدمت بازنشسته | M64: =SUM(D64:L64) -> 0
C65: سنوات قراردادی | M65: =SUM(D65:L65) -> 0
C66: بیمه بازنشستگی | M66: =SUM(D66:L66) -> 0
C67: کمک هزینه مسکن | M67: =SUM(D67:L67) -> 0
C68: کمک هزینه مهد کودک | M68: =SUM(D68:L68) -> 0
C69: ازدواج و فوت | M69: =SUM(D69:L69) -> 0
C70: کمک هزینه مسکن | M70: =SUM(D70:L70) -> 0
C71: ورزش و سایر رفاهی | M71: =SUM(D71:L71) -> 0
C72: بیمه تکمیلی جانبازان(خارج از شمول) | M72: =SUM(D72:L72) -> 0
C73: بیمه عمر | M73: =SUM(D73:L73) -> 0
C74: کمک هزینه غذا | M74: =SUM(D74:L74) -> 0
C75: سایر | M75: =SUM(D75:L75) -> 0
C76: جمع فصل ششم | D76: =SUM(D63:D75) -> 0 | E76: =SUM(E63:E75) -> 0 | F76: =SUM(F63:F75) -> 0 | G76: =SUM(G63:G75) -> 0 | H76: =SUM(H63:H75) -> 0 | I76: =SUM(I63:I75) -> 0 | J76: =SUM(J63:J75) -> 0 | K76: =SUM(K63:K75) -> 0 | ... M76: =SUM(M63:M75) -> 0
C77: فصل هفتم
C78: خرید تجهیزات | M78: =SUM(D78:L78) -> 0
C79: خرید انشعابات | M79: =SUM(D79:L79) -> 0
C80: بیمه خودرو | M80: =SUM(D80:L80) -> 0
C81: عوارض و جرایم | M81: =SUM(D81:L81) -> 0
C82: دیون پرسنلی | M82: =SUM(D82:L82) -> 0
C83: دارو | M83: =SUM(D83:L83) -> 0
C84: سایر2 | M84: =SUM(D84:L84) -> 0
C85: جمع فصل هفتم | D85: =SUM(D78:D84) -> 0 | E85: =SUM(E78:E84) -> 0 | F85: =SUM(F78:F84) -> 0 | G85: =SUM(G78:G84) -> 0 | H85: =SUM(H78:H84) -> 0 | I85: =SUM(I78:I84) -> 0 | J85: =SUM(J78:J84) -> 0 | K85: =SUM(K78:K84) -> 0 | ... M85: =SUM(M78:M84) -> 0
C86: جمع کل فصول | D86: =SUM(D36,D57,D61,D76,D85) -> 0 | E86: =SUM(E36,E57,E61,E76,E85) -> 0 | F86: =SUM(F36,F57,F61,F76,F85) -> 0 | G86: =SUM(G36,G57,G61,G76,G85) -> 0 | H86: =SUM(H36,H57,H61,H76,H85) -> 0 | I86: =SUM(I36,I57,I61,I76,I85) -> 0 | J86: =SUM(J36,J57,J61,J76,J85) -> 0 | K86: =SUM(K36,K57,K61,K76,K85) -> 0 | ... M86: =SUM(M36,M57,M61,M76,M85) -> 0

Sheet داروی مخدر
B3: فرم منابع | C3: درآمد اعلام شده واحد | D3: سهم مرکز | E3: بند واو تطبیق یافته(سیاستگزاری ستاد) | F3: 1.5 درصد اورژانس | G3: 2 درصد رفاهی | H3: 1 درصد پژوهش | J3: 5 درصد ستاد | K3: 3 درصد خارج از شمول | L3: 5 درصد تجهیزات
B4: درمان
B5: دارو
B8: فرم مصارف | C8: درآمد اعلام شده واحد | D8: سهم مرکز | E8: بند واو تطبیق یافته(سیاستگزاری ستاد) | F8: 1.5 درصد اورژانس | G8: 2 درصد رفاهی | H8: 1 درصد پژوهش | J8: 5 درصد ستاد | K8: 3 درصد خارج از شمول | L8: 5 درصد تجهیزات
B9: درمان
B10: دارو
B13: فرم مانده | C13: درآمد اعلام شده واحد | D13: سهم مرکز | E13: بند واو تطبیق یافته(سیاستگزاری ستاد) | F13: 1.5 درصد اورژانس | G13: 2 درصد رفاهی | H13: 1 درصد پژوهش | J13: 5 درصد ستاد | K13: 3 درصد خارج از شمول | L13: 5 درصد تجهیزات
B14: درمان
B15: دارو
C18: معاونت توسعه مدیریت و منابع
C19: فرم تخصیص درآمدهای اختصاصی (سهم مرکز و در اختیار ستاد) (ارقام به هزار ریال( ماه .................)
C20: 30303 - 30301(داروی مخدر) | D20: سهم مرکز | E20: (سیاستگزاری ستاد) | F20: 1.5 درصد اورژانس | G20: 2 درصد رفاهی | H20: 1 درصد پژوهش | I20: 1 درصد آموزش | J20: 5 درصد ستاد | K20: 3 درصد خارج از شمول | L20: 5 درصد تجهیزات | M20: جمع
C21: فصل اول
C22: حقوق و مزایای طرح لایحه | M22: =SUM(D22:L22) -> 0
C23: حقوق و مزایای تبصره 4 | M23: =SUM(D23:L23) -> 0
C24: حقوق و مزایای تبصره 3 | M24: =SUM(D24:L24) -> 0
C25: اضافه کار | M25: =SUM(D25:L25) -> 0
C26: محرومیت از مطب | M26: =SUM(D26:L26) -> 0
C27: طرح تمام وقتی و آنکال | M27: =SUM(D27:L27) -> 0
C28: حق مدیریت(خارج از شمول) | M28: =SUM(D28:L28) -> 0
C29: عیدی | M29: =SUM(D29:L29) -> 0
C30: حق مسکن | M30: =SUM(D30:L30) -> 0
C31: سنوات و مرخصی بازنشسته | M31: =SUM(D31:L31) -> 0
C32: سنوات و مرخصی تبصره 3-4 | M32: =SUM(D32:L32) -> 0
C33: مرخصی تبصره 4 | M33: =SUM(D33:L33) -> 0
... C35: سایر2 | M35: =SUM(D35:L35) -> 0
C36: جمع فصل اول | D36: =SUM(D21:D35) -> 0 | E36: =SUM(E21:E35) -> 0 | F36: =SUM(F21:F35) -> 0 | G36: =SUM(G21:G35) -> 0 | H36: =SUM(H21:H35) -> 0 | I36: =SUM(I21:I35) -> 0 | J36: =SUM(J21:J35) -> 0 | K36: =SUM(K21:K35) -> 0 | ... M36: =SUM(M21:M35) -> 0
C37: فصل دوم
C38: مبتنی بر عملکرد پزشکان | M38: =SUM(D38:L38) -> 0
C39: مبتنی بر عملکرد کارکنان | M39: =SUM(D39:L39) -> 0
C40: ماموریت | M40: =SUM(D40:L40) -> 0
C41: آب | M41: =SUM(D41:L41) -> 0
C42: برق | M42: =SUM(D42:L42) -> 0
C43: گاز | M43: =SUM(D43:L43) -> 0
C44: تلفن | M44: =SUM(D44:L44) -> 0
C45: نفت سفید | M45: =SUM(D45:L45) -> 0
C46: گازوئیل | M46: =SUM(D46:L46) -> 0
C47: بنزین | M47: =SUM(D47:L47) -> 0
C48: هزینه سفر | M48: =SUM(D48:L48) -> 0
C49: قراردادها | M49: =SUM(D49:L49) -> 0
... C56: سایر | M56: =SUM(D56:L56) -> 0
C57: جمع فصل دوم | D57: =SUM(D38:D56) -> 0 | E57: =SUM(E38:E56) -> 0 | F57: =SUM(F38:F56) -> 0 | G57: =SUM(G38:G56) -> 0 | H57: =SUM(H38:H56) -> 0 | I57: =SUM(I38:I56) -> 0 | J57: =SUM(J38:J56) -> 0 | K57: =SUM(K38:K56) -> 0 | ... M57: =SUM(M38:M56) -> 0
C58: فصل سوم
C59: اجاره ساختمان | M59: =SUM(D59:L59) -> 0
C60: سایر | M60: =SUM(D60:L60) -> 0
C61: جمع فصل سوم | D61: =SUM(D59:D60) -> 0 | E61: =SUM(E59:E60) -> 0 | F61: =SUM(F59:F60) -> 0 | G61: =SUM(G59:G60) -> 0 | H61: =SUM(H59:H60) -> 0 | I61: =SUM(I59:I60) -> 0 | J61: =SUM(J59:J60) -> 0 | K61: =SUM(K59:K60) -> 0 | ... M61: =SUM(M59:M60) -> 0
C62: فصل ششم
C63: بیمه حقوق | M63: =SUM(D63:L63) -> 0
C64: سنوات خدمت بازنشسته | M64: =SUM(D64:L64) -> 0
C65: سنوات قراردادی | M65: =SUM(D65:L65) -> 0
C66: بیمه بازنشستگی | M66: =SUM(D66:L66) -> 0
C67: کمک هزینه مسکن | M67: =SUM(D67:L67) -> 0
C68: کمک هزینه مهد کودک | M68: =SUM(D68:L68) -> 0
C69: ازدواج و فوت | M69: =SUM(D69:L69) -> 0
C70: کمک هزینه مسکن | M70: =SUM(D70:L70) -> 0
C71: ورزش و سایر رفاهی | M71: =SUM(D71:L71) -> 0
C72: بیمه تکمیلی جانبازان(خارج از شمول) | M72: =SUM(D72:L72) -> 0
C73: بیمه عمر | M73: =SUM(D73:L73) -> 0
C74: کمک هزینه غذا | M74: =SUM(D74:L74) -> 0
C75: سایر | M75: =SUM(D75:L75) -> 0
C76: جمع فصل ششم | D76: =SUM(D63:D75) -> 0 | E76: =SUM(E63:E75) -> 0 | F76: =SUM(F63:F75) -> 0 | G76: =SUM(G63:G75) -> 0 | H76: =SUM(H63:H75) -> 0 | I76: =SUM(I63:I75) -> 0 | J76: =SUM(J63:J75) -> 0 | K76: =SUM(K63:K75) -> 0 | ... M76: =SUM(M63:M75) -> 0
C77: فصل هفتم
C78: خرید تجهیزات | M78: =SUM(D78:L78) -> 0
C79: خرید انشعابات | M79: =SUM(D79:L79) -> 0
C80: بیمه خودرو | M80: =SUM(D80:L80) -> 0
C81: عوارض و جرایم | M81: =SUM(D81:L81) -> 0
C82: دیون پرسنلی | M82: =SUM(D82:L82) -> 0
C83: دارو | M83: =SUM(D83:L83) -> 0
C84: سایر2 | M84: =SUM(D84:L84) -> 0
C85: جمع فصل هفتم | D85: =SUM(D78:D84) -> 0 | E85: =SUM(E78:E84) -> 0 | F85: =SUM(F78:F84) -> 0 | G85: =SUM(G78:G84) -> 0 | H85: =SUM(H78:H84) -> 0 | I85: =SUM(I78:I84) -> 0 | J85: =SUM(J78:J84) -> 0 | K85: =SUM(K78:K84) -> 0 | ... M85: =SUM(M78:M84) -> 0
C86: جمع کل فصول | D86: =SUM(D36,D57,D61,D76,D85) -> 0 | E86: =SUM(E36,E57,E61,E76,E85) -> 0 | F86: =SUM(F36,F57,F61,F76,F85) -> 0 | G86: =SUM(G36,G57,G61,G76,G85) -> 0 | H86: =SUM(H36,H57,H61,H76,H85) -> 0 | I86: =SUM(I36,I57,I61,I76,I85) -> 0 | J86: =SUM(J36,J57,J61,J76,J85) -> 0 | K86: =SUM(K36,K57,K61,K76,K85) -> 0 | ... M86: =SUM(M36,M57,M61,M76,M85) -> 0

Sheet معاونت غذا و دارو
B3: فرم منابع | C3: درآمد اعلام شده واحد | D3: سهم مرکز | E3: بند واو تطبیق یافته(سیاستگزاری ستاد) | F3: 1.5 درصد اورژانس | G3: 2 درصد رفاهی | H3: 1 درصد پژوهش | J3: 5 درصد ستاد | K3: 3 درصد خارج از شمول | L3: 5 درصد تجهیزات
B4: درمان
B5: دارو
B8: فرم مصارف | C8: درآمد اعلام شده واحد | D8: سهم مرکز | E8: بند واو تطبیق یافته(سیاستگزاری ستاد) | F8: 1.5 درصد اورژانس | G8: 2 درصد رفاهی | H8: 1 درصد پژوهش | J8: 5 درصد ستاد | K8: 3 درصد خارج از شمول | L8: 5 درصد تجهیزات
B9: درمان
B10: دارو
B13: فرم مانده | C13: درآمد اعلام شده واحد | D13: سهم مرکز | E13: بند واو تطبیق یافته(سیاستگزاری ستاد) | F13: 1.5 درصد اورژانس | G13: 2 درصد رفاهی | H13: 1 درصد پژوهش | J13: 5 درصد ستاد | K13: 3 درصد خارج از شمول | L13: 5 درصد تجهیزات
B14: درمان
B15: دارو
C18: معاونت توسعه مدیریت و منابع
C19: فرم تخصیص درآمدهای اختصاصی (سهم مرکز و در اختیار ستاد) (ارقام به هزار ریال( ماه .................)
C20: 30303 - 30301(معاونت غذا و دارو) | D20: سهم مرکز | E20: (سیاستگزاری ستاد) | F20: 1.5 درصد اورژانس | G20: 2 درصد رفاهی | H20: 1 درصد پژوهش | I20: 1 درصد آموزش | J20: 5 درصد ستاد | K20: 3 درصد خارج از شمول | L20: 5 درصد تجهیزات | M20: جمع
C21: فصل اول
C22: حقوق و مزایای طرح لایحه | M22: =SUM(D22:L22) -> 0
C23: حقوق و مزایای تبصره 4 | M23: =SUM(D23:L23) -> 0
C24: حقوق و مزایای تبصره 3 | M24: =SUM(D24:L24) -> 0
C25: اضافه کار | M25: =SUM(D25:L25) -> 0
C26: محرومیت از مطب | M26: =SUM(D26:L26) -> 0
C27: طرح تمام وقتی و آنکال | M27: =SUM(D27:L27) -> 0
C28: حق مدیریت(خارج از شمول) | M28: =SUM(D28:L28) -> 0
C29: عیدی | M29: =SUM(D29:L29) -> 0
C30: حق مسکن | M30: =SUM(D30:L30) -> 0
C31: سنوات و مرخصی بازنشسته | M31: =SUM(D31:L31) -> 0
C32: سنوات و مرخصی تبصره 3-4 | M32: =SUM(D32:L32) -> 0
C33: مرخصی تبصره 4 | M33: =SUM(D33:L33) -> 0
... C35: سایر2 | M35: =SUM(D35:L35) -> 0
C36: جمع فصل اول | D36: =SUM(D21:D35) -> 0 | E36: =SUM(E21:E35) -> 0 | F36: =SUM(F21:F35) -> 0 | G36: =SUM(G21:G35) -> 0 | H36: =SUM(H21:H35) -> 0 | I36: =SUM(I21:I35) -> 0 | J36: =SUM(J21:J35) -> 0 | K36: =SUM(K21:K35) -> 0 | ... M36: =SUM(M21:M35) -> 0
C37: فصل دوم
C38: مبتنی بر عملکرد پزشکان | M38: =SUM(D38:L38) -> 0
C39: مبتنی بر عملکرد کارکنان | M39: =SUM(D39:L39) -> 0
C40: ماموریت | M40: =SUM(D40:L40) -> 0
C41: آب | M41: =SUM(D41:L41) -> 0
C42: برق | M42: =SUM(D42:L42) -> 0
C43: گاز | M43: =SUM(D43:L43) -> 0
C44: تلفن | M44: =SUM(D44:L44) -> 0
C45: نفت سفید | M45: =SUM(D45:L45) -> 0
C46: گازوئیل | M46: =SUM(D46:L46) -> 0
C47: بنزین | M47: =SUM(D47:L47) -> 0
C48: هزینه سفر | M48: =SUM(D48:L48) -> 0
C49: قراردادها | M49: =SUM(D49:L49) -> 0
... C56: سایر | M56: =SUM(D56:L56) -> 0
C57: جمع فصل دوم | D57: =SUM(D38:D56) -> 0 | E57: =SUM(E38:E56) -> 0 | F57: =SUM(F38:F56) -> 0 | G57: =SUM(G38:G56) -> 0 | H57: =SUM(H38:H56) -> 0 | I57: =SUM(I38:I56) -> 0 | J57: =SUM(J38:J56) -> 0 | K57: =SUM(K38:K56) -> 0 | ... M57: =SUM(M38:M56) -> 0
C58: فصل سوم
C59: اجاره ساختمان | M59: =SUM(D59:L59) -> 0
C60: سایر | M60: =SUM(D60:L60) -> 0
C61: جمع فصل سوم | D61: =SUM(D59:D60) -> 0 | E61: =SUM(E59:E60) -> 0 | F61: =SUM(F59:F60) -> 0 | G61: =SUM(G59:G60) -> 0 | H61: =SUM(H59:H60) -> 0 | I61: =SUM(I59:I60) -> 0 | J61: =SUM(J59:J60) -> 0 | K61: =SUM(K59:K60) -> 0 | ... M61: =SUM(M59:M60) -> 0
C62: فصل ششم
C63: بیمه حقوق | M63: =SUM(D63:L63) -> 0
C64: سنوات خدمت بازنشسته | M64: =SUM(D64:L64) -> 0
C65: سنوات قراردادی | M65: =SUM(D65:L65) -> 0
C66: بیمه بازنشستگی | M66: =SUM(D66:L66) -> 0
C67: کمک هزینه مسکن | M67: =SUM(D67:L67) -> 0
C68: کمک هزینه مهد کودک | M68: =SUM(D68:L68) -> 0
C69: ازدواج و فوت | M69: =SUM(D69:L69) -> 0
C70: کمک هزینه مسکن | M70: =SUM(D70:L70) -> 0
C71: ورزش و سایر رفاهی | M71: =SUM(D71:L71) -> 0
C72: بیمه تکمیلی جانبازان(خارج از شمول) | M72: =SUM(D72:L72) -> 0
C73: بیمه عمر | M73: =SUM(D73:L73) -> 0
C74: کمک هزینه غذا | M74: =SUM(D74:L74) -> 0
C75: سایر | M75: =SUM(D75:L75) -> 0
C76: جمع فصل ششم | D76: =SUM(D63:D75) -> 0 | E76: =SUM(E63:E75) -> 0 | F76: =SUM(F63:F75) -> 0 | G76: =SUM(G63:G75) -> 0 | H76: =SUM(H63:H75) -> 0 | I76: =SUM(I63:I75) -> 0 | J76: =SUM(J63:J75) -> 0 | K76: =SUM(K63:K75) -> 0 | ... M76: =SUM(M63:M75) -> 0
C77: فصل هفتم
C78: خرید تجهیزات | M78: =SUM(D78:L78) -> 0
C79: خرید انشعابات | M79: =SUM(D79:L79) -> 0
C80: بیمه خودرو | M80: =SUM(D80:L80) -> 0
C81: عوارض و جرایم | M81: =SUM(D81:L81) -> 0
C82: دیون پرسنلی | M82: =SUM(D82:L82) -> 0
C83: دارو | M83: =SUM(D83:L83) -> 0
C84: سایر2 | M84: =SUM(D84:L84) -> 0
C85: جمع فصل هفتم | D85: =SUM(D78:D84) -> 0 | E85: =SUM(E78:E84) -> 0 | F85: =SUM(F78:F84) -> 0 | G85: =SUM(G78:G84) -> 0 | H85: =SUM(H78:H84) -> 0 | I85: =SUM(I78:I84) -> 0 | J85: =SUM(J78:J84) -> 0 | K85: =SUM(K78:K84) -> 0 | ... M85: =SUM(M78:M84) -> 0
C86: جمع کل فصول | D86: =SUM(D36,D57,D61,D76,D85) -> 0 | E86: =SUM(E36,E57,E61,E76,E85) -> 0 | F86: =SUM(F36,F57,F61,F76,F85) -> 0 | G86: =SUM(G36,G57,G61,G76,G85) -> 0 | H86: =SUM(H36,H57,H61,H76,H85) -> 0 | I86: =SUM(I36,I57,I61,I76,I85) -> 0 | J86: =SUM(J36,J57,J61,J76,J85) -> 0 | K86: =SUM(K36,K57,K61,K76,K85) -> 0 | ... M86: =SUM(M36,M57,M61,M76,M85) -> 0

Sheet معاونت آموزش
B3: فرم منابع | C3: درآمد اعلام شده واحد | D3: سهم مرکز | E3: بند واو تطبیق یافته(سیاستگزاری ستاد) | F3: 1.5 درصد اورژانس | G3: 2 درصد رفاهی | H3: 1 درصد پژوهش | J3: 5 درصد ستاد | K3: 3 درصد خارج از شمول | L3: 5 درصد تجهیزات
B4: درمان
B5: دارو
B8: فرم مصارف | C8: درآمد اعلام شده واحد | D8: سهم مرکز | E8: بند واو تطبیق یافته(سیاستگزاری ستاد) | F8: 1.5 درصد اورژانس | G8: 2 درصد رفاهی | H8: 1 درصد پژوهش | J8: 5 درصد ستاد | K8: 3 درصد خارج از شمول | L8: 5 درصد تجهیزات
B9: درمان
B10: دارو
B13: فرم مانده | C13: درآمد اعلام شده واحد | D13: سهم مرکز | E13: بند واو تطبیق یافته(سیاستگزاری ستاد) | F13: 1.5 درصد اورژانس | G13: 2 درصد رفاهی | H13: 1 درصد پژوهش | J13: 5 درصد ستاد | K13: 3 درصد خارج از شمول | L13: 5 درصد تجهیزات
B14: درمان
B15: دارو
C18: معاونت توسعه مدیریت و منابع
C19: فرم تخصیص درآمدهای اختصاصی (سهم مرکز و در اختیار ستاد) (ارقام به هزار ریال( ماه .................)
C20: 30303 - 30301(معاونت آموزش) | D20: سهم مرکز | E20: (سیاستگزاری ستاد) | F20: 1.5 درصد اورژانس | G20: 2 درصد رفاهی | H20: 1 درصد پژوهش | I20: 1 درصد آموزش | J20: 5 درصد ستاد | K20: 3 درصد خارج از شمول | L20: 5 درصد تجهیزات | M20: جمع
C21: فصل اول
C22: حقوق و مزایای طرح لایحه | M22: =SUM(D22:L22) -> 0
C23: حقوق و مزایای تبصره 4 | M23: =SUM(D23:L23) -> 0
C24: حقوق و مزایای تبصره 3 | M24: =SUM(D24:L24) -> 0
C25: اضافه کار | M25: =SUM(D25:L25) -> 0
C26: محرومیت از مطب | M26: =SUM(D26:L26) -> 0
C27: طرح تمام وقتی و آنکال | M27: =SUM(D27:L27) -> 0
C28: حق مدیریت(خارج از شمول) | M28: =SUM(D28:L28) -> 0
C29: عیدی | M29: =SUM(D29:L29) -> 0
C30: حق مسکن | M30: =SUM(D30:L30) -> 0
C31: سنوات و مرخصی بازنشسته | M31: =SUM(D31:L31) -> 0
C32: سنوات و مرخصی تبصره 3-4 | M32: =SUM(D32:L32) -> 0
C33: مرخصی تبصره 4 | M33: =SUM(D33:L33) -> 0
... C35: سایر2 | M35: =SUM(D35:L35) -> 0
C36: جمع فصل اول | D36: =SUM(D21:D35) -> 0 | E36: =SUM(E21:E35) -> 0 | F36: =SUM(F21:F35) -> 0 | G36: =SUM(G21:G35) -> 0 | H36: =SUM(H21:H35) -> 0 | I36: =SUM(I21:I35) -> 0 | J36: =SUM(J21:J35) -> 0 | K36: =SUM(K21:K35) -> 0 | ... M36: =SUM(M21:M35) -> 0
C37: فصل دوم
C38: مبتنی بر عملکرد پزشکان | M38: =SUM(D38:L38) -> 0
C39: مبتنی بر عملکرد کارکنان | M39: =SUM(D39:L39) -> 0
C40: ماموریت | M40: =SUM(D40:L40) -> 0
C41: آب | M41: =SUM(D41:L41) -> 0
C42: برق | M42: =SUM(D42:L42) -> 0
C43: گاز | M43: =SUM(D43:L43) -> 0
C44: تلفن | M44: =SUM(D44:L44) -> 0
C45: نفت سفید | M45: =SUM(D45:L45) -> 0
C46: گازوئیل | M46: =SUM(D46:L46) -> 0
C47: بنزین | M47: =SUM(D47:L47) -> 0
C48: هزینه سفر | M48: =SUM(D48:L48) -> 0
C49: قراردادها | M49: =SUM(D49:L49) -> 0
... C56: سایر | M56: =SUM(D56:L56) -> 0
C57: جمع فصل دوم | D57: =SUM(D38:D56) -> 0 | E57: =SUM(E38:E56) -> 0 | F57: =SUM(F38:F56) -> 0 | G57: =SUM(G38:G56) -> 0 | H57: =SUM(H38:H56) -> 0 | I57: =SUM(I38:I56) -> 0 | J57: =SUM(J38:J56) -> 0 | K57: =SUM(K38:K56) -> 0 | ... M57: =SUM(M38:M56) -> 0
C58: فصل سوم
C59: اجاره ساختمان | M59: =SUM(D59:L59) -> 0
C60: سایر | M60: =SUM(D60:L60) -> 0
C61: جمع فصل سوم | D61: =SUM(D59:D60) -> 0 | E61: =SUM(E59:E60) -> 0 | F61: =SUM(F59:F60) -> 0 | G61: =SUM(G59:G60) -> 0 | H61: =SUM(H59:H60) -> 0 | I61: =SUM(I59:I60) -> 0 | J61: =SUM(J59:J60) -> 0 | K61: =SUM(K59:K60) -> 0 | ... M61: =SUM(M59:M60) -> 0
C62: فصل ششم
C63: بیمه حقوق | M63: =SUM(D63:L63) -> 0
C64: سنوات خدمت بازنشسته | M64: =SUM(D64:L64) -> 0
C65: سنوات قراردادی | M65: =SUM(D65:L65) -> 0
C66: بیمه بازنشستگی | M66: =SUM(D66:L66) -> 0
C67: کمک هزینه مسکن | M67: =SUM(D67:L67) -> 0
C68: کمک هزینه مهد کودک | M68: =SUM(D68:L68) -> 0
C69: ازدواج و فوت | M69: =SUM(D69:L69) -> 0
C70: کمک هزینه مسکن | M70: =SUM(D70:L70) -> 0
C71: ورزش و سایر رفاهی | M71: =SUM(D71:L71) -> 0
C72: بیمه تکمیلی جانبازان(خارج از شمول) | M72: =SUM(D72:L72) -> 0
C73: بیمه عمر | M73: =SUM(D73:L73) -> 0
C74: کمک هزینه غذا | M74: =SUM(D74:L74) -> 0
C75: سایر | M75: =SUM(D75:L75) -> 0
C76: جمع فصل ششم | D76: =SUM(D63:D75) -> 0 | E76: =SUM(E63:E75) -> 0 | F76: =SUM(F63:F75) -> 0 | G76: =SUM(G63:G75) -> 0 | H76: =SUM(H63:H75) -> 0 | I76: =SUM(I63:I75) -> 0 | J76: =SUM(J63:J75) -> 0 | K76: =SUM(K63:K75) -> 0 | ... M76: =SUM(M63:M75) -> 0
C77: فصل هفتم
C78: خرید تجهیزات | M78: =SUM(D78:L78) -> 0
C79: خرید انشعابات | M79: =SUM(D79:L79) -> 0
C80: بیمه خودرو | M80: =SUM(D80:L80) -> 0
C81: عوارض و جرایم | M81: =SUM(D81:L81) -> 0
C82: دیون پرسنلی | M82: =SUM(D82:L82) -> 0
C83: دارو | M83: =SUM(D83:L83) -> 0
C84: سایر2 | M84: =SUM(D84:L84) -> 0
C85: جمع فصل هفتم | D85: =SUM(D78:D84) -> 0 | E85: =SUM(E78:E84) -> 0 | F85: =SUM(F78:F84) -> 0 | G85: =SUM(G78:G84) -> 0 | H85: =SUM(H78:H84) -> 0 | I85: =SUM(I78:I84) -> 0 | J85: =SUM(J78:J84) -> 0 | K85: =SUM(K78:K84) -> 0 | ... M85: =SUM(M78:M84) -> 0
C86: جمع کل فصول | D86: =SUM(D36,D57,D61,D76,D85) -> 0 | E86: =SUM(E36,E57,E61,E76,E85) -> 0 | F86: =SUM(F36,F57,F61,F76,F85) -> 0 | G86: =SUM(G36,G57,G61,G76,G85) -> 0 | H86: =SUM(H36,H57,H61,H76,H85) -> 0 | I86: =SUM(I36,I57,I61,I76,I85) -> 0 | J86: =SUM(J36,J57,J61,J76,J85) -> 0 | K86: =SUM(K36,K57,K61,K76,K85) -> 0 | ... M86: =SUM(M36,M57,M61,M76,M85) -> 0

Sheet معاونت درمان
B3: فرم منابع | C3: درآمد اعلام شده واحد | D3: سهم مرکز | E3: بند واو تطبیق یافته(سیاستگزاری ستاد) | F3: 1.5 درصد اورژانس | G3: 2 درصد رفاهی | H3: 1 درصد پژوهش | J3: 5 درصد ستاد | K3: 3 درصد خارج از شمول | L3: 5 درصد تجهیزات
B4: درمان
B5: دارو
B8: فرم مصارف | C8: درآمد اعلام شده واحد | D8: سهم مرکز | E8: بند واو تطبیق یافته(سیاستگزاری ستاد) | F8: 1.5 درصد اورژانس | G8: 2 درصد رفاهی | H8: 1 درصد پژوهش | J8: 5 درصد ستاد | K8: 3 درصد خارج از شمول | L8: 5 درصد تجهیزات
B9: درمان
B10: دارو
B13: فرم مانده | C13: درآمد اعلام شده واحد | D13: سهم مرکز | E13: بند واو تطبیق یافته(سیاستگزاری ستاد) | F13: 1.5 درصد اورژانس | G13: 2 درصد رفاهی | H13: 1 درصد پژوهش | J13: 5 درصد ستاد | K13: 3 درصد خارج از شمول | L13: 5 درصد تجهیزات
B14: درمان
B15: دارو
C18: معاونت توسعه مدیریت و منابع
C19: فرم تخصیص درآمدهای اختصاصی (سهم مرکز و در اختیار ستاد) (ارقام به هزار ریال( ماه .................)
C20: 30303 - 30301(معاونت درمان) | D20: سهم مرکز | E20: (سیاستگزاری ستاد) | F20: 1.5 درصد اورژانس | G20: 2 درصد رفاهی | H20: 1 درصد پژوهش | I20: 1 درصد آموزش | J20: 5 درصد ستاد | K20: 3 درصد خارج از شمول | L20: 5 درصد تجهیزات | M20: جمع
C21: فصل اول
C22: حقوق و مزایای طرح لایحه | M22: =SUM(D22:L22) -> 0
C23: حقوق و مزایای تبصره 4 | M23: =SUM(D23:L23) -> 0
C24: حقوق و مزایای تبصره 3 | M24: =SUM(D24:L24) -> 0
C25: اضافه کار | M25: =SUM(D25:L25) -> 0
C26: محرومیت از مطب | M26: =SUM(D26:L26) -> 0
C27: طرح تمام وقتی و آنکال | M27: =SUM(D27:L27) -> 0
C28: حق مدیریت(خارج از شمول) | M28: =SUM(D28:L28) -> 0
C29: عیدی | M29: =SUM(D29:L29) -> 0
C30: حق مسکن | M30: =SUM(D30:L30) -> 0
C31: سنوات و مرخصی بازنشسته | M31: =SUM(D31:L31) -> 0
C32: سنوات و مرخصی تبصره 3-4 | M32: =SUM(D32:L32) -> 0
C33: مرخصی تبصره 4 | M33: =SUM(D33:L33) -> 0
... C35: سایر2 | M35: =SUM(D35:L35) -> 0
C36: جمع فصل اول | D36: =SUM(D21:D35) -> 0 | E36: =SUM(E21:E35) -> 0 | F36: =SUM(F21:F35) -> 0 | G36: =SUM(G21:G35) -> 0 | H36: =SUM(H21:H35) -> 0 | I36: =SUM(I21:I35) -> 0 | J36: =SUM(J21:J35) -> 0 | K36: =SUM(K21:K35) -> 0 | ... M36: =SUM(M21:M35) -> 0
C37: فصل دوم
C38: مبتنی بر عملکرد پزشکان | M38: =SUM(D38:L38) -> 0
C39: مبتنی بر عملکرد کارکنان | M39: =SUM(D39:L39) -> 0
C40: ماموریت | M40: =SUM(D40:L40) -> 0
C41: آب | M41: =SUM(D41:L41) -> 0
C42: برق | M42: =SUM(D42:L42) -> 0
C43: گاز | M43: =SUM(D43:L43) -> 0
C44: تلفن | M44: =SUM(D44:L44) -> 0
C45: نفت سفید | M45: =SUM(D45:L45) -> 0
C46: گازوئیل | M46: =SUM(D46:L46) -> 0
C47: بنزین | M47: =SUM(D47:L47) -> 0
C48: هزینه سفر | M48: =SUM(D48:L48) -> 0
C49: قراردادها | M49: =SUM(D49:L49) -> 0
... C56: سایر | M56: =SUM(D56:L56) -> 0
C57: جمع فصل دوم | D57: =SUM(D38:D56) -> 0 | E57: =SUM(E38:E56) -> 0 | F57: =SUM(F38:F56) -> 0 | G57: =SUM(G38:G56) -> 0 | H57: =SUM(H38:H56) -> 0 | I57: =SUM(I38:I56) -> 0 | J57: =SUM(J38:J56) -> 0 | K57: =SUM(K38:K56) -> 0 | ... M57: =SUM(M38:M56) -> 0
C58: فصل سوم
C59: اجاره ساختمان | M59: =SUM(D59:L59) -> 0
C60: سایر | M60: =SUM(D60:L60) -> 0
C61: جمع فصل سوم | D61: =SUM(D59:D60) -> 0 | E61: =SUM(E59:E60) -> 0 | F61: =SUM(F59:F60) -> 0 | G61: =SUM(G59:G60) -> 0 | H61: =SUM(H59:H60) -> 0 | I61: =SUM(I59:I60) -> 0 | J61: =SUM(J59:J60) -> 0 | K61: =SUM(K59:K60) -> 0 | ... M61: =SUM(M59:M60) -> 0
C62: فصل ششم
C63: بیمه حقوق | M63: =SUM(D63:L63) -> 0
C64: سنوات خدمت بازنشسته | M64: =SUM(D64:L64) -> 0
C65: سنوات قراردادی | M65: =SUM(D65:L65) -> 0
C66: بیمه بازنشستگی | M66: =SUM(D66:L66) -> 0
C67: کمک هزینه مسکن | M67: =SUM(D67:L67) -> 0
C68: کمک هزینه مهد کودک | M68: =SUM(D68:L68) -> 0
C69: ازدواج و فوت | M69: =SUM(D69:L69) -> 0
C70: کمک هزینه مسکن | M70: =SUM(D70:L70) -> 0
C71: ورزش و سایر رفاهی | M71: =SUM(D71:L71) -> 0
C72: بیمه تکمیلی جانبازان(خارج از شمول) | M72: =SUM(D72:L72) -> 0
C73: بیمه عمر | M73: =SUM(D73:L73) -> 0
C74: کمک هزینه غذا | M74: =SUM(D74:L74) -> 0
C75: سایر | M75: =SUM(D75:L75) -> 0
C76: جمع فصل ششم | D76: =SUM(D63:D75) -> 0 | E76: =SUM(E63:E75) -> 0 | F76: =SUM(F63:F75) -> 0 | G76: =SUM(G63:G75) -> 0 | H76: =SUM(H63:H75) -> 0 | I76: =SUM(I63:I75) -> 0 | J76: =SUM(J63:J75) -> 0 | K76: =SUM(K63:K75) -> 0 | ... M76: =SUM(M63:M75) -> 0
C77: فصل هفتم
C78: خرید تجهیزات | M78: =SUM(D78:L78) -> 0
C79: خرید انشعابات | M79: =SUM(D79:L79) -> 0
C80: بیمه خودرو | M80: =SUM(D80:L80) -> 0
C81: عوارض و جرایم | M81: =SUM(D81:L81) -> 0
C82: دیون پرسنلی | M82: =SUM(D82:L82) -> 0
C83: دارو | M83: =SUM(D83:L83) -> 0
C84: سایر2 | M84: =SUM(D84:L84) -> 0
C85: جمع فصل هفتم | D85: =SUM(D78:D84) -> 0 | E85: =SUM(E78:E84) -> 0 | F85: =SUM(F78:F84) -> 0 | G85: =SUM(G78:G84) -> 0 | H85: =SUM(H78:H84) -> 0 | I85: =SUM(I78:I84) -> 0 | J85: =SUM(J78:J84) -> 0 | K85: =SUM(K78:K84) -> 0 | ... M85: =SUM(M78:M84) -> 0
C86: جمع کل فصول | D86: =SUM(D36,D57,D61,D76,D85) -> 0 | E86: =SUM(E36,E57,E61,E76,E85) -> 0 | F86: =SUM(F36,F57,F61,F76,F85) -> 0 | G86: =SUM(G36,G57,G61,G76,G85) -> 0 | H86: =SUM(H36,H57,H61,H76,H85) -> 0 | I86: =SUM(I36,I57,I61,I76,I85) -> 0 | J86: =SUM(J36,J57,J61,J76,J85) -> 0 | K86: =SUM(K36,K57,K61,K76,K85) -> 0 | ... M86: =SUM(M36,M57,M61,M76,M85) -> 0

Sheet جمع کل
B3: فرم منابع | C3: درآمد اعلام شده واحد | D3: سهم مرکز | E3: بند واو تطبیق یافته(سیاستگزاری ستاد) | F3: 1.5 درصد اورژانس | G3: 2 درصد رفاهی | H3: 1 درصد پژوهش | J3: 5 درصد ستاد | K3: 3 درصد خارج از شمول | L3: 5 درصد تجهیزات | M3: جمع
B4: درمان | M4: =SUM(D4:L4) -> 0
B5: دارو | M5: =SUM(D5:L5) -> 0
B8: فرم مصارف | C8: درآمد اعلام شده واحد | D8: سهم مرکز | E8: بند واو تطبیق یافته(سیاستگزاری ستاد) | F8: 1.5 درصد اورژانس | G8: 2 درصد رفاهی | H8: 1 درصد پژوهش | J8: 5 درصد ستاد | K8: 3 درصد خارج از شمول | L8: 5 درصد تجهیزات | M8: جمع
B9: درمان | M9: =SUM(D9:L9) -> 0
B10: دارو | M10: =SUM(D10:L10) -> 0
B13: فرم مانده | C13: درآمد اعلام شده واحد | D13: سهم مرکز | E13: بند واو تطبیق یافته(سیاستگزاری ستاد) | F13: 1.5 درصد اورژانس | G13: 2 درصد رفاهی | H13: 1 درصد پژوهش | J13: 5 درصد ستاد | K13: 3 درصد خارج از شمول | L13: 5 درصد تجهیزات | M13: جمع
B14: درمان | M14: =SUM(D14:L14) -> 0
B15: دارو | M15: =SUM(D15:L15) -> 0
C18: معاونت توسعه مدیریت و منابع
C19: فرم تخصیص درآمدهای اختصاصی (سهم مرکز و در اختیار ستاد) (ارقام به هزار ریال( ماه .................)
C20: 30303 - 30301(خلاصه کل) | D20: سهم مرکز | E20: (سیاستگزاری ستاد) | F20: 1.5 درصد اورژانس | G20: 2 درصد رفاهی | H20: 1 درصد پژوهش | I20: 1 درصد آموزش | J20: 5 درصد ستاد | K20: 3 درصد خارج از شمول | L20: 5 درصد تجهیزات | M20: جمع
C21: فصل اول
C22: حقوق و مزایای طرح لایحه | D22: =SUM('ولیعصر:معاونت درمان'!D22) -> 0 | E22: =SUM('ولیعصر:معاونت درمان'!E22) -> 0 | F22: =SUM('ولیعصر:معاونت درمان'!F22) -> 0 | G22: =SUM('ولیعصر:معاونت درمان'!G22) -> 0 | H22: =SUM('ولیعصر:معاونت درمان'!H22) -> 0 | I22: =SUM('ولیعصر:معاونت درمان'!I22) -> 0 | J22: =SUM('ولیعصر:معاونت درمان'!J22) -> 0 | K22: =SUM('ولیعصر:معاونت درمان'!K22) -> 0 | L22: =SUM('ولیعصر:معاونت درمان'!L22) -> 0 | M22: =SUM(D22:L22) -> 0
C23: حقوق و مزایای تبصره 4 | D23: =SUM('ولیعصر:معاونت درمان'!D23) -> 0 | E23: =SUM('ولیعصر:معاونت درمان'!E23) -> 0 | F23: =SUM('ولیعصر:معاونت درمان'!F23) -> 0 | G23: =SUM('ولیعصر:معاونت درمان'!G23) -> 0 | H23: =SUM('ولیعصر:معاونت درمان'!H23) -> 0 | I23: =SUM('ولیعصر:معاونت درمان'!I23) -> 0 | J23: =SUM('ولیعصر:معاونت درمان'!J23) -> 0 | K23: =SUM('ولیعصر:معاونت درمان'!K23) -> 0 | L23: =SUM('ولیعصر:معاونت درمان'!L23) -> 0 | M23: =SUM(D23:L23) -> 0
C24: حقوق و مزایای تبصره 3 | D24: =SUM('ولیعصر:معاونت درمان'!D24) -> 0 | E24: =SUM('ولیعصر:معاونت درمان'!E24) -> 0 | F24: =SUM('ولیعصر:معاونت درمان'!F24) -> 0 | G24: =SUM('ولیعصر:معاونت درمان'!G24) -> 0 | H24: =SUM('ولیعصر:معاونت درمان'!H24) -> 0 | I24: =SUM('ولیعصر:معاونت درمان'!I24) -> 0 | J24: =SUM('ولیعصر:معاونت درمان'!J24) -> 0 | K24: =SUM('ولیعصر:معاونت درمان'!K24) -> 0 | L24: =SUM('ولیعصر:معاونت درمان'!L24) -> 0 | M24: =SUM(D24:L24) -> 0
C25: اضافه کار | D25: =SUM('ولیعصر:معاونت درمان'!D25) -> 0 | E25: =SUM('ولیعصر:معاونت درمان'!E25) -> 0 | F25: =SUM('ولیعصر:معاونت درمان'!F25) -> 0 | G25: =SUM('ولیعصر:معاونت درمان'!G25) -> 0 | H25: =SUM('ولیعصر:معاونت درمان'!H25) -> 0 | I25: =SUM('ولیعصر:معاونت درمان'!I25) -> 0 | J25: =SUM('ولیعصر:معاونت درمان'!J25) -> 0 | K25: =SUM('ولیعصر:معاونت درمان'!K25) -> 0 | L25: =SUM('ولیعصر:معاونت درمان'!L25) -> 0 | M25: =SUM(D25:L25) -> 0
C26: محرومیت از مطب | D26: =SUM('ولیعصر:معاونت درمان'!D26) -> 0 | E26: =SUM('ولیعصر:معاونت درمان'!E26) -> 0 | F26: =SUM('ولیعصر:معاونت درمان'!F26) -> 0 | G26: =SUM('ولیعصر:معاونت درمان'!G26) -> 0 | H26: =SUM('ولیعصر:معاونت درمان'!H26) -> 0 | I26: =SUM('ولیعصر:معاونت درمان'!I26) -> 0 | J26: =SUM('ولیعصر:معاونت درمان'!J26) -> 0 | K26: =SUM('ولیعصر:معاونت درمان'!K26) -> 0 | L26: =SUM('ولیعصر:معاونت درمان'!L26) -> 0 | M26: =SUM(D26:L26) -> 0
C27: طرح تمام وقتی و آنکال | D27: =SUM('ولیعصر:معاونت درمان'!D27) -> 0 | E27: =SUM('ولیعصر:معاونت درمان'!E27) -> 0 | F27: =SUM('ولیعصر:معاونت درمان'!F27) -> 0 | G27: =SUM('ولیعصر:معاونت درمان'!G27) -> 0 | H27: =SUM('ولیعصر:معاونت درمان'!H27) -> 0 | I27: =SUM('ولیعصر:معاونت درمان'!I27) -> 0 | J27: =SUM('ولیعصر:معاونت درمان'!J27) -> 0 | K27: =SUM('ولیعصر:معاونت درمان'!K27) -> 0 | L27: =SUM('ولیعصر:معاونت درمان'!L27) -> 0 | M27: =SUM(D27:L27) -> 0
C28: حق مدیریت(خارج از شمول) | D28: =SUM('ولیعصر:معاونت درمان'!D28) -> 0 | E28: =SUM('ولیعصر:معاونت درمان'!E28) -> 0 | F28: =SUM('ولیعصر:معاونت درمان'!F28) -> 0 | G28: =SUM('ولیعصر:معاونت درمان'!G28) -> 0 | H28: =SUM('ولیعصر:معاونت درمان'!H28) -> 0 | I28: =SUM('ولیعصر:معاونت درمان'!I28) -> 0 | J28: =SUM('ولیعصر:معاونت درمان'!J28) -> 0 | K28: =SUM('ولیعصر:معاونت درمان'!K28) -> 0 | L28: =SUM('ولیعصر:معاونت درمان'!L28) -> 0 | M28: =SUM(D28:L28) -> 0
C29: عیدی | D29: =SUM('ولیعصر:معاونت درمان'!D29) -> 0 | E29: =SUM('ولیعصر:معاونت درمان'!E29) -> 0 | F29: =SUM('ولیعصر:معاونت درمان'!F29) -> 0 | G29: =SUM('ولیعصر:معاونت درمان'!G29) -> 0 | H29: =SUM('ولیعصر:معاونت درمان'!H29) -> 0 | I29: =SUM('ولیعصر:معاونت درمان'!I29) -> 0 | J29: =SUM('ولیعصر:معاونت درمان'!J29) -> 0 | K29: =SUM('ولیعصر:معاونت درمان'!K29) -> 0 | L29: =SUM('ولیعصر:معاونت درمان'!L29) -> 0 | M29: =SUM(D29:L29) -> 0
C30: حق مسکن | D30: =SUM('ولیعصر:معاونت درمان'!D30) -> 0 | E30: =SUM('ولیعصر:معاونت درمان'!E30) -> 0 | F30: =SUM('ولیعصر:معاونت درمان'!F30) -> 0 | G30: =SUM('ولیعصر:معاونت درمان'!G30) -> 0 | H30: =SUM('ولیعصر:معاونت درمان'!H30) -> 0 | I30: =SUM('ولیعصر:معاونت درمان'!I30) -> 0 | J30: =SUM('ولیعصر:معاونت درمان'!J30) -> 0 | K30: =SUM('ولیعصر:معاونت درمان'!K30) -> 0 | L30: =SUM('ولیعصر:معاونت درمان'!L30) -> 0 | M30: =SUM(D30:L30) -> 0
C31: سنوات و مرخصی بازنشسته | D31: =SUM('ولیعصر:معاونت درمان'!D31) -> 0 | E31: =SUM('ولیعصر:معاونت درمان'!E31) -> 0 | F31: =SUM('ولیعصر:معاونت درمان'!F31) -> 0 | G31: =SUM('ولیعصر:معاونت درمان'!G31) -> 0 | H31: =SUM('ولیعصر:معاونت درمان'!H31) -> 0 | I31: =SUM('ولیعصر:معاونت درمان'!I31) -> 0 | J31: =SUM('ولیعصر:معاونت درمان'!J31) -> 0 | K31: =SUM('ولیعصر:معاونت درمان'!K31) -> 0 | L31: =SUM('ولیعصر:معاونت درمان'!L31) -> 0 | M31: =SUM(D31:L31) -> 0
