Workbook

Sheet ولیعصر
B3: فرم منابع | C3: درآمد اعلام شده واحد | D3: سهم مرکز | E3: بند واو تطبیق یافته(سیاستگزاری ستاد) | F3: 1.5 درصد اورژانس | G3: 2 درصد رفاهی | H3: 1 درصد پژوهش | J3: 5 درصد ستاد | K3: 3 درصد خارج از شمول | L3: 5 درصد تجهیزات
B4: درمان
B5: دارو
B8: فرم مصارف | C8: درآمد اعلام شده واحد | D8: سهم مرکز | E8: بند واو تطبیق یافته(سیاستگزاری ستاد) | F8: 1.5 درصد اورژانس | G8: 2 درصد رفاهی | H8: 1 درصد پژوهش | J8: 5 درصد ستاد | K8: 3 درصد خارج از شمول | L8: 5 درصد تجهیزات
B9: درمان
B10: دارو
B13: فرم مانده | C13: درآمد اعلام شده واحد | D13: سهم مرکز | E13: بند واو تطبیق یافته(سیاستگزاری ستاد) | F13: 1.5 درصد اورژانس | G13: 2 درصد رفاهی | H13: 1 درصد پژوهش | J13: 5 درصد ستاد | K13: 3 درصد خارج از شمول | L13: 5 درصد تجهیزات
B14: درمان
B15: دارو
C18: معاونت توسعه مدیریت و منابع
C19: فرم تخصیص درآمدهای اختصاصی (سهم مرکز و در اختیار ستاد) (ارقام به هزار ریال( ماه .................)
C20: 30303 - 30301(ولیعصر) | D20: سهم مرکز | E20: (سیاستگزاری ستاد) | F20: 1.5 درصد اورژانس | G20: 2 درصد رفاهی | H20: 1 درصد پژوهش | I20: 1 درصد آموزش | J20: 5 درصد ستاد | K20: 3 درصد خارج از شمول | L20: 5 درصد تجهیزات | M20: جمع
C21: فصل اول
C22: حقوق و مزایای طرح لایحه | M22: =SUM(D22:L22) -> 0
C23: حقوق و مزایای تبصره 4 | M23: =SUM(D23:L23) -> 0
C24: حقوق و مزایای تبصره 3 | M24: =SUM(D24:L24) -> 0
C25: اضافه کار | M25: =SUM(D25:L25) -> 0
C26: محرومیت از مطب | M26: =SUM(D26:L26) -> 0
C27: طرح تمام وقتی و آنکال | M27: =SUM(D27:L27) -> 0
C28: حق مدیریت(خارج از شمول) | M28: =SUM(D28:L28) -> 0
C29: عیدی | M29: =SUM(D29:L29) -> 0
C30: حق مسکن | M30: =SUM(D30:L30) -> 0
C31: سنوات و مرخصی بازنشسته | M31: =SUM(D31:L31) -> 0
C32: سنوات و مرخصی تبصره 3-4 | M32: =SUM(D32:L32) -> 0
C33: مرخصی تبصره 4 | M33: =SUM(D33:L33) -> 0
... C35: سایر2 | M35: =SUM(D35:L35) -> 0
C36: جمع فصل اول | D36: =SUM(D21:D35) -> 0 | E36: =SUM(E21:E35) -> 0 | F36: =SUM(F21:F35) -> 0 | G36: =SUM(G21:G35) -> 0 | H36: =SUM(H21:H35) -> 0 | I36: =SUM(I21:I35) -> 0 | J36: =SUM(J21:J35) -> 0 | K36: =SUM(K21:K35) -> 0 | ... M36: =SUM(M21:M35) -> 0
C37: فصل دوم
C38: مبتنی بر عملکرد پزشکان | M38: =SUM(D38:L38) -> 0
C39: مبتنی بر عملکرد کارکنان | M39: =SUM(D39:L39) -> 0
C40: ماموریت | M40: =SUM(D40:L40) -> 0
C41: آب | M41: =SUM(D41:L41) -> 0
C42: برق | M42: =SUM(D42:L42) -> 0
C43: گاز | M43: =SUM(D43:L43) -> 0
C44: تلفن | M44: =SUM(D44:L44) -> 0
C45: نفت سفید | M45: =SUM(D45:L45) -> 0
C46: گازوئیل | M46: =SUM(D46:L46) -> 0
C47: بنزین | M47: =SUM(D47:L47) -> 0
C48: هزینه سفر | M48: =SUM(D48:L48) -> 0
C49: قراردادها | M49: =SUM(D49:L49) -> 0
...

Sheet امیرکبیر
B3: فرم منابع | C3: درآمد اعلام شده واحد | D3: سهم مرکز | E3: بند واو تطبیق یافته(سیاستگزاری ستاد) | F3: 1.5 درصد اورژانس | G3: 2 درصد رفاهی | H3: 1 درصد پژوهش | J3: 5 درصد ستاد | K3: 3 درصد خارج از شمول | L3: 5 درصد تجهیزات
B4: درمان
B5: دارو
B8: فرم مصارف | C8: درآمد اعلام شده واحد | D8: سهم مرکز | E8: بند واو تطبیق یافته(سیاستگزاری ستاد) | F8: 1.5 درصد اورژانس | G8: 2 درصد رفاهی | H8: 1 درصد پژوهش | J8: 5 درصد ستاد | K8: 3 درصد خارج از شمول | L8: 5 درصد تجهیزات
B9: درمان
B10: دارو
B13: فرم مانده | C13: درآمد اعلام شده واحد | D13: سهم مرکز | E13: بند واو تطبیق یافته(سیاستگزاری ستاد) | F13: 1.5 درصد اورژانس | G13: 2 درصد رفاهی | H13: 1 درصد پژوهش | J13: 5 درصد ستاد | K13: 3 درصد خارج از شمول | L13: 5 درصد تجهیزات
B14: درمان
B15: دارو
C18: معاونت توسعه مدیریت و منابع
C19: فرم تخصیص درآمدهای اختصاصی (سهم مرکز و در اختیار ستاد) (ارقام به هزار ریال( ماه .................)
C20: 30303 - 30301(امیرکبیر) | D20: سهم مرکز | E20: (سیاستگزاری ستاد) | F20: 1.5 درصد اورژانس | G20: 2 درصد رفاهی | H20: 1 درصد پژوهش | I20: 1 درصد آموزش | J20: 5 درصد ستاد | K20: 3 درصد خارج از شمول | L20: 5 درصد تجهیزات | M20: جمع
C21: فصل اول
C22: حقوق و مزایای طرح لایحه | M22: =SUM(D22:L22) -> 0
C23: حقوق و مزایای تبصره 4 | M23: =SUM(D23:L23) -> 0
C24: حقوق و مزایای تبصره 3 | M24: =SUM(D24:L24) -> 0
C25: اضافه کار | M25: =SUM(D25:L25) -> 0
C26: محرومیت از مطب | M26: =SUM(D26:L26) -> 0
C27: طرح تمام وقتی و آنکال | M27: =SUM(D27:L27) -> 0
C28: حق مدیریت(خارج از شمول) | M28: =SUM(D28:L28) -> 0
C29: عیدی | M29: =SUM(D29:L29) -> 0
C30: حق مسکن | M30: =SUM(D30:L30) -> 0
C31: سنوات و مرخصی بازنشسته | M31: =SUM(D31:L31) -> 0
C32: سنوات و مرخصی تبصره 3-4 | M32: =SUM(D32:L32) -> 0
C33: مرخصی تبصره 4 | M33: =SUM(D33:L33) -> 0
... C35: سایر2 | M35: =SUM(D35:L35) -> 0
C36: جمع فصل اول | D36: =SUM(D21:D35) -> 0 | E36: =SUM(E21:E35) -> 0 | F36: =SUM(F21:F35) -> 0 | G36: =SUM(G21:G35) -> 0 | H36: =SUM(H21:H35) -> 0 | I36: =SUM(I21:I35) -> 0 | J36: =SUM(J21:J35) -> 0 | K36: =SUM(K21:K35) -> 0 | ... M36: =SUM(M21:M35) -> 0
C37: فصل دوم
C38: مبتنی بر عملکرد پزشکان | M38: =SUM(D38:L38) -> 0
C39: مبتنی بر عملکرد کارکنان | M39: =SUM(D39:L39) -> 0
C40: ماموریت | M40: =SUM(D40:L40) -> 0
C41: آب | M41: =SUM(D41:L41) -> 0
C42: برق | M42: =SUM(D42:L42) -> 0
C43: گاز | M43: =SUM(D43:L43) -> 0
C44: تلفن | M44: =SUM(D44:L44) -> 0
C45: نفت سفید | M45: =SUM(D45:L45) -> 0
C46: گازوئیل | M46: =SUM(D46:L46) -> 0
C47: بنزین | M47: =SUM(D47:L47) -> 0
C48: هزینه سفر | M48: =SUM(D48:L48) -> 0
C49: قراردادها | M49: =SUM(D49:L49) -> 0
...

Sheet طالقانی
B3: فرم منابع | C3: درآمد اعلام شده واحد | D3: سهم مرکز | E3: بند واو تطبیق یافته(سیاستگزاری ستاد) | F3: 1.5 درصد اورژانس | G3: 2 درصد رفاهی | H3: 1 درصد پژوهش | J3: 5 درصد ستاد | K3: 3 درصد خارج از شمول | L3: 5 درصد تجهیزات
B4: درمان
B5: دارو
B8: فرم مصارف | C8: درآمد اعلام شده واحد | D8: سهم مرکز | E8: بند واو تطبیق یافته(سیاستگزاری ستاد) | F8: 1.5 درصد اورژانس | G8: 2 درصد رفاهی | H8: 1 درصد پژوهش | J8: 5 درصد ستاد | K8: 3 درصد خارج از شمول | L8: 5 درصد تجهیزات
B9: درمان
B10: دارو
B13: فرم مانده | C13: درآمد اعلام شده واحد | D13: سهم مرکز | E13: بند واو تطبیق یافته(سیاستگزاری ستاد) | F13: 1.5 درصد اورژانس | G13: 2 درصد رفاهی | H13: 1 درصد پژوهش | J13: 5 درصد ستاد | K13: 3 درصد خارج از شمول | L13: 5 درصد تجهیزات
B14: درمان
B15: دارو
C18: معاونت توسعه مدیریت و منابع
C19: فرم تخصیص درآمدهای اختصاصی (سهم مرکز و در اختیار ستاد) (ارقام به هزار ریال( ماه .................)
C20: 30303 - 30301(طالقانی) | D20: سهم مرکز | E20: (سیاستگزاری ستاد) | F20: 1.5 درصد اورژانس | G20: 2 درصد رفاهی | H20: 1 درصد پژوهش | I20: 1 درصد آموزش | J20: 5 درصد ستاد | K20: 3 درصد خارج از شمول | L20: 5 درصد تجهیزات | M20: جمع
C21: فصل اول
C22: حقوق و مزایای طرح لایحه | M22: =SUM(D22:L22) -> 0
C23: حقوق و مزایای تبصره 4 | M23: =SUM(D23:L23) -> 0
C24: حقوق و مزایای تبصره 3 | M24: =SUM(D24:L24) -> 0
C25: اضافه کار | M25: =SUM(D25:L25) -> 0
C26: محرومیت از مطب | M26: =SUM(D26:L26) -> 0
C27: طرح تمام وقتی و آنکال | M27: =SUM(D27:L27) -> 0
C28: حق مدیریت(خارج از شمول) | M28: =SUM(D28:L28) -> 0
C29: عیدی | M29: =SUM(D29:L29) -> 0
C30: حق مسکن | M30: =SUM(D30:L30) -> 0
C31: سنوات و مرخصی بازنشسته | M31: =SUM(D31:L31) -> 0
C32: سنوات و مرخصی تبصره 3-4 | M32: =SUM(D32:L32) -> 0
C33: مرخصی تبصره 4 | M33: =SUM(D33:L33) -> 0
... C35: سایر2 | M35: =SUM(D35:L35) -> 0
C36: جمع فصل اول | D36: =SUM(D21:D35) -> 0 | E36: =SUM(E21:E35) -> 0 | F36: =SUM(F21:F35) -> 0 | G36: =SUM(G21:G35) -> 0 | H36: =SUM(H21:H35) -> 0 | I36: =SUM(I21:I35) -> 0 | J36: =SUM(J21:J35) -> 0 | K36: =SUM(K21:K35) -> 0 | ... M36: =SUM(M21:M35) -> 0
C37: فصل دوم
C38: مبتنی بر عملکرد پزشکان | M38: =SUM(D38:L38) -> 0
C39: مبتنی بر عملکرد کارکنان | M39: =SUM(D39:L39) -> 0
C40: ماموریت | M40: =SUM(D40:L40) -> 0
C41: آب | M41: =SUM(D41:L41) -> 0
C42: برق | M42: =SUM(D42:L42) -> 0
C43: گاز | M43: =SUM(D43:L43) -> 0
C44: تلفن | M44: =SUM(D44:L44) -> 0
C45: نفت سفید | M45: =SUM(D45:L45) -> 0
C46: گازوئیل | M46: =SUM(D46:L46) -> 0
C47: بنزین | M47: =SUM(D47:L47) -> 0
C48: هزینه سفر | M48: =SUM(D48:L48) -> 0
C49: قراردادها | M49: =SUM(D49:L49) -> 0
...

Sheet خوانساری
B3: فرم منابع | C3: درآمد اعلام شده واحد | D3: سهم مرکز | E3: بند واو تطبیق یافته(سیاستگزاری ستاد) | F3: 1.5 درصد اورژانس | G3: 2 درصد رفاهی | H3: 1 درصد پژوهش | J3: 5 درصد ستاد | K3: 3 درصد خارج از شمول | L3: 5 درصد تجهیزات
B4: درمان
B5: دارو
B8: فرم مصارف | C8: درآمد اعلام شده واحد | D8: سهم مرکز | E8: بند واو تطبیق یافته(سیاستگزاری ستاد) | F8: 1.5 درصد اورژانس | G8: 2 درصد رفاهی | H8: 1 درصد پژوهش | J8: 5 درصد ستاد | K8: 3 درصد خارج از شمول | L8: 5 درصد تجهیزات
B9: درمان
B10: دارو
B13: فرم مانده | C13: درآمد اعلام شده واحد | D13: سهم مرکز | E13: بند واو تطبیق یافته(سیاستگزاری ستاد) | F13: 1.5 درصد اورژانس | G13: 2 درصد رفاهی | H13: 1 درصد پژوهش | J13: 5 درصد ستاد | K13: 3 درصد خارج از شمول | L13: 5 درصد تجهیزات
B14: درمان
B15: دارو
C18: معاونت توسعه مدیریت و منابع
C19: فرم تخصیص درآمدهای اختصاصی (سهم مرکز و در اختیار ستاد) (ارقام به هزار ریال( ماه .................)
C20: 30303 - 30301(خوانساری) | D20: سهم مرکز | E20: (سیاستگزاری ستاد) | F20: 1.5 درصد اورژانس | G20: 2 درصد رفاهی | H20: 1 درصد پژوهش | I20: 1 درصد آموزش | J20: 5 درصد ستاد | K20: 3 درصد خارج از شمول | L20: 5 درصد تجهیزات | M20: جمع
C21: فصل اول
C22: حقوق و مزایای طرح لایحه | M22: =SUM(D22:L22) -> 0
C23: حقوق و مزایای تبصره 4 | M23: =SUM(D23:L23) -> 0
C24: حقوق و مزایای تبصره 3 | M24: =SUM(D24:L24) -> 0
C25: اضافه کار | M25: =SUM(D25:L25) -> 0
C26: محرومیت از مطب | M26: =SUM(D26:L26) -> 0
C27: طرح تمام وقتی و آنکال | M27: =SUM(D27:L27) -> 0
C28: حق مدیریت(خارج از شمول) | M28: =SUM(D28:L28) -> 0
C29: عیدی | M29: =SUM(D29:L29) -> 0
C30: حق مسکن | M30: =SUM(D30:L30) -> 0
C31: سنوات و مرخصی بازنشسته | M31: =SUM(D31:L31) -> 0
C32: سنوات و مرخصی تبصره 3-4 | M32: =SUM(D32:L32) -> 0
C33: مرخصی تبصره 4 | M33: =SUM(D33:L33) -> 0
... C35: سایر2 | M35: =SUM(D35:L35) -> 0
C36: جمع فصل اول | D36: =SUM(D21:D35) -> 0 | E36: =SUM(E21:E35) -> 0 | F36: =SUM(F21:F35) -> 0 | G36: =SUM(G21:G35) -> 0 | H36: =SUM(H21:H35) -> 0 | I36: =SUM(I21:I35) -> 0 | J36: =SUM(J21:J35) -> 0 | K36: =SUM(K21:K35) -> 0 | ... M36: =SUM(M21:M35) -> 0
C37: فصل دوم
C38: مبتنی بر عملکرد پزشکان | M38: =SUM(D38:L38) -> 0
C39: مبتنی بر عملکرد کارکنان | M39: =SUM(D39:L39) -> 0
C40: ماموریت | M40: =SUM(D40:L40) -> 0
C41: آب | M41: =SUM(D41:L41) -> 0
C42: برق | M42: =SUM(D42:L42) -> 0
C43: گاز | M43: =SUM(D43:L43) -> 0
C44: تلفن | M44: =SUM(D44:L44) -> 0
C45: نفت سفید | M45: =SUM(D45:L45) -> 0
C46: گازوئیل | M46: =SUM(D46:L46) -> 0
C47: بنزین | M47: =SUM(D47:L47) -> 0
C48: هزینه سفر | M48: =SUM(D48:L48) -> 0
C49: قراردادها | M49: =SUM(D49:L49) -> 0
...

Sheet امیرالمومنین
B3: فرم منابع | C3: درآمد اعلام شده واحد | D3: سهم مرکز | E3: بند واو تطبیق یافته(سیاستگزاری ستاد) | F3: 1.5 درصد اورژانس | G3: 2 درصد رفاهی | H3: 1 درصد پژوهش | J3: 5 درصد ستاد | K3: 3 درصد خارج از شمول | L3: 5 درصد تجهیزات
B4: درمان
B5: دارو
B8: فرم مصارف | C8: درآمد اعلام شده واحد | D8: سهم مرکز | E8: بند واو تطبیق یافته(سیاستگزاری ستاد) | F8: 1.5 درصد اورژانس | G8: 2 درصد رفاهی | H8: 1 درصد پژوهش | J8: 5 درصد ستاد | K8: 3 درصد خارج از شمول | L8: 5 درصد تجهیزات
B9: درمان
B10: دارو
B13: فرم مانده | C13: درآمد اعلام شده واحد | D13: سهم مرکز | E13: بند واو تطبیق یافته(سیاستگزاری ستاد) | F13: 1.5 درصد اورژانس | G13: 2 درصد رفاهی | H13: 1 درصد پژوهش | J13: 5 درصد ستاد | K13: 3 درصد خارج از شمول | L13: 5 درصد تجهیزات
B14: درمان
B15: دارو
C18: معاونت توسعه مدیریت و منابع
C19: فرم تخصیص درآمدهای اختصاصی (سهم مرکز و در اختیار ستاد) (ارقام به هزار ریال( ماه .................)
C20: 30303 - 30301(امیرالمومنین) | D20: سهم مرکز | E20: (سیاستگزاری ستاد) | F20: 1.5 درصد اورژانس | G20: 2 درصد رفاهی | H20: 1 درصد پژوهش | I20: 1 درصد آموزش | J20: 5 درصد ستاد | K20: 3 درصد خارج از شمول | L20: 5 درصد تجهیزات | M20: جمع
C21: فصل اول
C22: حقوق و مزایای طرح لایحه | M22: =SUM(D22:L22) -> 0
C23: حقوق و مزایای تبصره 4 | M23: =SUM(D23:L23) -> 0
C24: حقوق و مزایای تبصره 3 | M24: =SUM(D24:L24) -> 0
C25: اضافه کار | M25: =SUM(D25:L25) -> 0
C26: محرومیت از مطب | M26: =SUM(D26:L26) -> 0
C27: طرح تمام وقتی و آنکال | M27: =SUM(D27:L27) -> 0
C28: حق مدیریت(خارج از شمول) | M28: =SUM(D28:L28) -> 0
C29: عیدی | M29: =SUM(D29:L29) -> 0
C30: حق مسکن | M30: =SUM(D30:L30) -> 0
C31: سنوات و مرخصی بازنشسته | M31: =SUM(D31:L31) -> 0
C32: سنوات و مرخصی تبصره 3-4 | M32: =SUM(D32:L32) -> 0
C33: مرخصی تبصره 4 | M33: =SUM(D33:L33) -> 0
... C35: سایر2 | M35: =SUM(D35:L35) -> 0
C36: جمع فصل اول | D36: =SUM(D21:D35) -> 0 | E36: =SUM(E21:E35) -> 0 | F36: =SUM(F21:F35) -> 0 | G36: =SUM(G21:G35) -> 0 | H36: =SUM(H21:H35) -> 0 | I36: =SUM(I21:I35) -> 0 | J36: =SUM(J21:J35) -> 0 | K36: =SUM(K21:K35) -> 0 | ... M36: =SUM(M21:M35) -> 0
C37: فصل دوم
C38: مبتنی بر عملکرد پزشکان | M38: =SUM(D38:L38) -> 0
C39: مبتنی بر عملکرد کارکنان | M39: =SUM(D39:L39) -> 0
C40: ماموریت | M40: =SUM(D40:L40) -> 0
C41: آب | M41: =SUM(D41:L41) -> 0
C42: برق | M42: =SUM(D42:L42) -> 0
C43: گاز | M43: =SUM(D43:L43) -> 0
C44: تلفن | M44: =SUM(D44:L44) -> 0
C45: نفت سفید | M45: =SUM(D45:L45) -> 0
C46: گازوئیل | M46: =SUM(D46:L46) -> 0
C47: بنزین | M47: =SUM(D47:L47) -> 0
C48: هزینه سفر | M48: =SUM(D48:L48) -> 0
C49: قراردادها | M49: =SUM(D49:L49) -> 0
...

Sheet مرکز پزشکی هسته ای امیرالمومنین
B3: فرم منابع | C3: درآمد اعلام شده واحد | D3: سهم مرکز | E3: بند واو تطبیق یافته(سیاستگزاری ستاد) | F3: 1.5 درصد اورژانس | G3: 2 درصد رفاهی | H3: 1 درصد پژوهش | J3: 5 درصد ستاد | K3: 3 درصد خارج از شمول | L3: 5 درصد تجهیزات
B4: درمان
B5: دارو
B8: فرم مصارف | C8: درآمد اعلام شده واحد | D8: سهم مرکز | E8: بند واو تطبیق یافته(سیاستگزاری ستاد) | F8: 1.5 درصد اورژانس | G8: 2 درصد رفاهی | H8: 1 درصد پژوهش | J8: 5 درصد ستاد | K8: 3 درصد خارج از شمول | L8: 5 درصد تجهیزات
B9: درمان
B10: دارو
B13: فرم مانده | C13: درآمد اعلام شده واحد | D13: سهم مرکز | E13: بند واو تطبیق یافته(سیاستگزاری ستاد) | F13: 1.5 درصد اورژانس | G13: 2 درصد رفاهی | H13: 1 درصد پژوهش | J13: 5 درصد ستاد | K13: 3 درصد خارج از شمول | L13: 5 درصد تجهیزات
B14: درمان
B15: دارو
C18: معاونت توسعه مدیریت و منابع
C19: فرم تخصیص درآمدهای اختصاصی (سهم مرکز و در اختیار ستاد) (ارقام به هزار ریال( ماه .................)
C20: 30303 - 30301(پزشکی هسته ای امیرالمومنین) | D20: سهم مرکز | E20: (سیاستگزاری ستاد) | F20: 1.5 درصد اورژانس | G20: 2 درصد رفاهی | H20: 1 درصد پژوهش | I20: 1 درصد آموزش | J20: 5 درصد ستاد | K20: 3 درصد خارج از شمول | L20: 5 درصد تجهیزات | M20: جمع
C21: فصل اول
C22: حقوق و مزایای طرح لایحه | M22: =SUM(D22:L22) -> 0
C23: حقوق و مزایای تبصره 4 | M23: =SUM(D23:L23) -> 0
C24: حقوق و مزایای تبصره 3 | M24: =SUM(D24:L24) -> 0
C25: اضافه کار | M25: =SUM(D25:L25) -> 0
C26: محرومیت از مطب | M26: =SUM(D26:L26) -> 0
C27: طرح تمام وقتی و آنکال | M27: =SUM(D27:L27) -> 0
C28: حق مدیریت(خارج از شمول) | M28: =SUM(D28:L28) -> 0
C29: عیدی | M29: =SUM(D29:L29) -> 0
C30: حق مسکن | M30: =SUM(D30:L30) -> 0
C31: سنوات و مرخصی بازنشسته | M31: =SUM(D31:L31) -> 0
C32: سنوات و مرخصی تبصره 3-4 | M32: =SUM(D32:L32) -> 0
C33: مرخصی تبصره 4 | M33: =SUM(D33:L33) -> 0
... C35: سایر2 | M35: =SUM(D35:L35) -> 0
C36: جمع فصل اول | D36: =SUM(D21:D35) -> 0 | E36: =SUM(E21:E35) -> 0 | F36: =SUM(F21:F35) -> 0 | G36: =SUM(G21:G35) -> 0 | H36: =SUM(H21:H35) -> 0 | I36: =SUM(I21:I35) -> 0 | J36: =SUM(J21:J35) -> 0 | K36: =SUM(K21:K35) -> 0 | ... M36: =SUM(M21:M35) -> 0
C37: فصل دوم
C38: مبتنی بر عملکرد پزشکان | M38: =SUM(D38:L38) -> 0
C39: مبتنی بر عملکرد کارکنان | M39: =SUM(D39:L39) -> 0
C40: ماموریت | M40: =SUM(D40:L40) -> 0
C41: آب | M41: =SUM(D41:L41) -> 0
C42: برق | M42: =SUM(D42:L42) -> 0
C43: گاز | M43: =SUM(D43:L43) -> 0
C44: تلفن | M44: =SUM(D44:L44) -> 0
C45: نفت سفید | M45: =SUM(D45:L45) -> 0
C46: گازوئیل | M46: =SUM(D46:L46) -> 0
C47: بنزین | M47: =SUM(D47:L47) -> 0
C48: هزینه سفر | M48: =SUM(D48:L48) -> 0
C49: قراردادها | M49: =SUM(D49:L49) -> 0
...

Sheet بیمارستان خمین
B3: فرم منابع | C3: درآمد اعلام شده واحد | D3: سهم مرکز | E3: بند واو تطبیق یافته(سیاستگزاری ستاد) | F3: 1.5 درصد اورژانس | G3: 2 درصد رفاهی | H3: 1 درصد پژوهش | J3: 5 درصد ستاد | K3: 3 درصد خارج از شمول | L3: 5 درصد تجهیزات
B4: درمان
B5: دارو
B8: فرم مصارف | C8: درآمد اعلام شده واحد | D8: سهم مرکز | E8: بند واو تطبیق یافته(سیاستگزاری ستاد) | F8: 1.5 درصد اورژانس | G8: 2 درصد رفاهی | H8: 1 درصد پژوهش | J8: 5 درصد ستاد | K8: 3 درصد خارج از شمول | L8: 5 درصد تجهیزات
B9: درمان
B10: دارو
B13: فرم مانده | C13: درآمد اعلام شده واحد | D13: سهم مرکز | E13: بند واو تطبیق یافته(سیاستگزاری ستاد) | F13: 1.5 درصد اورژانس | G13: 2 درصد رفاهی | H13: 1 درصد پژوهش | J13: 5 درصد ستاد | K13: 3 درصد خارج از شمول | L13: 5 درصد تجهیزات
B14: درمان
B15: دارو
C18: معاونت توسعه مدیریت و منابع
C19: فرم تخصیص درآمدهای اختصاصی (سهم مرکز و در اختیار ستاد) (ارقام به هزار ریال( ماه .................)
C20: 30303 - 30301(بیمارستان خمین) | D20: سهم مرکز | E20: (سیاستگزاری ستاد) | F20: 1.5 درصد اورژانس | G20: 2 درصد رفاهی | H20: 1 درصد پژوهش | I20: 1 درصد آموزش | J20: 5 درصد ستاد | K20: 3 درصد خارج از شمول | L20: 5 درصد تجهیزات | M20: جمع
C21: فصل اول
C22: حقوق و مزایای طرح لایحه | M22: =SUM(D22:L22) -> 0
C23: حقوق و مزایای تبصره 4 | M23: =SUM(D23:L23) -> 0
C24: حقوق و مزایای تبصره 3 | M24: =SUM(D24:L24) -> 0
C25: اضافه کار | M25: =SUM(D25:L25) -> 0
C26: محرومیت از مطب | M26: =SUM(D26:L26) -> 0
C27: طرح تمام وقتی و آنکال | M27: =SUM(D27:L27) -> 0
C28: حق مدیریت(خارج از شمول) | M28: =SUM(D28:L28) -> 0
C29: عیدی | M29: =SUM(D29:L29) -> 0
C30: حق مسکن | M30: =SUM(D30:L30) -> 0
C31: سنوات و مرخصی بازنشسته | M31: =SUM(D31:L31) -> 0
C32: سنوات و مرخصی تبصره 3-4 | M32: =SUM(D32:L32) -> 0
C33: مرخصی تبصره 4 | M33: =SUM(D33:L33) -> 0
... C35: سایر2 | M35: =SUM(D35:L35) -> 0
C36: جمع فصل اول | D36: =SUM(D21:D35) -> 0 | E36: =SUM(E21:E35) -> 0 | F36: =SUM(F21:F35) -> 0 | G36: =SUM(G21:G35) -> 0 | H36: =SUM(H21:H35) -> 0 | I36: =SUM(I21:I35) -> 0 | J36: =SUM(J21:J35) -> 0 | K36: =SUM(K21:K35) -> 0 | ... M36: =SUM(M21:M35) -> 0
C37: فصل دوم
C38: مبتنی بر عملکرد پزشکان | M38: =SUM(D38:L38) -> 0
C39: مبتنی بر عملکرد کارکنان | M39: =SUM(D39:L39) -> 0
C40: ماموریت | M40: =SUM(D40:L40) -> 0
C41: آب | M41: =SUM(D41:L41) -> 0
C42: برق | M42: =SUM(D42:L42) -> 0
C43: گاز | M43: =SUM(D43:L43) -> 0
C44: تلفن | M44: =SUM(D44:L44) -> 0
C45: نفت سفید | M45: =SUM(D45:L45) -> 0
C46: گازوئیل | M46: =SUM(D46:L46) -> 0
C47: بنزین | M47: =SUM(D47:L47) -> 0
C48: هزینه سفر | M48: =SUM(D48:L48) -> 0
C49: قراردادها | M49: =SUM(D49:L49) -> 0
...

Sheet بیمارستان دلیجان
B3: فرم منابع | C3: درآمد اعلام شده واحد | D3: سهم مرکز | E3: بند واو تطبیق یافته(سیاستگزاری ستاد) | F3: 1.5 درصد اورژانس | G3: 2 درصد رفاهی | H3: 1 درصد پژوهش | J3: 5 درصد ستاد | K3: 3 درصد خارج از شمول | L3: 5 درصد تجهیزات
B4: درمان
B5: دارو
B8: فرم مصارف | C8: درآمد اعلام شده واحد | D8: سهم مرکز | E8: بند واو تطبیق یافته(سیاستگزاری ستاد) | F8: 1.5 درصد اورژانس | G8: 2 درصد رفاهی | H8: 1 درصد پژوهش | J8: 5 درصد ستاد | K8: 3 درصد خارج از شمول | L8: 5 درصد تجهیزات
B9: درمان
B10: دارو
B13: فرم مانده | C13: درآمد اعلام شده واحد | D13: سهم مرکز | E13: بند واو تطبیق یافته(سیاستگزاری ستاد) | F13: 1.5 درصد اورژانس | G13: 2 درصد رفاهی | H13: 1 درصد پژوهش | J13: 5 درصد ستاد | K13: 3 درصد خارج از شمول | L13: 5 درصد تجهیزات
B14: درمان
B15: دارو
C18: معاونت توسعه مدیریت و منابع
C19: فرم تخصیص درآمدهای اختصاصی (سهم مرکز و در اختیار ستاد) (ارقام به هزار ریال( ماه .................)
C20: 30303 - 30301(بیمارستان دلیجان) | D20: سهم مرکز | E20: (سیاستگزاری ستاد) | F20: 1.5 درصد اورژانس | G20: 2 درصد رفاهی | H20: 1 درصد پژوهش | I20: 1 درصد آموزش | J20: 5 درصد ستاد | K20: 3 درصد خارج از شمول | L20: 5 درصد تجهیزات | M20: جمع
C21: فصل اول
C22: حقوق و مزایای طرح لایحه | M22: =SUM(D22:L22) -> 0
C23: حقوق و مزایای تبصره 4 | M23: =SUM(D23:L23) -> 0
C24: حقوق و مزایای تبصره 3 | M24: =SUM(D24:L24) -> 0
C25: اضافه کار | M25: =SUM(D25:L25) -> 0
C26: محرومیت از مطب | M26: =SUM(D26:L26) -> 0
C27: طرح تمام وقتی و آنکال | M27: =SUM(D27:L27) -> 0
C28: حق مدیریت(خارج از شمول) | M28: =SUM(D28:L28) -> 0
C29: عیدی | M29: =SUM(D29:L29) -> 0
C30: حق مسکن | M30: =SUM(D30:L30) -> 0
C31: سنوات و مرخصی بازنشسته | M31: =SUM(D31:L31) -> 0
C32: سنوات و مرخصی تبصره 3-4 | M32: =SUM(D32:L32) -> 0
C33: مرخصی تبصره 4 | M33: =SUM(D33:L33) -> 0
... C35: سایر2 | M35: =SUM(D35:L35) -> 0
C36: جمع فصل اول | D36: =SUM(D21:D35) -> 0 | E36: =SUM(E21:E35) -> 0 | F36: =SUM(F21:F35) -> 0 | G36: =SUM(G21:G35) -> 0 | H36: =SUM(H21:H35) -> 0 | I36: =SUM(I21:I35) -> 0 | J36: =SUM(J21:J35) -> 0 | K36: =SUM(K21:K35) -> 0 | ... M36: =SUM(M21:M35) -> 0
C37: فصل دوم
C38: مبتنی بر عملکرد پزشکان | M38: =SUM(D38:L38) -> 0
C39: مبتنی بر عملکرد کارکنان | M39: =SUM(D39:L39) -> 0
C40: ماموریت | M40: =SUM(D40:L40) -> 0
C41: آب | M41: =SUM(D41:L41) -> 0
C42: برق | M42: =SUM(D42:L42) -> 0
C43: گاز | M43: =SUM(D43:L43) -> 0
C44: تلفن | M44: =SUM(D44:L44) -> 0
C45: نفت سفید | M45: =SUM(D45:L45) -> 0
C46: گازوئیل | M46: =SUM(D46:L46) -> 0
C47: بنزین | M47: =SUM(D47:L47) -> 0
C48: هزینه سفر | M48: =SUM(D48:L48) -> 0
C49: قراردادها | M49: =SUM(D49:L49) -> 0
...

Sheet بیمارستان محلات
B3: فرم منابع | C3: درآمد اعلام شده واحد | D3: سهم مرکز | E3: بند واو تطبیق یافته(سیاستگزاری ستاد) | F3: 1.5 درصد اورژانس | G3: 2 درصد رفاهی | H3: 1 درصد پژوهش | J3: 5 درصد ستاد | K3: 3 درصد خارج از شمول | L3: 5 درصد تجهیزات
B4: درمان
B5: دارو
B8: فرم مصارف | C8: درآمد اعلام شده واحد | D8: سهم مرکز | E8: بند واو تطبیق یافته(سیاستگزاری ستاد) | F8: 1.5 درصد اورژانس | G8: 2 درصد رفاهی | H8: 1 درصد پژوهش | J8: 5 درصد ستاد | K8: 3 درصد خارج از شمول | L8: 5 درصد تجهیزات
B9: درمان
B10: دارو
B13: فرم مانده | C13: درآمد اعلام شده واحد | D13: سهم مرکز | E13: بند واو تطبیق یافته(سیاستگزاری ستاد) | F13: 1.5 درصد اورژانس | G13: 2 درصد رفاهی | H13: 1 درصد پژوهش | J13: 5 درصد ستاد | K13: 3 درصد خارج از شمول | L13: 5 درصد تجهیزات
B14: درمان
B15: دارو
C18: معاونت توسعه مدیریت و منابع
C19: فرم تخصیص درآمدهای اختصاصی (سهم مرکز و در اختیار ستاد) (ارقام به هزار ریال( ماه .................)
C20: 30303 - 30301(بیمارستان محلات) | D20: سهم مرکز | E20: (سیاستگزاری ستاد) | F20: 1.5 درصد اورژانس | G20: 2 درصد رفاهی | H20: 1 درصد پژوهش | I20: 1 درصد آموزش | J20: 5 درصد ستاد | K20: 3 درصد خارج از شمول | L20: 5 درصد تجهیزات | M20: جمع
C21: فصل اول
C22: حقوق و مزایای طرح لایحه | M22: =SUM(D22:L22) -> 0
C23: حقوق و مزایای تبصره 4 | M23: =SUM(D23:L23) -> 0
C24: حقوق و مزایای تبصره 3 | M24: =SUM(D24:L24) -> 0
C25: اضافه کار | M25: =SUM(D25:L25) -> 0
C26: محرومیت از مطب | M26: =SUM(D26:L26) -> 0
C27: طرح تمام وقتی و آنکال | M27: =SUM(D27:L27) -> 0
C28: حق مدیریت(خارج از شمول) | M28: =SUM(D28:L28) -> 0
C29: عیدی | M29: =SUM(D29:L29) -> 0
C30: حق مسکن | M30: =SUM(D30:L30) -> 0
C31: سنوات و مرخصی بازنشسته | M31: =SUM(D31:L31) -> 0
C32: سنوات و مرخصی تبصره 3-4 | M32: =SUM(D32:L32) -> 0
C33: مرخصی تبصره 4 | M33: =SUM(D33:L33) -> 0
... C35: سایر2 | M35: =SUM(D35:L35) -> 0
C36: جمع فصل اول | D36: =SUM(D21:D35) -> 0 | E36: =SUM(E21:E35) -> 0 | F36: =SUM(F21:F35) -> 0 | G36: =SUM(G21:G35) -> 0 | H36: =SUM(H21:H35) -> 0 | I36: =SUM(I21:I35) -> 0 | J36: =SUM(J21:J35) -> 0 | K36: =SUM(K21:K35) -> 0 | ... M36: =SUM(M21:M35) -> 0
C37: فصل دوم
C38: مبتنی بر عملکرد پزشکان | M38: =SUM(D38:L38) -> 0
C39: مبتنی بر عملکرد کارکنان | M39: =SUM(D39:L39) -> 0
C40: ماموریت | M40: =SUM(D40:L40) -> 0
C41: آب | M41: =SUM(D41:L41) -> 0
C42: برق | M42: =SUM(D42:L42) -> 0
C43: گاز | M43: =SUM(D43:L43) -> 0
C44: تلفن | M44: =SUM(D44:L44) -> 0
C45: نفت سفید | M45: =SUM(D45:L45) -> 0
C46: گازوئیل | M46: =SUM(D46:L46) -> 0
C47: بنزین | M47: =SUM(D47:L47) -> 0
C48: هزینه سفر | M48: =SUM(D48:L48) -> 0
C49: قراردادها | M49: =SUM(D49:L49) -> 0
...

Sheet بیمارستان آشتیان
B3: فرم منابع | C3: درآمد اعلام شده واحد | D3: سهم مرکز | E3: بند واو تطبیق یافته(سیاستگزاری ستاد) | F3: 1.5 درصد اورژانس | G3: 2 درصد رفاهی | H3: 1 درصد پژوهش | J3: 5 درصد ستاد | K3: 3 درصد خارج از شمول | L3: 5 درصد تجهیزات
B4: درمان
B5: دارو
B8: فرم مصارف | C8: درآمد اعلام شده واحد | D8: سهم مرکز | E8: بند واو تطبیق یافته(سیاستگزاری ستاد) | F8: 1.5 درصد اورژانس | G8: 2 درصد رفاهی | H8: 1 درصد پژوهش | J8: 5 درصد ستاد | K8: 3 درصد خارج از شمول | L8: 5 درصد تجهیزات
B9: درمان
B10: دارو
B13: فرم مانده | C13: درآمد اعلام شده واحد | D13: سهم مرکز | E13: بند واو تطبیق یافته(سیاستگزاری ستاد) | F13: 1.5 درصد اورژانس | G13: 2 درصد رفاهی | H13: 1 درصد پژوهش | J13: 5 درصد ستاد | K13: 3 درصد خارج از شمول | L13: 5 درصد تجهیزات
B14: درمان
B15: دارو
C18: معاونت توسعه مدیریت و منابع
C19: فرم تخصیص درآمدهای اختصاصی (سهم مرکز و در اختیار ستاد) (ارقام به هزار ریال( ماه .................)
C20: 30303 - 30301(بیمارستان آشتیان) | D20: سهم مرکز | E20: (سیاستگزاری ستاد) | F20: 1.5 درصد اورژانس | G20: 2 درصد رفاهی | H20: 1 درصد پژوهش | I20: 1 درصد آموزش | J20: 5 درصد ستاد | K20: 3 درصد خارج از شمول | L20: 5 درصد تجهیزات | M20: جمع
C21: فصل اول
C22: حقوق و مزایای طرح لایحه | M22: =SUM(D22:L22) -> 0
C23: حقوق و مزایای تبصره 4 | M23: =SUM(D23:L23) -> 0
C24: حقوق و مزایای تبصره 3 | M24: =SUM(D24:L24) -> 0
C25: اضافه کار | M25: =SUM(D25:L25) -> 0
C26: محرومیت از مطب | M26: =SUM(D26:L26) -> 0
C27: طرح تمام وقتی و آنکال | M27: =SUM(D27:L27) -> 0
C28: حق مدیریت(خارج از شمول) | M28: =SUM(D28:L28) -> 0
C29: عیدی | M29: =SUM(D29:L29) -> 0
C30: حق مسکن | M30: =SUM(D30:L30) -> 0
C31: سنوات و مرخصی بازنشسته | M31: =SUM(D31:L31) -> 0
C32: سنوات و مرخصی تبصره 3-4 | M32: =SUM(D32:L32) -> 0
C33: مرخصی تبصره 4 | M33: =SUM(D33:L33) -> 0
... C35: سایر2 | M35: =SUM(D35:L35) -> 0
C36: جمع فصل اول | D36: =SUM(D21:D35) -> 0 | E36: =SUM(E21:E35) -> 0 | F36: =SUM(F21:F35) -> 0 | G36: =SUM(G21:G35) -> 0 | H36: =SUM(H21:H35) -> 0 | I36: =SUM(I21:I35) -> 0 | J36: =SUM(J21:J35) -> 0 | K36: =SUM(K21:K35) -> 0 | ... M36: =SUM(M21:M35) -> 0
C37: فصل دوم
C38: مبتنی بر عملکرد پزشکان | M38: =SUM(D38:L38) -> 0
C39: مبتنی بر عملکرد کارکنان | M39: =SUM(D39:L39) -> 0
C40: ماموریت | M40: =SUM(D40:L40) -> 0
C41: آب | M41: =SUM(D41:L41) -> 0
C42: برق | M42: =SUM(D42:L42) -> 0
C43: گاز | M43: =SUM(D43:L43) -> 0
C44: تلفن | M44: =SUM(D44:L44) -> 0
C45: نفت سفید | M45: =SUM(D45:L45) -> 0
C46: گازوئیل | M46: =SUM(D46:L46) -> 0
C47: بنزین | M47: =SUM(D47:L47) -> 0
C48: هزینه سفر | M48: =SUM(D48:L48) -> 0
C49: قراردادها | M49: =SUM(D49:L49) -> 0
...

Sheet بیمارستان کمیجان
B3: فرم منابع | C3: درآمد اعلام شده واحد | D3: سهم مرکز | E3: بند واو تطبیق یافته(سیاستگزاری ستاد) | F3: 1.5 درصد اورژانس | G3: 2 درصد رفاهی | H3: 1 درصد پژوهش | J3: 5 درصد ستاد | K3: 3 درصد خارج از شمول | L3: 5 درصد تجهیزات
B4: درمان
B5: دارو
B8: فرم مصارف | C8: درآمد اعلام شده واحد | D8: سهم مرکز | E8: بند واو تطبیق یافته(سیاستگزاری ستاد) | F8: 1.5 درصد اورژانس | G8: 2 درصد رفاهی | H8: 1 درصد پژوهش | J8: 5 درصد ستاد | K8: 3 درصد خارج از شمول | L8: 5 درصد تجهیزات
B9: درمان
B10: دارو
B13: فرم مانده | C13: درآمد اعلام شده واحد | D13: سهم مرکز | E13: بند واو تطبیق یافته(سیاستگزاری ستاد) | F13: 1.5 درصد اورژانس | G13: 2 درصد رفاهی | H13: 1 درصد پژوهش | J13: 5 درصد ستاد | K13: 3 درصد خارج از شمول | L13: 5 درصد تجهیزات
B14: درمان
B15: دارو
C18: معاونت توسعه مدیریت و منابع
C19: فرم تخصیص درآمدهای اختصاصی (سهم مرکز و در اختیار ستاد) (ارقام به هزار ریال( ماه .................)
C20: 30303 - 30301(بیمارستان کمیجان) | D20: سهم مرکز | E20: (سیاستگزاری ستاد) | F20: 1.5 درصد اورژانس | G20: 2 درصد رفاهی | H20: 1 درصد پژوهش | I20: 1 درصد آموزش | J20: 5 درصد ستاد | K20: 3 درصد خارج از شمول | L20: 5 درصد تجهیزات | M20: جمع
C21: فصل اول
C22: حقوق و مزایای طرح لایحه | M22: =SUM(D22:L22) -> 0
C23: حقوق و مزایای تبصره 4 | M23: =SUM(D23:L23) -> 0
C24: حقوق و مزایای تبصره 3 | M24: =SUM(D24:L24) -> 0
C25: اضافه کار | M25: =SUM(D25:L25) -> 0
C26: محرومیت از مطب | M26: =SUM(D26:L26) -> 0
C27: طرح تمام وقتی و آنکال | M27: =SUM(D27:L27) -> 0
C28: حق مدیریت(خارج از شمول) | M28: =SUM(D28:L28) -> 0
C29: عیدی | M29: =SUM(D29:L29) -> 0
C30: حق مسکن | M30: =SUM(D30:L30) -> 0
C31: سنوات و مرخصی بازنشسته | M31: =SUM(D31:L31) -> 0
C32: سنوات و مرخصی تبصره 3-4 | M32: =SUM(D32:L32) -> 0
C33: مرخصی تبصره 4 | M33: =SUM(D33:L33) -> 0
... C35: سایر2 | M35: =SUM(D35:L35) -> 0
C36: جمع فصل اول | D36: =SUM(D21:D35) -> 0 | E36: =SUM(E21:E35) -> 0 | F36: =SUM(F21:F35) -> 0 | G36: =SUM(G21:G35) -> 0 | H36: =SUM(H21:H35) -> 0 | I36: =SUM(I21:I35) -> 0 | J36: =SUM(J21:J35) -> 0 | K36: =SUM(K21:K35) -> 0 | ... M36: =SUM(M21:M35) -> 0
C37: فصل دوم
C38: مبتنی بر عملکرد پزشکان | M38: =SUM(D38:L38) -> 0
C39: مبتنی بر عملکرد کارکنان | M39: =SUM(D39:L39) -> 0
C40: ماموریت | M40: =SUM(D40:L40) -> 0
C41: آب | M41: =SUM(D41:L41) -> 0
C42: برق | M42: =SUM(D42:L42) -> 0
C43: گاز | M43: =SUM(D43:L43) -> 0
C44: تلفن | M44: =SUM(D44:L44) -> 0
C45: نفت سفید | M45: =SUM(D45:L45) -> 0
C46: گازوئیل | M46: =SUM(D46:L46) -> 0
C47: بنزین | M47: =SUM(D47:L47) -> 0
C48: هزینه سفر | M48: =SUM(D48:L48) -> 0
C49: قراردادها | M49: =SUM(D49:L49) -> 0
...

Sheet بیمارستان تفرش
B3: فرم منابع | C3: درآمد اعلام شده واحد | D3: سهم مرکز | E3: بند واو تطبیق یافته(سیاستگزاری ستاد) | F3: 1.5 درصد اورژانس | G3: 2 درصد رفاهی | H3: 1 درصد پژوهش | J3: 5 درصد ستاد | K3: 3 درصد خارج از شمول | L3: 5 درصد تجهیزات
B4: درمان
B5: دارو
B8: فرم مصارف | C8: درآمد اعلام شده واحد | D8: سهم مرکز | E8: بند واو تطبیق یافته(سیاستگزاری ستاد) | F8: 1.5 درصد اورژانس | G8: 2 درصد رفاهی | H8: 1 درصد پژوهش | J8: 5 درصد ستاد | K8: 3 درصد خارج از شمول | L8: 5 درصد تجهیزات
B9: درمان
B10: دارو
B13: فرم مانده | C13: درآمد اعلام شده واحد | D13: سهم مرکز | E13: بند واو تطبیق یافته(سیاستگزاری ستاد) | F13: 1.5 درصد اورژانس | G13: 2 درصد رفاهی | H13: 1 درصد پژوهش | J13: 5 درصد ستاد | K13: 3 درصد خارج از شمول | L13: 5 درصد تجهیزات
B14: درمان
B15: دارو
C18: معاونت توسعه مدیریت و منابع
C19: فرم تخصیص درآمدهای اختصاصی (سهم مرکز و در اختیار ستاد) (ارقام به هزار ریال( ماه .................)
C20: 30303 - 30301(بیمارستان تفرش) | D20: سهم مرکز | E20: (سیاستگزاری ستاد) | F20: 1.5 درصد اورژانس | G20: 2 درصد رفاهی | H20: 1 درصد پژوهش | I20: 1 درصد آموزش | J20: 5 درصد ستاد | K20: 3 درصد خارج از شمول | L20: 5 درصد تجهیزات | M20: جمع
C21: فصل اول
C22: حقوق و مزایای طرح لایحه | M22: =SUM(D22:L22) -> 0
C23: حقوق و مزایای تبصره 4 | M23: =SUM(D23:L23) -> 0
C24: حقوق و مزایای تبصره 3 | M24: =SUM(D24:L24) -> 0
C25: اضافه کار | M25: =SUM(D25:L25) -> 0
C26: محرومیت از مطب | M26: =SUM(D26:L26) -> 0
C27: طرح تمام وقتی و آنکال | M27: =SUM(D27:L27) -> 0
C28: حق مدیریت(خارج از شمول) | M28: =SUM(D28:L28) -> 0
C29: عیدی | M29: =SUM(D29:L29) -> 0
C30: حق مسکن | M30: =SUM(D30:L30) -> 0
C31: سنوات و مرخصی بازنشسته | M31: =SUM(D31:L31) -> 0
C32: سنوات و مرخصی تبصره 3-4 | M32: =SUM(D32:L32) -> 0
C33: مرخصی تبصره 4 | M33: =SUM(D33:L33) -> 0
... C35: سایر2 | M35: =SUM(D35:L35) -> 0
C36: جمع فصل اول | D36: =SUM(D21:D35) -> 0 | E36: =SUM(E21:E35) -> 0 | F36: =SUM(F21:F35) -> 0 | G36: =SUM(G21:G35) -> 0 | H36: =SUM(H21:H35) -> 0 | I36: =SUM(I21:I35) -> 0 | J36: =SUM(J21:J35) -> 0 | K36: =SUM(K21:K35) -> 0 | ... M36: =SUM(M21:M35) -> 0
C37: فصل دوم
C38: مبتنی بر عملکرد پزشکان | M38: =SUM(D38:L38) -> 0
C39: مبتنی بر عملکرد کارکنان | M39: =SUM(D39:L39) -> 0
C40: ماموریت | M40: =SUM(D40:L40) -> 0
C41: آب | M41: =SUM(D41:L41) -> 0
C42: برق | M42: =SUM(D42:L42) -> 0
C43: گاز | M43: =SUM(D43:L43) -> 0
C44: تلفن | M44: =SUM(D44:L44) -> 0
C45: نفت سفید | M45: =SUM(D45:L45) -> 0
C46: گازوئیل | M46: =SUM(D46:L46) -> 0
C47: بنزین | M47: =SUM(D47:L47) -> 0
C48: هزینه سفر | M48: =SUM(D48:L48) -> 0
C49: قراردادها | M49: =SUM(D49:L49) -> 0
...

Sheet کلینیک امام رضا
B3: فرم منابع | C3: درآمد اعلام شده واحد | D3: سهم مرکز | E3: بند واو تطبیق یافته(سیاستگزاری ستاد) | F3: 1.5 درصد اورژانس | G3: 2 درصد رفاهی | H3: 1 درصد پژوهش | J3: 5 درصد ستاد | K3: 3 درصد خارج از شمول | L3: 5 درصد تجهیزات
B4: درمان
B5: دارو
B8: فرم مصارف | C8: درآمد اعلام شده واحد | D8: سهم مرکز | E8: بند واو تطبیق یافته(سیاستگزاری ستاد) | F8: 1.5 درصد اورژانس | G8: 2 درصد رفاهی | H8: 1 درصد پژوهش | J8: 5 درصد ستاد | K8: 3 درصد خارج از شمول | L8: 5 درصد تجهیزات
B9: درمان
B10: دارو
B13: فرم مانده | C13: درآمد اعلام شده واحد | D13: سهم مرکز | E13: بند واو تطبیق یافته(سیاستگزاری ستاد) | F13: 1.5 درصد اورژانس | G13: 2 درصد رفاهی | H13: 1 درصد پژوهش | J13: 5 درصد ستاد | K13: 3 درصد خارج از شمول | L13: 5 درصد تجهیزات
B14: درمان
B15: دارو
C18: معاونت توسعه مدیریت و منابع
C19: فرم تخصیص درآمدهای اختصاصی (سهم مرکز و در اختیار ستاد) (ارقام به هزار ریال( ماه .................)
C20: 30303 - 30301(کلینیک امام رضا ع) | D20: سهم مرکز | E20: (سیاستگزاری ستاد) | F20: 1.5 درصد اورژانس | G20: 2 درصد رفاهی | H20: 1 درصد پژوهش | I20: 1 درصد آموزش | J20: 5 درصد ستاد | K20: 3 درصد خارج از شمول | L20: 5 درصد تجهیزات | M20: جمع
C21: فصل اول
C22: حقوق و مزایای طرح لایحه | M22: =SUM(D22:L22) -> 0
C23: حقوق و مزایای تبصره 4 | M23: =SUM(D23:L23) -> 0
C24: حقوق و مزایای تبصره 3 | M24: =SUM(D24:L24) -> 0
C25: اضافه کار | M25: =SUM(D25:L25) -> 0
C26: محرومیت از مطب | M26: =SUM(D26:L26) -> 0
C27: طرح تمام وقتی و آنکال | M27: =SUM(D27:L27) -> 0
C28: حق مدیریت(خارج از شمول) | M28: =SUM(D28:L28) -> 0
C29: عیدی | M29: =SUM(D29:L29) -> 0
C30: حق مسکن | M30: =SUM(D30:L30) -> 0
C31: سنوات و مرخصی بازنشسته | M31: =SUM(D31:L31) -> 0
C32: سنوات و مرخصی تبصره 3-4 | M32: =SUM(D32:L32) -> 0
C33: مرخصی تبصره 4 | M33: =SUM(D33:L33) -> 0
... C35: سایر2 | M35: =SUM(D35:L35) -> 0
C36: جمع فصل اول | D36: =SUM(D21:D35) -> 0 | E36: =SUM(E21:E35) -> 0 | F36: =SUM(F21:F35) -> 0 | G36: =SUM(G21:G35) -> 0 | H36: =SUM(H21:H35) -> 0 | I36: =SUM(I21:I35) -> 0 | J36: =SUM(J21:J35) -> 0 | K36: =SUM(K21:K35) -> 0 | ... M36: =SUM(M21:M35) -> 0
C37: فصل دوم
C38: مبتنی بر عملکرد پزشکان | M38: =SUM(D38:L38) -> 0
C39: مبتنی بر عملکرد کارکنان | M39: =SUM(D39:L39) -> 0
C40: ماموریت | M40: =SUM(D40:L40) -> 0
C41: آب | M41: =SUM(D41:L41) -> 0
C42: برق | M42: =SUM(D42:L42) -> 0
C43: گاز | M43: =SUM(D43:L43) -> 0
C44: تلفن | M44: =SUM(D44:L44) -> 0
C45: نفت سفید | M45: =SUM(D45:L45) -> 0
C46: گازوئیل | M46: =SUM(D46:L46) -> 0
C47: بنزین | M47: =SUM(D47:L47) -> 0
C48: هزینه سفر | M48: =SUM(D48:L48) -> 0
C49: قراردادها | M49: =SUM(D49:L49) -> 0
...

Sheet کلینیک کوثر
B3: فرم منابع | C3: درآمد اعلام شده واحد | D3: سهم مرکز | E3: بند واو تطبیق یافته(سیاستگزاری ستاد) | F3: 1.5 درصد اورژانس | G3: 2 درصد رفاهی | H3: 1 درصد پژوهش | J3: 5 درصد ستاد | K3: 3 درصد خارج از شمول | L3: 5 درصد تجهیزات
B4: درمان
B5: دارو
B8: فرم مصارف | C8: درآمد اعلام شده واحد | D8: سهم مرکز | E8: بند واو تطبیق یافته(سیاستگزاری ستاد) | F8: 1.5 درصد اورژانس | G8: 2 درصد رفاهی | H8: 1 درصد پژوهش | J8: 5 درصد ستاد | K8: 3 درصد خارج از شمول | L8: 5 درصد تجهیزات
B9: درمان
B10: دارو
B13: فرم مانده | C13: درآمد اعلام شده واحد | D13: سهم مرکز | E13: بند واو تطبیق یافته(سیاستگزاری ستاد) | F13: 1.5 درصد اورژانس | G13: 2 درصد رفاهی | H13: 1 درصد پژوهش | J13: 5 درصد ستاد | K13: 3 درصد خارج از شمول | L13: 5 درصد تجهیزات
B14: درمان
B15: دارو
C18: معاونت توسعه مدیریت و منابع
C19: فرم تخصیص درآمدهای اختصاصی (سهم مرکز و در اختیار ستاد) (ارقام به هزار ریال( ماه .................)
C20: 30303 - 30301(کلینیک کوثر) | D20: سهم مرکز | E20: (سیاستگزاری ستاد) | F20: 1.5 درصد اورژانس | G20: 2 درصد رفاهی | H20: 1 درصد پژوهش | I20: 1 درصد آموزش | J20: 5 درصد ستاد | K20: 3 درصد خارج از شمول | L20: 5 درصد تجهیزات | M20: جمع
C21: فصل اول
C22: حقوق و مزایای طرح لایحه | M22: =SUM(D22:L22) -> 0
C23: حقوق و مزایای تبصره 4 | M23: =SUM(D23:L23) -> 0
C24: حقوق و مزایای تبصره 3 | M24: =SUM(D24:L24) -> 0
C25: اضافه کار | M25: =SUM(D25:L25) -> 0
C26: محرومیت از مطب | M26: =SUM(D26:L26) -> 0
C27: طرح تمام وقتی و آنکال | M27: =SUM(D27:L27) -> 0
C28: حق مدیریت(خارج از شمول) | M28: =SUM(D28:L28) -> 0
C29: عیدی | M29: =SUM(D29:L29) -> 0
C30: حق مسکن | M30: =SUM(D30:L30) -> 0
C31: سنوات و مرخصی بازنشسته | M31: =SUM(D31:L31) -> 0
C32: سنوات و مرخصی تبصره 3-4 | M32: =SUM(D32:L32) -> 0
C33: مرخصی تبصره 4 | M33: =SUM(D33:L33) -> 0
... C35: سایر2 | M35: =SUM(D35:L35) -> 0
C36: جمع فصل اول | D36: =SUM(D21:D35) -> 0 | E36: =SUM(E21:E35) -> 0 | F36: =SUM(F21:F35) -> 0 | G36: =SUM(G21:G35) -> 0 | H36: =SUM(H21:H35) -> 0 | I36: =SUM(I21:I35) -> 0 | J36: =SUM(J21:J35) -> 0 | K36: =SUM(K21:K35) -> 0 | ... M36: =SUM(M21:M35) -> 0
C37: فصل دوم
C38: مبتنی بر عملکرد پزشکان | M38: =SUM(D38:L38) -> 0
C39: مبتنی بر عملکرد کارکنان | M39: =SUM(D39:L39) -> 0
C40: ماموریت | M40: =SUM(D40:L40) -> 0
C41: آب | M41: =SUM(D41:L41) -> 0
C42: برق | M42: =SUM(D42:L42) -> 0
C43: گاز | M43: =SUM(D43:L43) -> 0
C44: تلفن | M44: =SUM(D44:L44) -> 0
C45: نفت سفید | M45: =SUM(D45:L45) -> 0
C46: گازوئیل | M46: =SUM(D46:L46) -> 0
C47: بنزین | M47: =SUM(D47:L47) -> 0
C48: هزینه سفر | M48: =SUM(D48:L48) -> 0
C49: قراردادها | M49: =SUM(D49:L49) -> 0
...

Sheet معاونت بهداشتی
B3: فرم منابع | C3: درآمد اعلام شده واحد | D3: سهم مرکز | E3: بند واو تطبیق یافته(سیاستگزاری ستاد) | F3: 1.5 درصد اورژانس | G3: 2 درصد رفاهی | H3: 1 درصد پژوهش | J3: 5 درصد ستاد | K3: 3 درصد خارج از شمول | L3: 5 درصد تجهیزات
B4: درمان
B5: دارو
B8: فرم مصارف | C8: درآمد اعلام شده واحد | D8: سهم مرکز | E8: بند واو تطبیق یافته(سیاستگزاری ستاد) | F8: 1.5 درصد اورژانس | G8: 2 درصد رفاهی | H8: 1 درصد پژوهش | J8: 5 درصد ستاد | K8: 3 درصد خارج از شمول | L8: 5 درصد تجهیزات
B9: درمان
B10: دارو
B13: فرم مانده | C13: درآمد اعلام شده واحد | D13: سهم مرکز | E13: بند واو تطبیق یافته(سیاستگزاری ستاد) | F13: 1.5 درصد اورژانس | G13: 2 درصد رفاهی | H13: 1 درصد پژوهش | J13: 5 درصد ستاد | K13: 3 درصد خارج از شمول | L13: 5 درصد تجهیزات
B14: درمان
B15: دارو
C18: معاونت توسعه مدیریت و منابع
C19: فرم تخصیص درآمدهای اختصاصی (سهم مرکز و در اختیار ستاد) (ارقام به هزار ریال( ماه .................)
C20: 30303 - 30301 | D20: سهم مرکز | E20: (سیاستگزاری ستاد) | F20: 1.5 درصد اورژانس | G20: 2 درصد رفاهی | H20: 1 درصد پژوهش | I20: 1 درصد آموزش | J20: 5 درصد ستاد | K20: 3 درصد خارج از شمول | L20: 5 درصد تجهیزات | M20: جمع
C21: فصل اول
C22: حقوق و مزایای طرح لایحه | M22: =SUM(D22:L22) -> 0
C23: حقوق و مزایای تبصره 4 | M23: =SUM(D23:L23) -> 0
C24: حقوق و مزایای تبصره 3 | M24: =SUM(D24:L24) -> 0
C25: اضافه کار | M25: =SUM(D25:L25) -> 0
C26: محرومیت از مطب | M26: =SUM(D26:L26) -> 0
C27: طرح تمام وقتی و آنکال | M27: =SUM(D27:L27) -> 0
C28: حق مدیریت(خارج از شمول) | M28: =SUM(D28:L28) -> 0
C29: عیدی | M29: =SUM(D29:L29) -> 0
C30: حق مسکن | M30: =SUM(D30:L30) -> 0
C31: سنوات و مرخصی بازنشسته | M31: =SUM(D31:L31) -> 0
C32: سنوات و مرخصی تبصره 3-4 | M32: =SUM(D32:L32) -> 0
C33: مرخصی تبصره 4 | M33: =SUM(D33:L33) -> 0
... C35: سایر2 | M35: =SUM(D35:L35) -> 0
C36: جمع فصل اول | D36: =SUM(D21:D35) -> 0 | E36: =SUM(E21:E35) -> 0 | F36: =SUM(F21:F35) -> 0 | G36: =SUM(G21:G35) -> 0 | H36: =SUM(H21:H35) -> 0 | I36: =SUM(I21:I35) -> 0 | J36: =SUM(J21:J35) -> 0 | K36: =SUM(K21:K35) -> 0 | ... M36: =SUM(M21:M35) -> 0
C37: فصل دوم
C38: مبتنی بر عملکرد پزشکان | M38: =SUM(D38:L38) -> 0
C39: مبتنی بر عملکرد کارکنان | M39: =SUM(D39:L39) -> 0
C40: ماموریت | M40: =SUM(D40:L40) -> 0
C41: آب | M41: =SUM(D41:L41) -> 0
C42: برق | M42: =SUM(D42:L42) -> 0
C43: گاز | M43: =SUM(D43:L43) -> 0
C44: تلفن | M44: =SUM(D44:L44) -> 0
C45: نفت سفید | M45: =SUM(D45:L45) -> 0
C46: گازوئیل | M46: =SUM(D46:L46) -> 0
C47: بنزین | M47: =SUM(D47:L47) -> 0
C48: هزینه سفر | M48: =SUM(D48:L48) -> 0
C49: قراردادها | M49: =SUM(D49:L49) -> 0
...

Sheet درمانگاه mmt
B3: فرم منابع | C3: درآمد اعلام شده واحد | D3: سهم مرکز | E3: بند واو تطبیق یافته(سیاستگزاری ستاد) | F3: 1.5 درصد اورژانس | G3: 2 درصد رفاهی | H3: 1 درصد پژوهش | J3: 5 درصد ستاد | K3: 3 درصد خارج از شمول | L3: 5 درصد تجهیزات
B4: درمان
B5: دارو
B8: فرم مصارف | C8: درآمد اعلام شده واحد | D8: سهم مرکز | E8: بند واو تطبیق یافته(سیاستگزاری ستاد) | F8: 1.5 درصد اورژانس | G8: 2 درصد رفاهی | H8: 1 درصد پژوهش | J8: 5 درصد ستاد | K8: 3 درصد خارج از شمول | L8: 5 درصد تجهیزات
B9: درمان
B10: دارو
B13: فرم مانده | C13: درآمد اعلام شده واحد | D13: سهم مرکز | E13: بند واو تطبیق یافته(سیاستگزاری ستاد) | F13: 1.5 درصد اورژانس | G13: 2 درصد رفاهی | H13: 1 درصد پژوهش | J13: 5 درصد ستاد | K13: 3 درصد خارج از شمول | L13: 5 درصد تجهیزات
B14: درمان
B15: دارو
C18: معاونت توسعه مدیریت و منابع
C19: فرم تخصیص درآمدهای اختصاصی (سهم مرکز و در اختیار ستاد) (ارقام به هزار ریال( ماه .................)
C20: 30303 - 30301 درمانگاه mmt | D20: سهم مرکز | E20: (سیاستگزاری ستاد) | F20: 1.5 درصد اورژانس | G20: 2 درصد رفاهی | H20: 1 درصد پژوهش | I20: 1 درصد آموزش | J20: 5 درصد ستاد | K20: 3 درصد خارج از شمول | L20: 5 درصد تجهیزات | M20: جمع
C21: فصل اول
C22: حقوق و مزایای طرح لایحه | M22: =SUM(D22:L22) -> 0
C23: حقوق و مزایای تبصره 4 | M23: =SUM(D23:L23) -> 0
C24: حقوق و مزایای تبصره 3 | M24: =SUM(D24:L24) -> 0
C25: اضافه کار | M25: =SUM(D25:L25) -> 0
C26: محرومیت از مطب | M26: =SUM(D26:L26) -> 0
C27: طرح تمام وقتی و آنکال | M27: =SUM(D27:L27) -> 0
C28: حق مدیریت(خارج از شمول) | M28: =SUM(D28:L28) -> 0
C29: عیدی | M29: =SUM(D29:L29) -> 0
C30: حق مسکن | M30: =SUM(D30:L30) -> 0
C31: سنوات و مرخصی بازنشسته | M31: =SUM(D31:L31) -> 0
C32: سنوات و مرخصی تبصره 3-4 | M32: =SUM(D32:L32) -> 0
C33: مرخصی تبصره 4 | M33: =SUM(D33:L33) -> 0
... C35: سایر2 | M35: =SUM(D35:L35) -> 0
C36: جمع فصل اول | D36: =SUM(D21:D35) -> 0 | E36: =SUM(E21:E35) -> 0 | F36: =SUM(F21:F35) -> 0 | G36: =SUM(G21:G35) -> 0 | H36: =SUM(H21:H35) -> 0 | I36: =SUM(I21:I35) -> 0 | J36: =SUM(J21:J35) -> 0 | K36: =SUM(K21:K35) -> 0 | ... M36: =SUM(M21:M35) -> 0
C37: فصل دوم
C38: مبتنی بر عملکرد پزشکان | M38: =SUM(D38:L38) -> 0
C39: مبتنی بر عملکرد کارکنان | M39: =SUM(D39:L39) -> 0
C40: ماموریت | M40: =SUM(D40:L40) -> 0
C41: آب | M41: =SUM(D41:L41) -> 0
C42: برق | M42: =SUM(D42:L42) -> 0
C43: گاز | M43: =SUM(D43:L43) -> 0
C44: تلفن | M44: =SUM(D44:L44) -> 0
C45: نفت سفید | M45: =SUM(D45:L45) -> 0
C46: گازوئیل | M46: =SUM(D46:L46) -> 0
C47: بنزین | M47: =SUM(D47:L47) -> 0
C48: هزینه سفر | M48: =SUM(D48:L48) -> 0
C49: قراردادها | M49: =SUM(D49:L49) -> 0
...

Sheet دانشکده پرستاری
B3: فرم منابع | C3: درآمد اعلام شده واحد | D3: سهم مرکز | E3: بند واو تطبیق یافته(سیاستگزاری ستاد) | F3: 1.5 درصد اورژانس | G3: 2 درصد رفاهی | H3: 1 درصد پژوهش | J3: 5 درصد ستاد | K3: 3 درصد خارج از شمول | L3: 5 درصد تجهیزات
B4: درمان
B5: دارو
B8: فرم مصارف | C8: درآمد اعلام شده واحد | D8: سهم مرکز | E8: بند واو تطبیق یافته(سیاستگزاری ستاد) | F8: 1.5 درصد اورژانس | G8: 2 درصد رفاهی | H8: 1 درصد پژوهش | J8: 5 درصد ستاد | K8: 3 درصد خارج از شمول | L8: 5 درصد تجهیزات
B9: درمان
B10: دارو
B13: فرم مانده | C13: درآمد اعلام شده واحد | D13: سهم مرکز | E13: بند واو تطبیق یافته(سیاستگزاری ستاد) | F13: 1.5 درصد اورژانس | G13: 2 درصد رفاهی | H13: 1 درصد پژوهش | J13: 5 درصد ستاد | K13: 3 درصد خارج از شمول | L13: 5 درصد تجهیزات
B14: درمان
B15: دارو
C18: معاونت توسعه مدیریت و منابع
C19: فرم تخصیص درآمدهای اختصاصی (سهم مرکز و در اختیار ستاد) (ارقام به هزار ریال( ماه .................)
C20: 30303 - 30301 | D20: سهم مرکز | E20: (سیاستگزاری ستاد) | F20: 1.5 درصد اورژانس | G20: 2 درصد رفاهی | H20: 1 درصد پژوهش | I20: 1 درصد آموزش | J20: 5 درصد ستاد | K20: 3 درصد خارج از شمول | L20: 5 درصد تجهیزات | M20: جمع
C21: فصل اول
C22: حقوق و مزایای طرح لایحه | M22: =SUM(D22:L22) -> 0
C23: حقوق و مزایای تبصره 4 | M23: =SUM(D23:L23) -> 0
C24: حقوق و مزایای تبصره 3 | M24: =SUM(D24:L24) -> 0
C25: اضافه کار | M25: =SUM(D25:L25) -> 0
C26: محرومیت از مطب | M26: =SUM(D26:L26) -> 0
C27: طرح تمام وقتی و آنکال | M27: =SUM(D27:L27) -> 0
C28: حق مدیریت(خارج از شمول) | M28: =SUM(D28:L28) -> 0
C29: عیدی | M29: =SUM(D29:L29) -> 0
C30: حق مسکن | M30: =SUM(D30:L30) -> 0
C31: سنوات و مرخصی بازنشسته | M31: =SUM(D31:L31) -> 0
C32: سنوات و مرخصی تبصره 3-4 | M32: =SUM(D32:L32) -> 0
C33: مرخصی تبصره 4 | M33: =SUM(D33:L33) -> 0
... C35: سایر2 | M35: =SUM(D35:L35) -> 0
C36: جمع فصل اول | D36: =SUM(D21:D35) -> 0 | E36: =SUM(E21:E35) -> 0 | F36: =SUM(F21:F35) -> 0 | G36: =SUM(G21:G35) -> 0 | H36: =SUM(H21:H35) -> 0 | I36: =SUM(I21:I35) -> 0 | J36: =SUM(J21:J35) -> 0 | K36: =SUM(K21:K35) -> 0 | ... M36: =SUM(M21:M35) -> 0
C37: فصل دوم
C38: مبتنی بر عملکرد پزشکان | M38: =SUM(D38:L38) -> 0
C39: مبتنی بر عملکرد کارکنان | M39: =SUM(D39:L39) -> 0
C40: ماموریت | M40: =SUM(D40:L40) -> 0
C41: آب | M41: =SUM(D41:L41) -> 0
C42: برق | M42: =SUM(D42:L42) -> 0
C43: گاز | M43: =SUM(D43:L43) -> 0
C44: تلفن | M44: =SUM(D44:L44) -> 0
C45: نفت سفید | M45: =SUM(D45:L45) -> 0
C46: گازوئیل | M46: =SUM(D46:L46) -> 0
C47: بنزین | M47: =SUM(D47:L47) -> 0
C48: هزینه سفر | M48: =SUM(D48:L48) -> 0
C49: قراردادها | M49: =SUM(D49:L49) -> 0
...

Sheet دانشکده پزشکی
B3: فرم منابع | C3: درآمد اعلام شده واحد | D3: سهم مرکز | E3: بند واو تطبیق یافته(سیاستگزاری ستاد) | F3: 1.5 درصد اورژانس | G3: 2 درصد رفاهی | H3: 1 درصد پژوهش | J3: 5 درصد ستاد | K3: 3 درصد خارج از شمول | L3: 5 درصد تجهیزات
B4: درمان
B5: دارو
B8: فرم مصارف | C8: درآمد اعلام شده واحد | D8: سهم مرکز | E8: بند واو تطبیق یافته(سیاستگزاری ستاد) | F8: 1.5 درصد اورژانس | G8: 2 درصد رفاهی | H8: 1 درصد پژوهش | J8: 5 درصد ستاد | K8: 3 درصد خارج از شمول | L8: 5 درصد تجهیزات
B9: درمان
B10: دارو
B13: فرم مانده | C13: درآمد اعلام شده واحد | D13: سهم مرکز | E13: بند واو تطبیق یافته(سیاستگزاری ستاد) | F13: 1.5 درصد اورژانس | G13: 2 درصد رفاهی | H13: 1 درصد پژوهش | J13: 5 درصد ستاد | K13: 3 درصد خارج از شمول | L13: 5 درصد تجهیزات
B14: درمان
B15: دارو
C18: معاونت توسعه مدیریت و منابع
C19: فرم تخصیص درآمدهای اختصاصی (سهم مرکز و در اختیار ستاد) (ارقام به هزار ریال( ماه .................)
C20: 30303 - 30301(دانشکده پزشکی ودندان پزشکی) | D20: سهم مرکز | E20: (سیاستگزاری ستاد) | F20: 1.5 درصد اورژانس | G20: 2 درصد رفاهی | H20: 1 درصد پژوهش | I20: 1 درصد آموزش | J20: 5 درصد ستاد | K20: 3 درصد خارج از شمول | L20: 5 درصد تجهیزات | M20: جمع
C21: فصل اول
C22: حقوق و مزایای طرح لایحه | M22: =SUM(D22:L22) -> 0
C23: حقوق و مزایای تبصره 4 | M23: =SUM(D23:L23) -> 0
C24: حقوق و مزایای تبصره 3 | M24: =SUM(D24:L24) -> 0
C25: اضافه کار | M25: =SUM(D25:L25) -> 0
C26: محرومیت از مطب | M26: =SUM(D26:L26) -> 0
C27: طرح تمام وقتی و آنکال | M27: =SUM(D27:L27) -> 0
C28: حق مدیریت(خارج از شمول) | M28: =SUM(D28:L28) -> 0
C29: عیدی | M29: =SUM(D29:L29) -> 0
C30: حق مسکن | M30: =SUM(D30:L30) -> 0
C31: سنوات و مرخصی بازنشسته | M31: =SUM(D31:L31) -> 0
C32: سنوات و مرخصی تبصره 3-4 | M32: =SUM(D32:L32) -> 0
C33: مرخصی تبصره 4 | M33: =SUM(D33:L33) -> 0
... C35: سایر2 | M35: =SUM(D35:L35) -> 0
C36: جمع فصل اول | D36: =SUM(D21:D35) -> 0 | E36: =SUM(E21:E35) -> 0 | F36: =SUM(F21:F35) -> 0 | G36: =SUM(G21:G35) -> 0 | H36: =SUM(H21:H35) -> 0 | I36: =SUM(I21:I35) -> 0 | J36: =SUM(J21:J35) -> 0 | K36: =SUM(K21:K35) -> 0 | ... M36: =SUM(M21:M35) -> 0
C37: فصل دوم
C38: مبتنی بر عملکرد پزشکان | M38: =SUM(D38:L38) -> 0
C39: مبتنی بر عملکرد کارکنان | M39: =SUM(D39:L39) -> 0
C40: ماموریت | M40: =SUM(D40:L40) -> 0
C41: آب | M41: =SUM(D41:L41) -> 0
C42: برق | M42: =SUM(D42:L42) -> 0
C43: گاز | M43: =SUM(D43:L43) -> 0
C44: تلفن | M44: =SUM(D44:L44) -> 0
C45: نفت سفید | M45: =SUM(D45:L45) -> 0
C46: گازوئیل | M46: =SUM(D46:L46) -> 0
C47: بنزین | M47: =SUM(D47:L47) -> 0
C48: هزینه سفر | M48: =SUM(D48:L48) -> 0
C49: قراردادها | M49: =SUM(D49:L49) -> 0
...

Sheet دانشکده پیراپزشکی
B3: فرم منابع | C3: درآمد اعلام شده واحد | D3: سهم مرکز | E3: بند واو تطبیق یافته(سیاستگزاری ستاد) | F3: 1.5 درصد اورژانس | G3: 2 درصد رفاهی | H3: 1 درصد پژوهش | J3: 5 درصد ستاد | K3: 3 درصد خارج از شمول | L3: 5 درصد تجهیزات
B4: درمان
B5: دارو
B8: فرم مصارف | C8: درآمد اعلام شده واحد | D8: سهم مرکز | E8: بند واو تطبیق یافته(سیاستگزاری ستاد) | F8: 1.5 درصد اورژانس | G8: 2 درصد رفاهی | H8: 1 درصد پژوهش | J8: 5 درصد ستاد | K8: 3 درصد خارج از شمول | L8: 5 درصد تجهیزات
B9: درمان
B10: دارو
B13: فرم مانده | C13: درآمد اعلام شده واحد | D13: سهم مرکز | E13: بند واو تطبیق یافته(سیاستگزاری ستاد) | F13: 1.5 درصد اورژانس | G13: 2 درصد رفاهی | H13: 1 درصد پژوهش | J13: 5 درصد ستاد | K13: 3 درصد خارج از شمول | L13: 5 درصد تجهیزات
B14: درمان
B15: دارو
C18: معاونت توسعه مدیریت و منابع
C19: فرم تخصیص درآمدهای اختصاصی (سهم مرکز و در اختیار ستاد) (ارقام به هزار ریال( ماه .................)
C20: 30303 - 30301 | D20: سهم مرکز | E20: (سیاستگزاری ستاد) | F20: 1.5 درصد اورژانس | G20: 2 درصد رفاهی | H20: 1 درصد پژوهش | I20: 1 درصد آموزش | J20: 5 درصد ستاد | K20: 3 درصد خارج از شمول | L20: 5 درصد تجهیزات | M20: جمع
C21: فصل اول
C22: حقوق و مزایای طرح لایحه | M22: =SUM(D22:L22) -> 0
C23: حقوق و مزایای تبصره 4 | M23: =SUM(D23:L23) -> 0
C24: حقوق و مزایای تبصره 3 | M24: =SUM(D24:L24) -> 0
C25: اضافه کار | M25: =SUM(D25:L25) -> 0
C26: محرومیت از مطب | M26: =SUM(D26:L26) -> 0
C27: طرح تمام وقتی و آنکال | M27: =SUM(D27:L27) -> 0
C28: حق مدیریت(خارج از شمول) | M28: =SUM(D28:L28) -> 0
C29: عیدی | M29: =SUM(D29:L29) -> 0
C30: حق مسکن | M30: =SUM(D30:L30) -> 0
C31: سنوات و مرخصی بازنشسته | M31: =SUM(D31:L31) -> 0
C32: سنوات و مرخصی تبصره 3-4 | M32: =SUM(D32:L32) -> 0
C33: مرخصی تبصره 4 | M33: =SUM(D33:L33) -> 0
... C35: سایر2 | M35: =SUM(D35:L35) -> 0
C36: جمع فصل اول | D36: =SUM(D21:D35) -> 0 | E36: =SUM(E21:E35) -> 0 | F36: =SUM(F21:F35) -> 0 | G36: =SUM(G21:G35) -> 0 | H36: =SUM(H21:H35) -> 0 | I36: =SUM(I21:I35) -> 0 | J36: =SUM(J21:J35) -> 0 | K36: =SUM(K21:K35) -> 0 | ... M36: =SUM(M21:M35) -> 0
C37: فصل دوم
C38: مبتنی بر عملکرد پزشکان | M38: =SUM(D38:L38) -> 0
C39: مبتنی بر عملکرد کارکنان | M39: =SUM(D39:L39) -> 0
C40: ماموریت | M40: =SUM(D40:L40) -> 0
C41: آب | M41: =SUM(D41:L41) -> 0
C42: برق | M42: =SUM(D42:L42) -> 0
C43: گاز | M43: =SUM(D43:L43) -> 0
C44: تلفن | M44: =SUM(D44:L44) -> 0
C45: نفت سفید | M45: =SUM(D45:L45) -> 0
C46: گازوئیل | M46: =SUM(D46:L46) -> 0
C47: بنزین | M47: =SUM(D47:L47) -> 0
C48: هزینه سفر | M48: =SUM(D48:L48) -> 0
C49: قراردادها | M49: =SUM(D49:L49) -> 0
...

Sheet معاونت تحقیقات
B3: فرم منابع | C3: درآمد اعلام شده واحد | D3: سهم مرکز | E3: بند واو تطبیق یافته(سیاستگزاری ستاد) | F3: 1.5 درصد اورژانس | G3: 2 درصد رفاهی | H3: 1 درصد پژوهش | J3: 5 درصد ستاد | K3: 3 درصد خارج از شمول | L3: 5 درصد تجهیزات
B4: درمان
B5: دارو
B8: فرم مصارف | C8: درآمد اعلام شده واحد | D8: سهم مرکز | E8: بند واو تطبیق یافته(سیاستگزاری ستاد) | F8: 1.5 درصد اورژانس | G8: 2 درصد رفاهی | H8: 1 درصد پژوهش | J8: 5 درصد ستاد | K8: 3 درصد خارج از شمول | L8: 5 درصد تجهیزات
B9: درمان
B10: دارو
B13: فرم مانده | C13: درآمد اعلام شده واحد | D13: سهم مرکز | E13: بند واو تطبیق یافته(سیاستگزاری ستاد) | F13: 1.5 درصد اورژانس | G13: 2 درصد رفاهی | H13: 1 درصد پژوهش | J13: 5 درصد ستاد | K13: 3 درصد خارج از شمول | L13: 5 درصد تجهیزات
B14: درمان
B15: دارو
C18: معاونت توسعه مدیریت و منابع
C19: فرم تخصیص درآمدهای اختصاصی (سهم مرکز و در اختیار ستاد) (ارقام به هزار ریال( ماه .................)
C20: 30303 - 30301-معاونت تحقیقات وپژوهش | D20: سهم مرکز | E20: (سیاستگزاری ستاد) | F20: 1.5 درصد اورژانس | G20: 2 درصد رفاهی | H20: 1 درصد پژوهش | I20: 1 درصد آموزش | J20: 5 درصد ستاد | K20: 3 درصد خارج از شمول | L20: 5 درصد تجهیزات | M20: جمع
C21: فصل اول
C22: حقوق و مزایای طرح لایحه | M22: =SUM(D22:L22) -> 0
C23: حقوق و مزایای تبصره 4 | M23: =SUM(D23:L23) -> 0
C24: حقوق و مزایای تبصره 3 | M24: =SUM(D24:L24) -> 0
C25: اضافه کار | M25: =SUM(D25:L25) -> 0
C26: محرومیت از مطب | M26: =SUM(D26:L26) -> 0
C27: طرح تمام وقتی و آنکال | M27: =SUM(D27:L27) -> 0
C28: حق مدیریت(خارج از شمول) | M28: =SUM(D28:L28) -> 0
C29: عیدی | M29: =SUM(D29:L29) -> 0
C30: حق مسکن | M30: =SUM(D30:L30) -> 0
C31: سنوات و مرخصی بازنشسته | M31: =SUM(D31:L31) -> 0
C32: سنوات و مرخصی تبصره 3-4 | M32: =SUM(D32:L32) -> 0
C33: مرخصی تبصره 4 | M33: =SUM(D33:L33) -> 0
... C35: سایر2 | M35: =SUM(D35:L35) -> 0
C36: جمع فصل اول | D36: =SUM(D21:D35) -> 0 | E36: =SUM(E21:E35) -> 0 | F36: =SUM(F21:F35) -> 0 | G36: =SUM(G21:G35) -> 0 | H36: =SUM(H21:H35) -> 0 | I36: =SUM(I21:I35) -> 0 | J36: =SUM(J21:J35) -> 0 | K36: =SUM(K21:K35) -> 0 | ... M36: =SUM(M21:M35) -> 0
C37: فصل دوم
C38: مبتنی بر عملکرد پزشکان | M38: =SUM(D38:L38) -> 0
C39: مبتنی بر عملکرد کارکنان | M39: =SUM(D39:L39) -> 0
C40: ماموریت | M40: =SUM(D40:L40) -> 0
C41: آب | M41: =SUM(D41:L41) -> 0
C42: برق | M42: =SUM(D42:L42) -> 0
C43: گاز | M43: =SUM(D43:L43) -> 0
C44: تلفن | M44: =SUM(D44:L44) -> 0
C45: نفت سفید | M45: =SUM(D45:L45) -> 0
C46: گازوئیل | M46: =SUM(D46:L46) -> 0
C47: بنزین | M47: =SUM(D47:L47) -> 0
C48: هزینه سفر | M48: =SUM(D48:L48) -> 0
C49: قراردادها | M49: =SUM(D49:L49) -> 0
...

Sheet شبکه شازند
B3: فرم منابع | C3: درآمد اعلام شده واحد | D3: سهم مرکز | E3: بند واو تطبیق یافته(سیاستگزاری ستاد) | F3: 1.5 درصد اورژانس | G3: 2 درصد رفاهی | H3: 1 درصد پژوهش | J3: 5 درصد ستاد | K3: 3 درصد خارج از شمول | L3: 5 درصد تجهیزات
B4: درمان
B5: دارو
B8: فرم مصارف | C8: درآمد اعلام شده واحد | D8: سهم مرکز | E8: بند واو تطبیق یافته(سیاستگزاری ستاد) | F8: 1.5 درصد اورژانس | G8: 2 درصد رفاهی | H8: 1 درصد پژوهش | J8: 5 درصد ستاد | K8: 3 درصد خارج از شمول | L8: 5 درصد تجهیزات
B9: درمان
B10: دارو
B13: فرم مانده | C13: درآمد اعلام شده واحد | D13: سهم مرکز | E13: بند واو تطبیق یافته(سیاستگزاری ستاد) | F13: 1.5 درصد اورژانس | G13: 2 درصد رفاهی | H13: 1 درصد پژوهش | J13: 5 درصد ستاد | K13: 3 درصد خارج از شمول | L13: 5 درصد تجهیزات
B14: درمان
B15: دارو
C18: معاونت توسعه مدیریت و منابع
C19: فرم تخصیص درآمدهای اختصاصی (سهم مرکز و در اختیار ستاد) (ارقام به هزار ریال( ماه .................)
C20: 30303 - 30301 | D20: سهم مرکز | E20: (سیاستگزاری ستاد) | F20: 1.5 درصد اورژانس | G20: 2 درصد رفاهی | H20: 1 درصد پژوهش | I20: 1 درصد آموزش | J20: 5 درصد ستاد | K20: 3 درصد خارج از شمول | L20: 5 درصد تجهیزات | M20: جمع
C21: فصل اول
C22: حقوق و مزایای طرح لایحه | M22: =SUM(D22:L22) -> 0
C23: حقوق و مزایای تبصره 4 | M23: =SUM(D23:L23) -> 0
C24: حقوق و مزایای تبصره 3 | M24: =SUM(D24:L24) -> 0
C25: اضافه کار | M25: =SUM(D25:L25) -> 0
C26: محرومیت از مطب | M26: =SUM(D26:L26) -> 0
C27: طرح تمام وقتی و آنکال | M27: =SUM(D27:L27) -> 0
C28: حق مدیریت(خارج از شمول) | M28: =SUM(D28:L28) -> 0
C29: عیدی | M29: =SUM(D29:L29) -> 0
C30: حق مسکن | M30: =SUM(D30:L30) -> 0
C31: سنوات و مرخصی بازنشسته | M31: =SUM(D31:L31) -> 0
C32: سنوات و مرخصی تبصره 3-4 | M32: =SUM(D32:L32) -> 0
C33: مرخصی تبصره 4 | M33: =SUM(D33:L33) -> 0
... C35: سایر2 | M35: =SUM(D35:L35) -> 0
C36: جمع فصل اول | D36: =SUM(D21:D35) -> 0 | E36: =SUM(E21:E35) -> 0 | F36: =SUM(F21:F35) -> 0 | G36: =SUM(G21:G35) -> 0 | H36: =SUM(H21:H35) -> 0 | I36: =SUM(I21:I35) -> 0 | J36: =SUM(J21:J35) -> 0 | K36: =SUM(K21:K35) -> 0 | ... M36: =SUM(M21:M35) -> 0
C37: فصل دوم
C38: مبتنی بر عملکرد پزشکان | M38: =SUM(D38:L38) -> 0
C39: مبتنی بر عملکرد کارکنان | M39: =SUM(D39:L39) -> 0
C40: ماموریت | M40: =SUM(D40:L40) -> 0
C41: آب | M41: =SUM(D41:L41) -> 0
C42: برق | M42: =SUM(D42:L42) -> 0
C43: گاز | M43: =SUM(D43:L43) -> 0
C44: تلفن | M44: =SUM(D44:L44) -> 0
C45: نفت سفید | M45: =SUM(D45:L45) -> 0
C46: گازوئیل | M46: =SUM(D46:L46) -> 0
C47: بنزین | M47: =SUM(D47:L47) -> 0
C48: هزینه سفر | M48: =SUM(D48:L48) -> 0
C49: قراردادها | M49: =SUM(D49:L49) -> 0
...

Sheet شبکه خمین
B3: فرم منابع | C3: درآمد اعلام شده واحد | D3: سهم مرکز | E3: بند واو تطبیق یافته(سیاستگزاری ستاد) | F3: 1.5 درصد اورژانس | G3: 2 درصد رفاهی | H3: 1 درصد پژوهش | J3: 5 درصد ستاد | K3: 3 درصد خارج از شمول | L3: 5 درصد تجهیزات
B4: درمان
B5: دارو
B8: فرم مصارف | C8: درآمد اعلام شده واحد | D8: سهم مرکز | E8: بند واو تطبیق یافته(سیاستگزاری ستاد) | F8: 1.5 درصد اورژانس | G8: 2 درصد رفاهی | H8: 1 درصد پژوهش | J8: 5 درصد ستاد | K8: 3 درصد خارج از شمول | L8: 5 درصد تجهیزات
B9: درمان
B10: دارو
B13: فرم مانده | C13: درآمد اعلام شده واحد | D13: سهم مرکز | E13: بند واو تطبیق یافته(سیاستگزاری ستاد) | F13: 1.5 درصد اورژانس | G13: 2 درصد رفاهی | H13: 1 درصد پژوهش | J13: 5 درصد ستاد | K13: 3 درصد خارج از شمول | L13: 5 درصد تجهیزات
B14: درمان
B15: دارو
C18: معاونت توسعه مدیریت و منابع
C19: فرم تخصیص درآمدهای اختصاصی (سهم مرکز و در اختیار ستاد) (ارقام به هزار ریال( ماه .................)
C20: 30303 - 30301 | D20: سهم مرکز | E20: (سیاستگزاری ستاد) | F20: 1.5 درصد اورژانس | G20: 2 درصد رفاهی | H20: 1 درصد پژوهش | I20: 1 درصد آموزش | J20: 5 درصد ستاد | K20: 3 درصد خارج از شمول | L20: 5 درصد تجهیزات | M20: جمع
C21: فصل اول
C22: حقوق و مزایای طرح لایحه | M22: =SUM(D22:L22) -> 0
C23: حقوق و مزایای تبصره 4 | M23: =SUM(D23:L23) -> 0
C24: حقوق و مزایای تبصره 3 | M24: =SUM(D24:L24) -> 0
C25: اضافه کار | M25: =SUM(D25:L25) -> 0
C26: محرومیت از مطب | M26: =SUM(D26:L26) -> 0
C27: طرح تمام وقتی و آنکال | M27: =SUM(D27:L27) -> 0
C28: حق مدیریت(خارج از شمول) | M28: =SUM(D28:L28) -> 0
C29: عیدی | M29: =SUM(D29:L29) -> 0
C30: حق مسکن | M30: =SUM(D30:L30) -> 0
C31: سنوات و مرخصی بازنشسته | M31: =SUM(D31:L31) -> 0
C32: سنوات و مرخصی تبصره 3-4 | M32: =SUM(D32:L32) -> 0
C33: مرخصی تبصره 4 | M33: =SUM(D33:L33) -> 0
... C35: سایر2 | M35: =SUM(D35:L35) -> 0
C36: جمع فصل اول | D36: =SUM(D21:D35) -> 0 | E36: =SUM(E21:E35) -> 0 | F36: =SUM(F21:F35) -> 0 | G36: =SUM(G21:G35) -> 0 | H36: =SUM(H21:H35) -> 0 | I36: =SUM(I21:I35) -> 0 | J36: =SUM(J21:J35) -> 0 | K36: =SUM(K21:K35) -> 0 | ... M36: =SUM(M21:M35) -> 0
C37: فصل دوم
C38: مبتنی بر عملکرد پزشکان | M38: =SUM(D38:L38) -> 0
C39: مبتنی بر عملکرد کارکنان | M39: =SUM(D39:L39) -> 0
C40: ماموریت | M40: =SUM(D40:L40) -> 0
C41: آب | M41: =SUM(D41:L41) -> 0
C42: برق | M42: =SUM(D42:L42) -> 0
C43: گاز | M43: =SUM(D43:L43) -> 0
C44: تلفن | M44: =SUM(D44:L44) -> 0
C45: نفت سفید | M45: =SUM(D45:L45) -> 0
C46: گازوئیل | M46: =SUM(D46:L46) -> 0
C47: بنزین | M47: =SUM(D47:L47) -> 0
C48: هزینه سفر | M48: =SUM(D48:L48) -> 0
C49: قراردادها | M49: =SUM(D49:L49) -> 0
...

Sheet شبکه دلیجان
B3: فرم منابع | C3: درآمد اعلام شده واحد | D3: سهم مرکز | E3: بند واو تطبیق یافته(سیاستگزاری ستاد) | F3: 1.5 درصد اورژانس | G3: 2 درصد رفاهی | H3: 1 درصد پژوهش | J3: 5 درصد ستاد | K3: 3 درصد خارج از شمول | L3: 5 درصد تجهیزات
B4: درمان
B5: دارو
B8: فرم مصارف | C8: درآمد اعلام شده واحد | D8: سهم مرکز | E8: بند واو تطبیق یافته(سیاستگزاری ستاد) | F8: 1.5 درصد اورژانس | G8: 2 درصد رفاهی | H8: 1 درصد پژوهش | J8: 5 درصد ستاد | K8: 3 درصد خارج از شمول | L8: 5 درصد تجهیزات
B9: درمان
B10: دارو
B13: فرم مانده | C13: درآمد اعلام شده واحد | D13: سهم مرکز | E13: بند واو تطبیق یافته(سیاستگزاری ستاد) | F13: 1.5 درصد اورژانس | G13: 2 درصد رفاهی | H13: 1 درصد پژوهش | J13: 5 درصد ستاد | K13: 3 درصد خارج از شمول | L13: 5 درصد تجهیزات
B14: درمان
B15: دارو
C18: معاونت توسعه مدیریت و منابع
C19: فرم تخصیص درآمدهای اختصاصی (سهم مرکز و در اختیار ستاد) (ارقام به هزار ریال( ماه .................)
C20: 30303 - 30301 | D20: سهم مرکز | E20: (سیاستگزاری ستاد) | F20: 1.5 درصد اورژانس | G20: 2 درصد رفاهی | H20: 1 درصد پژوهش | I20: 1 درصد آموزش | J20: 5 درصد ستاد | K20: 3 درصد خارج از شمول | L20: 5 درصد تجهیزات | M20: جمع
C21: فصل اول
C22: حقوق و مزایای طرح لایحه | M22: =SUM(D22:L22) -> 0
C23: حقوق و مزایای تبصره 4 | M23: =SUM(D23:L23) -> 0
C24: حقوق و مزایای تبصره 3 | M24: =SUM(D24:L24) -> 0
C25: اضافه کار | M25: =SUM(D25:L25) -> 0
C26: محرومیت از مطب | M26: =SUM(D26:L26) -> 0
C27: طرح تمام وقتی و آنکال | M27: =SUM(D27:L27) -> 0
C28: حق مدیریت(خارج از شمول) | M28: =SUM(D28:L28) -> 0
C29: عیدی | M29: =SUM(D29:L29) -> 0
C30: حق مسکن | M30: =SUM(D30:L30) -> 0
C31: سنوات و مرخصی بازنشسته | M31: =SUM(D31:L31) -> 0
C32: سنوات و مرخصی تبصره 3-4 | M32: =SUM(D32:L32) -> 0
C33: مرخصی تبصره 4 | M33: =SUM(D33:L33) -> 0
... C35: سایر2 | M35: =SUM(D35:L35) -> 0
C36: جمع فصل اول | D36: =SUM(D21:D35) -> 0 | E36: =SUM(E21:E35) -> 0 | F36: =SUM(F21:F35) -> 0 | G36: =SUM(G21:G35) -> 0 | H36: =SUM(H21:H35) -> 0 | I36: =SUM(I21:I35) -> 0 | J36: =SUM(J21:J35) -> 0 | K36: =SUM(K21:K35) -> 0 | ... M36: =SUM(M21:M35) -> 0
C37: فصل دوم
C38: مبتنی بر عملکرد پزشکان | M38: =SUM(D38:L38) -> 0
C39: مبتنی بر عملکرد کارکنان | M39: =SUM(D39:L39) -> 0
C40: ماموریت | M40: =SUM(D40:L40) -> 0
C41: آب | M41: =SUM(D41:L41) -> 0
C42: برق | M42: =SUM(D42:L42) -> 0
C43: گاز | M43: =SUM(D43:L43) -> 0
C44: تلفن | M44: =SUM(D44:L44) -> 0
C45: نفت سفید | M45: =SUM(D45:L45) -> 0
C46: گازوئیل | M46: =SUM(D46:L46) -> 0
C47: بنزین | M47: =SUM(D47:L47) -> 0
C48: هزینه سفر | M48: =SUM(D48:L48) -> 0
C49: قراردادها | M49: =SUM(D49:L49) -> 0
...

Sheet شبکه کمیجان
B3: فرم منابع | C3: درآمد اعلام شده واحد | D3: سهم مرکز | E3: بند واو تطبیق یافته(سیاستگزاری ستاد) | F3: 1.5 درصد اورژانس | G3: 2 درصد رفاهی | H3: 1 درصد پژوهش | J3: 5 درصد ستاد | K3: 3 درصد خارج از شمول | L3: 5 درصد تجهیزات
B4: درمان
B5: دارو
B8: فرم مصارف | C8: درآمد اعلام شده واحد | D8: سهم مرکز | E8: بند واو تطبیق یافته(سیاستگزاری ستاد) | F8: 1.5 درصد اورژانس | G8: 2 درصد رفاهی | H8: 1 درصد پژوهش | J8: 5 درصد ستاد | K8: 3 درصد خارج از شمول | L8: 5 درصد تجهیزات
B9: درمان
B10: دارو
B13: فرم مانده | C13: درآمد اعلام شده واحد | D13: سهم مرکز | E13: بند واو تطبیق یافته(سیاستگزاری ستاد) | F13: 1.5 درصد اورژانس | G13: 2 درصد رفاهی | H13: 1 درصد پژوهش | J13: 5 درصد ستاد | K13: 3 درصد خارج از شمول | L13: 5 درصد تجهیزات
B14: درمان
B15: دارو
C18: معاونت توسعه مدیریت و منابع
C19: فرم تخصیص درآمدهای اختصاصی (سهم مرکز و در اختیار ستاد) (ارقام به هزار ریال( ماه .................)
C20: 30303 - 30301 | D20: سهم مرکز | E20: (سیاستگزاری ستاد) | F20: 1.5 درصد اورژانس | G20: 2 درصد رفاهی | H20: 1 درصد پژوهش | I20: 1 درصد آموزش | J20: 5 درصد ستاد | K20: 3 درصد خارج از شمول | L20: 5 درصد تجهیزات | M20: جمع
C21: فصل اول
C22: حقوق و مزایای طرح لایحه | M22: =SUM(D22:L22) -> 0
C23: حقوق و مزایای تبصره 4 | M23: =SUM(D23:L23) -> 0
C24: حقوق و مزایای تبصره 3 | M24: =SUM(D24:L24) -> 0
C25: اضافه کار | M25: =SUM(D25:L25) -> 0
C26: محرومیت از مطب | M26: =SUM(D26:L26) -> 0
C27: طرح تمام وقتی و آنکال | M27: =SUM(D27:L27) -> 0
C28: حق مدیریت(خارج از شمول) | M28: =SUM(D28:L28) -> 0
C29: عیدی | M29: =SUM(D29:L29) -> 0
C30: حق مسکن | M30: =SUM(D30:L30) -> 0
C31: سنوات و مرخصی بازنشسته | M31: =SUM(D31:L31) -> 0
C32: سنوات و مرخصی تبصره 3-4 | M32: =SUM(D32:L32) -> 0
